{"text_format":"1","workbook":"xlsx","n_sheets":4,"sheets":["TOTAL","Gened","Specialed ","Pension"],"not_rendered":{"charts":0,"images":0,"macros":1,"external_links":1,"defined_names":9,"comments":0,"pivot_tables":0},"unopened":[],"bounds":{"document_bytes":16777216,"sheet_cells":100000,"rows_first":2000,"rows_last":500,"rows_between":2000,"halvings":0,"cell_chars":16384,"cell_head_chars":4096},"cells_cut":0,"cells_raw":0,"read":"whole","date_system":"1900"}

{"sheet":"TOTAL","index":0,"n_rows":531,"n_cols":24,"rows_kept":531,"cut":false,"hidden":false,"merged":[[4,17,4,23],[5,17,6,19],[5,20,7,20],[5,21,6,23],[1,0,1,23],[2,0,2,23],[3,0,3,23],[5,13,7,13],[5,14,6,16],[4,0,6,2],[4,3,4,9],[4,10,4,16],[5,3,6,5],[5,6,7,6],[5,7,6,9],[5,10,6,12]]}
["MDE-School Finance",null,null,null,null,null,null,null,null,null,null,null,null,null,null,null,null,null,null,"2017-02-13",null,null,null,"2017-02-06"]
["General Education, Special Education and Pension Adjustment Revenue"]
["Governor's Recommendation"]
["Excluding  Voluntary Pre-Kindergarten Proposed Increase"]
["District",null,null,"FY 2018",null,null,null,null,null,null,"FY 2019",null,null,null,null,null,null,"Biennium"]
[null,null,null,"Total Revenue",null,null,"Adjusted ADM","Revenue/Adjusted ADM",null,null,"Total Revenue",null,null,"Adjusted ADM","Revenue/Adjusted ADM",null,null,"Total Revenue",null,null,"Adjusted ADM","Revenue/Adjusted ADM"]
[]
["DIST","TYPE","NAME","Current","Governor","Change",null,"Current ","Governor","Change","Current","Governor","Change",null,"Current ","Governor","Change","Current","Governor","Change",null,"Current ","Governor","Change"]
[null,null,"TOTAL",{"$f":"SUM(D10:D530)","v":9209755373},{"$f":"SUM(E10:E530)","v":9381928621},172173246,858281,{"$f":"D9/G9","v":10730.466330956879},{"$f":"E9/G9","v":10931.068753706537},{"$f":"I9-H9","v":200.60242274965822},{"$f":"SUM(K10:K530)","v":9385778461},{"$f":"SUM(L10:L530)","v":9714620589},{"$f":"SUM(M10:M530)","v":328842128},863356,{"$f":"K9/N9","v":10871.272639560042},{"$f":"L9/N9","v":11252.160857166684},{"$f":"P9-O9","v":380.88821760664177},{"$f":"SUM(R10:R530)","v":18595533834},{"$f":"SUM(S10:S530)","v":19096549210},501015374,1721641,{"$f":"R9/U9","v":10801.051923136125},{"$f":"S9/U9","v":11092.062288247085},{"$f":"T9/U9","v":291.0103639492786}]
[1,1,"AITKIN",{"$f":"Gened!D10+'Specialed '!D10+Pension!D10","v":10989355},{"$f":"Gened!E10+'Specialed '!E10+Pension!E10","v":11216649},{"$f":"E10-D10","v":227294},1147,{"$f":"D10/G10","v":9580.9546643417616},{"$f":"E10/G10","v":9779.1185701830855},{"$f":"I10-H10","v":198.16390584132387},{"$f":"Gened!K10+'Specialed '!K10+Pension!K10","v":10964588},{"$f":"Gened!L10+'Specialed '!L10+Pension!L10","v":11396545},{"$f":"L10-K10","v":431957},1143,{"$f":"K10/N10","v":9592.8153980752413},{"$f":"L10/N10","v":9970.7305336832887},{"$f":"P10-O10","v":377.91513560804742},{"$f":"D10+K10","v":21953943},{"$f":"E10+L10","v":22613194},659251,2290,{"$f":"R10/U10","v":9586.8746724890825},{"$f":"S10/U10","v":9874.7572052401738},{"$f":"T10/U10","v":287.88253275109173}]
[1.2,3,"MINNEAPOLIS",{"$f":"Gened!D11+'Specialed '!D11+Pension!D11","v":475413749},{"$f":"Gened!E11+'Specialed '!E11+Pension!E11","v":483992921},8579172,35791,{"$f":"D11/G11","v":13283.052974211394},{"$f":"E11/G11","v":13522.754910452348},{"$f":"I11-H11","v":239.70193624095373},{"$f":"Gened!K11+'Specialed '!K11+Pension!K11","v":489319786},{"$f":"Gened!L11+'Specialed '!L11+Pension!L11","v":505871994},{"$f":"L11-K11","v":16552208},36561,{"$f":"K11/N11","v":13383.654331117858},{"$f":"L11/N11","v":13836.382866989416},{"$f":"P11-O11","v":452.72853587155805},{"$f":"D11+K11","v":964733535},{"$f":"E11+L11","v":989864915},{"$f":"F11+M11","v":25131380},72352,{"$f":"R11/U11","v":13333.888973352499},{"$f":"S11/U11","v":13681.237768133569},{"$f":"T11/U11","v":347.3487947810703}]
[2,1,"HILL CITY",{"$f":"Gened!D12+'Specialed '!D12+Pension!D12","v":3417948},{"$f":"Gened!E12+'Specialed '!E12+Pension!E12","v":3478471},60523,257,13299.408560311284,13534.906614785992,235.49805447470862,{"$f":"Gened!K12+'Specialed '!K12+Pension!K12","v":3355345},{"$f":"Gened!L12+'Specialed '!L12+Pension!L12","v":3474532},119187,249,13475.281124497991,13953.943775100402,478.6626506024113,6773293,6953003,179710,506,13385.954545454546,13741.112648221344,355.15810276679844]
[4,1,"MCGREGOR",{"$f":"Gened!D13+'Specialed '!D13+Pension!D13","v":5289327},{"$f":"Gened!E13+'Specialed '!E13+Pension!E13","v":5405332},116006,457,11574.019693654267,11827.859956236323,253.84026258205631,{"$f":"Gened!K13+'Specialed '!K13+Pension!K13","v":5313082},{"$f":"Gened!L13+'Specialed '!L13+Pension!L13","v":5534267},221185,455,11677.103296703297,12163.224175824176,486.12087912087918,10602409,10939599,337191,912,11625.448464912281,11995.174342105263,369.72697368421052]
[6,3,"SOUTH ST. PAUL",{"$f":"Gened!D14+'Specialed '!D14+Pension!D14","v":37366037},{"$f":"Gened!E14+'Specialed '!E14+Pension!E14","v":38109817},743781,3641,10262.575391375996,10466.854435594616,204.27904421861967,{"$f":"Gened!K14+'Specialed '!K14+Pension!K14","v":37880240},{"$f":"Gened!L14+'Specialed '!L14+Pension!L14","v":39286957},1406717,3650,10378.147945205479,10763.549863013699,385.40191780821988,75246277,77396774,2150498,7291,10320.432999588535,10615.385269510356,294.95240707721848]
[11,1,"ANOKA-HENNEPIN",{"$f":"Gened!D15+'Specialed '!D15+Pension!D15","v":399603291},{"$f":"Gened!E15+'Specialed '!E15+Pension!E15","v":407067861},7464570,37429,10676.301557615752,10875.734350370034,199.43279275428176,{"$f":"Gened!K15+'Specialed '!K15+Pension!K15","v":405197726},{"$f":"Gened!L15+'Specialed '!L15+Pension!L15","v":419044711},13846985,37497,10806.137184308078,11175.419660239486,369.28247593140804,804801017,826112572,21311555,74926,10741.278287910738,11025.712996823533,284.43470891279395]
[12,1,"CENTENNIAL",{"$f":"Gened!D16+'Specialed '!D16+Pension!D16","v":65389537},{"$f":"Gened!E16+'Specialed '!E16+Pension!E16","v":66627463},1237926,6341,10312.180570887873,10507.406245071756,195.2256741838828,{"$f":"Gened!K16+'Specialed '!K16+Pension!K16","v":66142221},{"$f":"Gened!L16+'Specialed '!L16+Pension!L16","v":68457882},2315661,6340,10432.526971608833,10797.773186119874,365.24621451104031,131531758,135085345,3553587,12681,10372.349026102042,10652.57826669821,280.22924059616747]
[13,1,"COLUMBIA HEIGHTS",{"$f":"Gened!D17+'Specialed '!D17+Pension!D17","v":39559396},{"$f":"Gened!E17+'Specialed '!E17+Pension!E17","v":40345310},785915,3350,11808.774925373134,12043.376119402985,234.60119402985038,{"$f":"Gened!K17+'Specialed '!K17+Pension!K17","v":40494671},{"$f":"Gened!L17+'Specialed '!L17+Pension!L17","v":42012882},1518211,3409,11878.753593429157,12324.107362863009,445.35376943385199,80054067,82358192,2304126,6759,11844.069684864626,12184.967006953691,340.89747003994671]
[14,1,"FRIDLEY",{"$f":"Gened!D18+'Specialed '!D18+Pension!D18","v":35093895},{"$f":"Gened!E18+'Specialed '!E18+Pension!E18","v":35764200},670305,3068,11438.688070404172,11657.170795306389,218.48272490221643,{"$f":"Gened!K18+'Specialed '!K18+Pension!K18","v":35678849},{"$f":"Gened!L18+'Specialed '!L18+Pension!L18","v":36952987},1274138,3080,11584.041883116883,11997.723051948053,413.68116883117,70772744,72717187,1944443,6148,11511.506831489916,11827.779277813923,316.27244632400783]
[15,1,"ST. FRANCIS",{"$f":"Gened!D19+'Specialed '!D19+Pension!D19","v":44335035},{"$f":"Gened!E19+'Specialed '!E19+Pension!E19","v":45189136},854102,4344,10206.039364640885,10402.65561694291,196.6162523020248,{"$f":"Gened!K19+'Specialed '!K19+Pension!K19","v":43925479},{"$f":"Gened!L19+'Specialed '!L19+Pension!L19","v":45499517},1574038,4278,10267.760402057036,10635.698223468911,367.93782141187512,88260514,90688653,2428140,8622,10236.663651125029,10518.28496868476,281.62143354210161]
[16,1,"SPRING LAKE PARK",{"$f":"Gened!D20+'Specialed '!D20+Pension!D20","v":54824928},{"$f":"Gened!E20+'Specialed '!E20+Pension!E20","v":55951280},1126351,5745,9543.0684073107041,9739.1261966927759,196.05778938207186,{"$f":"Gened!K20+'Specialed '!K20+Pension!K20","v":55951095},{"$f":"Gened!L20+'Specialed '!L20+Pension!L20","v":58089596},2138501,5815,9621.8564058469474,9989.6123817712814,367.75597592433405,110776023,114040876,3264852,11560,9582.7009515570935,9865.1276816608988,282.4266435986159]
[22,1,"DETROIT LAKES",{"$f":"Gened!D21+'Specialed '!D21+Pension!D21","v":31218031},{"$f":"Gened!E21+'Specialed '!E21+Pension!E21","v":31786999},568968,3024,10323.42294973545,10511.573743386243,188.15079365079328,{"$f":"Gened!K21+'Specialed '!K21+Pension!K21","v":31706207},{"$f":"Gened!L21+'Specialed '!L21+Pension!L21","v":32810010},1103803,3044,10415.968134034165,10778.584099868594,362.61596583442952,62924238,64597009,1672771,6068,10369.848055372446,10645.518951878708,275.67089650626235]
[23,1,"FRAZEE",{"$f":"Gened!D22+'Specialed '!D22+Pension!D22","v":8985380},{"$f":"Gened!E22+'Specialed '!E22+Pension!E22","v":9153091},167710,885,10152.97175141243,10342.475706214689,189.50395480225961,{"$f":"Gened!K22+'Specialed '!K22+Pension!K22","v":8951139},{"$f":"Gened!L22+'Specialed '!L22+Pension!L22","v":9273824},322685,865,10348.137572254334,10721.183815028902,373.04624277456787,17936519,18426915,490395,1750,10249.439428571428,10529.665714285715,280.22571428571428]
[25,1,"PINE POINT",{"$f":"Gened!D23+'Specialed '!D23+Pension!D23","v":995350},{"$f":"Gened!E23+'Specialed '!E23+Pension!E23","v":1017991},22641,69,14425.36231884058,14753.492753623188,328.13043478260806,{"$f":"Gened!K23+'Specialed '!K23+Pension!K23","v":1013162},{"$f":"Gened!L23+'Specialed '!L23+Pension!L23","v":1054902},41740,70,14473.742857142857,15070.028571428571,596.28571428571377,2008512,2072893,64381,139,14449.726618705035,14912.899280575539,463.17266187050359]
[31,1,"BEMIDJI",{"$f":"Gened!D24+'Specialed '!D24+Pension!D24","v":56367914},{"$f":"Gened!E24+'Specialed '!E24+Pension!E24","v":57456826},1088912,5180,10881.83667953668,11092.051351351351,210.21467181467051,{"$f":"Gened!K24+'Specialed '!K24+Pension!K24","v":57165235},{"$f":"Gened!L24+'Specialed '!L24+Pension!L24","v":59223274},2058039,5196,11001.777328714395,11397.858737490376,396.08140877598089,113533149,116680100,3146951,10376,10941.899479568234,11245.190824980724,303.29134541249039]
[32,1,"BLACKDUCK",{"$f":"Gened!D25+'Specialed '!D25+Pension!D25","v":7660383},{"$f":"Gened!E25+'Specialed '!E25+Pension!E25","v":7798572},138190,636,12044.627358490567,12261.905660377359,217.27830188679218,{"$f":"Gened!K25+'Specialed '!K25+Pension!K25","v":7555800},{"$f":"Gened!L25+'Specialed '!L25+Pension!L25","v":7824056},268256,606,12468.316831683169,12910.983498349835,442.66666666666606,15216183,15622628,406446,1242,12251.355072463768,12578.605475040258,327.2512077294686]
[36,1,"KELLIHER",{"$f":"Gened!D26+'Specialed '!D26+Pension!D26","v":3828578},{"$f":"Gened!E26+'Specialed '!E26+Pension!E26","v":3908366},79789,285,13433.60701754386,13713.564912280703,279.95789473684272,{"$f":"Gened!K26+'Specialed '!K26+Pension!K26","v":3938494},{"$f":"Gened!L26+'Specialed '!L26+Pension!L26","v":4095379},156885,290,13581.013793103448,14121.996551724138,540.98275862069022,7767072,8003745,236674,575,13507.951304347825,13919.55652173913,411.60695652173911]
[38,1,"RED LAKE",{"$f":"Gened!D27+'Specialed '!D27+Pension!D27","v":21050040},{"$f":"Gened!E27+'Specialed '!E27+Pension!E27","v":21464850},414810,1611,13066.443202979515,13323.929236499069,257.48603351955353,{"$f":"Gened!K27+'Specialed '!K27+Pension!K27","v":21909360},{"$f":"Gened!L27+'Specialed '!L27+Pension!L27","v":22721498},812138,1664,13166.682692307691,13654.74639423077,488.06370192307804,42959400,44186348,1226948,3275,13117.374045801527,13492.014656488549,374.6406106870229]
[47,1,"SAUK RAPIDS",{"$f":"Gened!D28+'Specialed '!D28+Pension!D28","v":41517779},{"$f":"Gened!E28+'Specialed '!E28+Pension!E28","v":42292426},774647,4374,9491.9476451760402,9669.0502972107915,177.10265203475137,{"$f":"Gened!K28+'Specialed '!K28+Pension!K28","v":41861608},{"$f":"Gened!L28+'Specialed '!L28+Pension!L28","v":43361375},1499767,4375,9568.3675428571423,9911.1714285714279,342.80388571428557,83379387,85653801,2274414,8749,9530.1619613670136,9790.1246999657105,259.962738598697]
[51,1,"FOLEY",{"$f":"Gened!D29+'Specialed '!D29+Pension!D29","v":16621712},{"$f":"Gened!E29+'Specialed '!E29+Pension!E29","v":16945239},323527,1817,9147.8877270225639,9325.9433131535498,178.05558613098583,{"$f":"Gened!K29+'Specialed '!K29+Pension!K29","v":16438708},{"$f":"Gened!L29+'Specialed '!L29+Pension!L29","v":17056628},617920,1781,9230.0437956204387,9576.9949466591806,346.95115103874195,33060420,34001867,941447,3598,9188.5547526403552,9450.2131739855467,261.65842134519175]
[75,1,"ST. CLAIR",{"$f":"Gened!D30+'Specialed '!D30+Pension!D30","v":6206777},{"$f":"Gened!E30+'Specialed '!E30+Pension!E30","v":6316435},109659,670,9263.8462686567163,9427.5149253731342,163.6686567164179,{"$f":"Gened!K30+'Specialed '!K30+Pension!K30","v":6115897},{"$f":"Gened!L30+'Specialed '!L30+Pension!L30","v":6331864},215967,649,9423.5701078582442,9756.3389830508477,332.76887519260345,12322674,12648299,325626,1319,9342.4366944655048,9589.3093252463987,246.87338893100835]
[77,1,"MANKATO",{"$f":"Gened!D31+'Specialed '!D31+Pension!D31","v":84136723},{"$f":"Gened!E31+'Specialed '!E31+Pension!E31","v":85629165},1492442,8483,9918.2745490981961,10094.207827419545,175.93327832134855,{"$f":"Gened!K31+'Specialed '!K31+Pension!K31","v":84839437},{"$f":"Gened!L31+'Specialed '!L31+Pension!L31","v":87721240},2881803,8419,10077.139446490082,10419.436987765768,342.29754127568594,168976160,173350405,4374245,16902,9997.4062241154897,10256.206661933498,258.8004378180097]
[81,1,"COMFREY",{"$f":"Gened!D32+'Specialed '!D32+Pension!D32","v":1848770},{"$f":"Gened!E32+'Specialed '!E32+Pension!E32","v":1879383},30614,149,12407.852348993289,12613.308724832215,205.45637583892676,{"$f":"Gened!K32+'Specialed '!K32+Pension!K32","v":1849416},{"$f":"Gened!L32+'Specialed '!L32+Pension!L32","v":1908801},59385,149,12412.187919463087,12810.744966442953,398.55704697986585,3698186,3788184,89999,298,12410.020134228187,12712.026845637583,302.01006711409394]
[84,1,"SLEEPY EYE",{"$f":"Gened!D33+'Specialed '!D33+Pension!D33","v":5801154},{"$f":"Gened!E33+'Specialed '!E33+Pension!E33","v":5915192},114038,555,10452.529729729729,10658.003603603604,205.47387387387425,{"$f":"Gened!K33+'Specialed '!K33+Pension!K33","v":5743701},{"$f":"Gened!L33+'Specialed '!L33+Pension!L33","v":5958508},214807,540,10636.483333333334,11034.274074074074,397.79074074074015,11544855,11873700,328845,1095,10543.246575342466,10843.561643835616,300.3150684931507]
[85,1,"SPRINGFIELD",{"$f":"Gened!D34+'Specialed '!D34+Pension!D34","v":5322414},{"$f":"Gened!E34+'Specialed '!E34+Pension!E34","v":5425603},103190,545,9765.8972477064217,9955.2348623853213,189.33761467889963,{"$f":"Gened!K34+'Specialed '!K34+Pension!K34","v":5235771},{"$f":"Gened!L34+'Specialed '!L34+Pension!L34","v":5434452},198681,534,9804.8146067415728,10176.876404494382,372.06179775280907,10558185,10860055,301871,1079,9785.1575532900843,10064.925857275255,279.76923076923077]
[88,1,"NEW ULM",{"$f":"Gened!D35+'Specialed '!D35+Pension!D35","v":21537667},{"$f":"Gened!E35+'Specialed '!E35+Pension!E35","v":21933224},395557,2057,10470.426349052017,10662.724355858045,192.29800680602784,{"$f":"Gened!K35+'Specialed '!K35+Pension!K35","v":21765716},{"$f":"Gened!L35+'Specialed '!L35+Pension!L35","v":22507745},742029,2055,10591.589294403893,10952.673965936739,361.08467153284619,43303383,44440969,1137586,4112,10530.978356031128,10807.628647859921,276.6502918287938]
[91,1,"BARNUM",{"$f":"Gened!D36+'Specialed '!D36+Pension!D36","v":7553228},{"$f":"Gened!E36+'Specialed '!E36+Pension!E36","v":7691957},138728,753,10030.847277556441,10215.082337317397,184.23505976095657,{"$f":"Gened!K36+'Specialed '!K36+Pension!K36","v":7565518},{"$f":"Gened!L36+'Specialed '!L36+Pension!L36","v":7834749},269231,749,10100.825100133512,10460.27903871829,359.45393858477837,15118746,15526706,407959,1502,10065.743009320906,10337.354194407457,271.61051930758987]
[93,1,"CARLTON",{"$f":"Gened!D37+'Specialed '!D37+Pension!D37","v":4889213},{"$f":"Gened!E37+'Specialed '!E37+Pension!E37","v":4977040},87827,460,10628.723913043479,10819.652173913044,190.92826086956484,{"$f":"Gened!K37+'Specialed '!K37+Pension!K37","v":5224887},{"$f":"Gened!L37+'Specialed '!L37+Pension!L37","v":5391642},166755,452,11559.484513274336,11928.411504424779,368.92699115044343,10114100,10368682,254582,912,11090.021929824561,11369.168859649122,279.14692982456143]
[94,1,"CLOQUET",{"$f":"Gened!D38+'Specialed '!D38+Pension!D38","v":26668668},{"$f":"Gened!E38+'Specialed '!E38+Pension!E38","v":27203037},534369,2707,9851.7428888067971,10049.145548577761,197.40265977096351,{"$f":"Gened!K38+'Specialed '!K38+Pension!K38","v":27299933},{"$f":"Gened!L38+'Specialed '!L38+Pension!L38","v":28334441},1034508,2760,9891.2800724637673,10266.101811594202,374.82173913043516,53968601,55537478,1568877,5467,9871.703127858058,10158.675324675325,286.97219681726722]
[95,1,"CROMWELL",{"$f":"Gened!D39+'Specialed '!D39+Pension!D39","v":3566940},{"$f":"Gened!E39+'Specialed '!E39+Pension!E39","v":3634859},67919,310,11506.258064516129,11725.351612903225,219.09354838709623,{"$f":"Gened!K39+'Specialed '!K39+Pension!K39","v":3523671},{"$f":"Gened!L39+'Specialed '!L39+Pension!L39","v":3654172},130501,310,11366.68064516129,11787.651612903226,420.97096774193597,7090611,7289031,198420,620,11436.469354838709,11756.501612903226,320.03225806451616]
[97,1,"MOOSE LAKE",{"$f":"Gened!D40+'Specialed '!D40+Pension!D40","v":6315994},{"$f":"Gened!E40+'Specialed '!E40+Pension!E40","v":6437198},121204,665,9497.7353383458649,9679.9969924812031,182.26165413533818,{"$f":"Gened!K40+'Specialed '!K40+Pension!K40","v":6407997},{"$f":"Gened!L40+'Specialed '!L40+Pension!L40","v":6645570},237573,671,9549.921013412817,9903.9791356184796,354.05812220566258,12723991,13082768,358777,1336,9523.945359281437,9792.4910179640719,268.54565868263472]
[99,1,"ESKO",{"$f":"Gened!D41+'Specialed '!D41+Pension!D41","v":10465233},{"$f":"Gened!E41+'Specialed '!E41+Pension!E41","v":10671215},205981,1212,8634.6806930693074,8804.6328382838292,169.95214521452181,{"$f":"Gened!K41+'Specialed '!K41+Pension!K41","v":10540743},{"$f":"Gened!L41+'Specialed '!L41+Pension!L41","v":10938839},398096,1212,8696.9826732673264,9025.4447194719469,328.46204620462049,21005976,21610054,604077,2424,8665.8316831683169,8915.038778877888,249.20668316831683]
[100,1,"WRENSHALL",{"$f":"Gened!D42+'Specialed '!D42+Pension!D42","v":3390270},{"$f":"Gened!E42+'Specialed '!E42+Pension!E42","v":3455841},65571,341,9942.140762463343,10134.431085043989,192.29032258064581,{"$f":"Gened!K42+'Specialed '!K42+Pension!K42","v":3460414},{"$f":"Gened!L42+'Specialed '!L42+Pension!L42","v":3589916},129502,346,10001.196531791908,10375.479768786126,374.2832369942189,6850684,7045757,195073,687,9971.8835516739455,10255.832605531295,283.9490538573508]
[108,1,"NORWOOD",{"$f":"Gened!D43+'Specialed '!D43+Pension!D43","v":8312703},{"$f":"Gened!E43+'Specialed '!E43+Pension!E43","v":8498772},186069,948,8768.6740506329115,8964.9493670886077,196.27531645569616,{"$f":"Gened!K43+'Specialed '!K43+Pension!K43","v":8209003},{"$f":"Gened!L43+'Specialed '!L43+Pension!L43","v":8547899},338896,928,8845.908405172413,9211.0980603448279,365.18965517241486,16521706,17046671,524965,1876,8806.8795309168436,9086.7116204690828,279.83208955223881]
[110,1,"WACONIA",{"$f":"Gened!D44+'Specialed '!D44+Pension!D44","v":37154176},{"$f":"Gened!E44+'Specialed '!E44+Pension!E44","v":37903161},748985,4090,9084.1506112469433,9267.2765281173597,183.1259168704164,{"$f":"Gened!K44+'Specialed '!K44+Pension!K44","v":37114195},{"$f":"Gened!L44+'Specialed '!L44+Pension!L44","v":38500109},1385914,4035,9198.0656753407675,9541.5387856257748,343.47311028500735,74268371,76403270,2134899,8125,9140.7225846153851,9403.4793846153843,262.7568]
[111,1,"WATERTOWN-MAYER",{"$f":"Gened!D45+'Specialed '!D45+Pension!D45","v":15604861},{"$f":"Gened!E45+'Specialed '!E45+Pension!E45","v":15896983},292121,1676,9310.7762529832944,9485.0733890214797,174.29713603818527,{"$f":"Gened!K45+'Specialed '!K45+Pension!K45","v":15415074},{"$f":"Gened!L45+'Specialed '!L45+Pension!L45","v":15969284},554210,1627,9474.5384142593739,9815.1714812538412,340.6330669944673,31019935,31866267,846331,3303,9391.4426279140171,9647.6739327883733,256.23100211928551]
[112,1,"EASTERN CARVER CTY",{"$f":"Gened!D46+'Specialed '!D46+Pension!D46","v":99122245},{"$f":"Gened!E46+'Specialed '!E46+Pension!E46","v":100847198},1724953,9667,10253.671769938968,10432.109030723079,178.43726078411055,{"$f":"Gened!K46+'Specialed '!K46+Pension!K46","v":101340334},{"$f":"Gened!L46+'Specialed '!L46+Pension!L46","v":104717226},3376892,9836,10303.002643350956,10646.322285481903,343.31964213094761,200462579,205564424,5101845,19503,10278.55094088089,10540.14377275291,261.5928318720197]
[113,1,"WALKER-AKELEY",{"$f":"Gened!D47+'Specialed '!D47+Pension!D47","v":7770033},{"$f":"Gened!E47+'Specialed '!E47+Pension!E47","v":7917068},147034,716,10852.001396648046,11057.357541899441,205.35614525139499,{"$f":"Gened!K47+'Specialed '!K47+Pension!K47","v":7736044},{"$f":"Gened!L47+'Specialed '!L47+Pension!L47","v":8019414},283370,702,11020.005698005698,11423.666666666666,403.66096866096814,15506077,15936482,430404,1418,10935.17418899859,11238.703808180537,303.52891396332865]
[115,1,"CASS LAKE",{"$f":"Gened!D48+'Specialed '!D48+Pension!D48","v":14188362},{"$f":"Gened!E48+'Specialed '!E48+Pension!E48","v":14483425},295063,1086,13064.790055248619,13336.487108655618,271.69705340699875,{"$f":"Gened!K48+'Specialed '!K48+Pension!K48","v":14620577},{"$f":"Gened!L48+'Specialed '!L48+Pension!L48","v":15195718},575141,1125,12996.068444444445,13507.30488888889,511.23644444444471,28808939,29679143,870204,2211,13029.823156942561,13423.402532790593,393.57937584803256]
[116,1,"PILLAGER",{"$f":"Gened!D49+'Specialed '!D49+Pension!D49","v":10637777},{"$f":"Gened!E49+'Specialed '!E49+Pension!E49","v":10835428},197651,1072,9923.2994402985078,10107.675373134329,184.375932835821,{"$f":"Gened!K49+'Specialed '!K49+Pension!K49","v":11163947},{"$f":"Gened!L49+'Specialed '!L49+Pension!L49","v":11557283},393336,1121,9958.9179304192694,10309.797502230153,350.87957181088314,21801724,22392711,590987,2193,9941.5066119471048,10210.994528043775,269.4879160966712]
[118,1,"NORTHLAND",{"$f":"Gened!D50+'Specialed '!D50+Pension!D50","v":4558458},{"$f":"Gened!E50+'Specialed '!E50+Pension!E50","v":4638022},79565,326,13983,14227.061349693251,244.06134969325103,{"$f":"Gened!K50+'Specialed '!K50+Pension!K50","v":4631799},{"$f":"Gened!L50+'Specialed '!L50+Pension!L50","v":4784545},152746,328,14121.338414634147,14587.02743902439,465.6890243902435,9190257,9422567,232311,654,14052.380733944954,14407.594801223242,355.21559633027522]
[129,1,"MONTEVIDEO",{"$f":"Gened!D51+'Specialed '!D51+Pension!D51","v":14905923},{"$f":"Gened!E51+'Specialed '!E51+Pension!E51","v":15198486},292563,1454,10251.666437414031,10452.878954607979,201.21251719394786,{"$f":"Gened!K51+'Specialed '!K51+Pension!K51","v":14970466},{"$f":"Gened!L51+'Specialed '!L51+Pension!L51","v":15512253},541787,1445,10360.184083044982,10735.123183391004,374.93910034602231,29876389,30710739,834350,2899,10305.756812694033,10593.562952742324,287.80614004829249]
[138,1,"NORTH BRANCH",{"$f":"Gened!D52+'Specialed '!D52+Pension!D52","v":28788616},{"$f":"Gened!E52+'Specialed '!E52+Pension!E52","v":29365350},576734,2974,9680.0995292535299,9874.0248823133825,193.92535305985257,{"$f":"Gened!K52+'Specialed '!K52+Pension!K52","v":28983293},{"$f":"Gened!L52+'Specialed '!L52+Pension!L52","v":30029488},1046195,2982,9719.4141515761239,10070.250838363514,350.83668678739014,57771909,59394838,1622929,5956,9699.7832437877769,9972.2696440564141,272.48640026863666]
[139,1,"RUSH CITY",{"$f":"Gened!D53+'Specialed '!D53+Pension!D53","v":7961644},{"$f":"Gened!E53+'Specialed '!E53+Pension!E53","v":8140540},178896,870,9151.3149425287356,9356.9425287356316,205.62758620689601,{"$f":"Gened!K53+'Specialed '!K53+Pension!K53","v":8033017},{"$f":"Gened!L53+'Specialed '!L53+Pension!L53","v":8370560},337543,873,9201.6231386025192,9588.270332187858,386.64719358533875,15994661,16511100,516439,1743,9176.5123350545036,9472.8055077452664,296.29317269076307]
[146,1,"BARNESVILLE",{"$f":"Gened!D54+'Specialed '!D54+Pension!D54","v":8335673},{"$f":"Gened!E54+'Specialed '!E54+Pension!E54","v":8494252},158579,902,9241.3226164079824,9417.1308203991139,175.80820399113145,{"$f":"Gened!K54+'Specialed '!K54+Pension!K54","v":8306993},{"$f":"Gened!L54+'Specialed '!L54+Pension!L54","v":8612191},305198,891,9323.2244668911335,9665.7586980920314,342.53423120089792,16642666,17106443,463777,1793,9282.0223089793635,9540.6820970440604,258.65978806469604]
[150,1,"HAWLEY",{"$f":"Gened!D55+'Specialed '!D55+Pension!D55","v":7756796},{"$f":"Gened!E55+'Specialed '!E55+Pension!E55","v":7918322},161527,913,8495.9430449069005,8672.8608981380057,176.91785323110525,{"$f":"Gened!K55+'Specialed '!K55+Pension!K55","v":7901995},{"$f":"Gened!L55+'Specialed '!L55+Pension!L55","v":8217847},315852,921,8579.7991313789353,8922.7437567861016,342.94462540716631,15658791,16136169,477379,1834,8538.0539803707743,8798.3473282442756,260.29389312977099]
[152,1,"MOORHEAD",{"$f":"Gened!D56+'Specialed '!D56+Pension!D56","v":67402234},{"$f":"Gened!E56+'Specialed '!E56+Pension!E56","v":68754535},1352302,6391,10546.429979658895,10758.024565795649,211.59458613675451,{"$f":"Gened!K56+'Specialed '!K56+Pension!K56","v":70373144},{"$f":"Gened!L56+'Specialed '!L56+Pension!L56","v":72779553},2406409,6469,10878.519709383212,11250.510588962745,371.9908795795327,137775378,141534088,3758711,12860,10713.48195956454,11005.761119751167,292.27923794712285]
[160,70,"MINNESOTA STATE ACADEMIES",{"$f":"Gened!D57+'Specialed '!D57+Pension!D57","v":2740286},{"$f":"Gened!E57+'Specialed '!E57+Pension!E57","v":2760993},20707,0,{"$error":"#DIV/0!"},{"$error":"#DIV/0!"},{"$error":"#DIV/0!"},{"$f":"Gened!K57+'Specialed '!K57+Pension!K57","v":2802438},{"$f":"Gened!L57+'Specialed '!L57+Pension!L57","v":2843993},41555,0,{"$error":"#DIV/0!"},{"$error":"#DIV/0!"},{"$error":"#DIV/0!"},5542724,5604986,62262,0,{"$error":"#DIV/0!"},{"$error":"#DIV/0!"},{"$error":"#DIV/0!"}]
[160,90,"FARIBAULT TRANSFER",{"$f":"Gened!D58+'Specialed '!D58+Pension!D58","v":3080350},{"$f":"Gened!E58+'Specialed '!E58+Pension!E58","v":3092071},11721,0,{"$error":"#DIV/0!"},{"$error":"#DIV/0!"},{"$error":"#DIV/0!"},{"$f":"Gened!K58+'Specialed '!K58+Pension!K58","v":3142502},{"$f":"Gened!L58+'Specialed '!L58+Pension!L58","v":3166234},23732,0,{"$error":"#DIV/0!"},{"$error":"#DIV/0!"},{"$error":"#DIV/0!"},6222852,6258305,35453,0,{"$error":"#DIV/0!"},{"$error":"#DIV/0!"},{"$error":"#DIV/0!"}]
[162,1,"BAGLEY",{"$f":"Gened!D59+'Specialed '!D59+Pension!D59","v":10638987},{"$f":"Gened!E59+'Specialed '!E59+Pension!E59","v":10832880},193892,1004,10596.600597609562,10789.721115537848,193.12051792828606,{"$f":"Gened!K59+'Specialed '!K59+Pension!K59","v":10967999},{"$f":"Gened!L59+'Specialed '!L59+Pension!L59","v":11351518},383519,1035,10597.100483091788,10967.650241545894,370.54975845410627,21606986,22184398,577411,2039,10596.854340362923,10880.038254046101,283.18342324668953]
[166,1,"COOK COUNTY",{"$f":"Gened!D60+'Specialed '!D60+Pension!D60","v":5563582},{"$f":"Gened!E60+'Specialed '!E60+Pension!E60","v":5675669},112087,452,12308.809734513274,12556.78982300885,247.98008849557664,{"$f":"Gened!K60+'Specialed '!K60+Pension!K60","v":5424914},{"$f":"Gened!L60+'Specialed '!L60+Pension!L60","v":5633720},208806,431,12586.807424593968,13071.276102088166,484.46867749419835,10988496,11309389,320893,883,12444.502831257078,12807.915062287655,363.41223103057757]
[173,1,"MOUNTAIN LAKE",{"$f":"Gened!D61+'Specialed '!D61+Pension!D61","v":5633513},{"$f":"Gened!E61+'Specialed '!E61+Pension!E61","v":5728288},94775,478,11785.592050209205,11983.866108786611,198.27405857740632,{"$f":"Gened!K61+'Specialed '!K61+Pension!K61","v":5624748},{"$f":"Gened!L61+'Specialed '!L61+Pension!L61","v":5806972},182224,476,11816.697478991597,12199.521008403361,382.82352941176396,11258261,11535260,276999,954,11801.112159329141,12091.467505241089,290.35534591194971]
[177,1,"WINDOM",{"$f":"Gened!D62+'Specialed '!D62+Pension!D62","v":11366750},{"$f":"Gened!E62+'Specialed '!E62+Pension!E62","v":11567982},201232,1068,10643.024344569289,10831.443820224718,188.41947565542978,{"$f":"Gened!K62+'Specialed '!K62+Pension!K62","v":11547476},{"$f":"Gened!L62+'Specialed '!L62+Pension!L62","v":11939564},392088,1077,10721.8904363974,11085.946146703807,364.05571030640749,22914226,23507546,593320,2145,10682.622843822845,10959.228904428905,276.60606060606062]
[181,1,"BRAINERD",{"$f":"Gened!D63+'Specialed '!D63+Pension!D63","v":69283114},{"$f":"Gened!E63+'Specialed '!E63+Pension!E63","v":70608697},1325583,6541,10592.12872649442,10794.786271212353,202.65754471793298,{"$f":"Gened!K63+'Specialed '!K63+Pension!K63","v":70537006},{"$f":"Gened!L63+'Specialed '!L63+Pension!L63","v":73043055},2506049,6571,10734.592299497794,11115.972454725308,381.38015522751448,139820120,143651752,3831632,13112,10663.523489932886,10955.746796827334,292.22330689444783]
[182,1,"CROSBY",{"$f":"Gened!D64+'Specialed '!D64+Pension!D64","v":10549889},{"$f":"Gened!E64+'Specialed '!E64+Pension!E64","v":10763591},213702,1018,10363.348722986248,10573.2721021611,209.92337917485202,{"$f":"Gened!K64+'Specialed '!K64+Pension!K64","v":10466762},{"$f":"Gened!L64+'Specialed '!L64+Pension!L64","v":10864369},397607,997,10498.256770310933,10897.060180541625,398.80341023069195,21016651,21627960,611309,2015,10430.099751861042,10733.478908188587,303.3791563275434]
[186,1,"PEQUOT LAKES",{"$f":"Gened!D65+'Specialed '!D65+Pension!D65","v":15150427},{"$f":"Gened!E65+'Specialed '!E65+Pension!E65","v":15443943},293516,1660,9126.7632530120482,9303.5801204819272,176.81686746987907,{"$f":"Gened!K65+'Specialed '!K65+Pension!K65","v":15014425},{"$f":"Gened!L65+'Specialed '!L65+Pension!L65","v":15574710},560285,1631,9205.6560392397296,9549.1784181483745,343.5223789086449,30164852,31018653,853801,3291,9165.8620480097234,9425.2971741112124,259.43512610148889]
[191,1,"BURNSVILLE",{"$f":"Gened!D66+'Specialed '!D66+Pension!D66","v":103945519},{"$f":"Gened!E66+'Specialed '!E66+Pension!E66","v":105856588},1911070,8940,11627.015548098434,11840.781655480985,213.76610738255113,{"$f":"Gened!K66+'Specialed '!K66+Pension!K66","v":104443584},{"$f":"Gened!L66+'Specialed '!L66+Pension!L66","v":108040018},3596434,8902,11732.597618512695,12136.600539204674,404.00292069197894,208389103,213896606,5507504,17842,11679.694148638046,11988.37607891492,308.68198632440311]
[192,1,"FARMINGTON",{"$f":"Gened!D67+'Specialed '!D67+Pension!D67","v":63814374},{"$f":"Gened!E67+'Specialed '!E67+Pension!E67","v":65097190},1282815,6761,9438.5999112557311,9628.3375240349069,189.73761277917583,{"$f":"Gened!K67+'Specialed '!K67+Pension!K67","v":63973229},{"$f":"Gened!L67+'Specialed '!L67+Pension!L67","v":66313423},2340194,6688,9565.3751495215311,9915.2845394736851,349.90938995215402,127787603,131410613,3623009,13449,9501.6434679158301,9771.0322700572542,269.38872778645253]
[194,1,"LAKEVILLE",{"$f":"Gened!D68+'Specialed '!D68+Pension!D68","v":108267193},{"$f":"Gened!E68+'Specialed '!E68+Pension!E68","v":110277755},2010562,10515,10296.452020922492,10487.660960532572,191.20893961008005,{"$f":"Gened!K68+'Specialed '!K68+Pension!K68","v":106091404},{"$f":"Gened!L68+'Specialed '!L68+Pension!L68","v":109757931},3666527,10089,10515.551987312914,10878.970264644662,363.41827733174796,214358597,220035686,5677089,20604,10403.736992816928,10679.270335857114,275.53334304018637]
[195,1,"RANDOLPH",{"$f":"Gened!D69+'Specialed '!D69+Pension!D69","v":5838308},{"$f":"Gened!E69+'Specialed '!E69+Pension!E69","v":5951696},113389,676,8636.5502958579873,8804.2840236686388,167.73372781065154,{"$f":"Gened!K69+'Specialed '!K69+Pension!K69","v":5946739},{"$f":"Gened!L69+'Specialed '!L69+Pension!L69","v":6171959},225220,684,8694.0628654970769,9023.3318713450299,329.26900584795294,11785047,12123655,338609,1360,8665.4757352941178,8914.4522058823532,248.97720588235293]
[196,1,"ROSEMOUNT-APPLE",{"$f":"Gened!D70+'Specialed '!D70+Pension!D70","v":297173781},{"$f":"Gened!E70+'Specialed '!E70+Pension!E70","v":302797136},5623354,27776,10698.940848214286,10901.394585253456,202.45373703916994,{"$f":"Gened!K70+'Specialed '!K70+Pension!K70","v":302062469},{"$f":"Gened!L70+'Specialed '!L70+Pension!L70","v":312611954},10549485,27855,10844.102279662538,11222.830874169807,378.72859450726901,599236250,615409090,16172839,55631,10771.624633747371,11062.340960974996,290.71630925203573]
[197,1,"WEST ST. PAUL",{"$f":"Gened!D71+'Specialed '!D71+Pension!D71","v":55630395},{"$f":"Gened!E71+'Specialed '!E71+Pension!E71","v":56587603},957208,4893,11369.383813611281,11565.011853668506,195.62804005722501,{"$f":"Gened!K71+'Specialed '!K71+Pension!K71","v":59001714},{"$f":"Gened!L71+'Specialed '!L71+Pension!L71","v":60829255},1827541,4915,12004.417904374364,12376.247202441506,371.82929806714128,114632109,117416858,2784749,9808,11687.613070962479,11971.539355628058,283.92628466557915]
[199,1,"INVER GROVE",{"$f":"Gened!D72+'Specialed '!D72+Pension!D72","v":38512076},{"$f":"Gened!E72+'Specialed '!E72+Pension!E72","v":39283486},771410,3869,9954.0129232359777,10153.395192556216,199.38226932023827,{"$f":"Gened!K72+'Specialed '!K72+Pension!K72","v":38753058},{"$f":"Gened!L72+'Specialed '!L72+Pension!L72","v":40187954},1434896,3843,10084.064012490242,10457.44314337757,373.37913088732785,77265134,79471440,2206306,7712,10018.819242738589,10304.90663900415,286.08739626556019]
[200,1,"HASTINGS",{"$f":"Gened!D73+'Specialed '!D73+Pension!D73","v":45079800},{"$f":"Gened!E73+'Specialed '!E73+Pension!E73","v":45920078},840279,4343,10379.875661984803,10573.354363343311,193.47870135850826,{"$f":"Gened!K73+'Specialed '!K73+Pension!K73","v":45263778},{"$f":"Gened!L73+'Specialed '!L73+Pension!L73","v":46830085},1566307,4319,10480.152350081038,10842.807362815467,362.65501273442896,90343578,92750163,2406586,8662,10429.875086585083,10707.707573308704,277.83260217039947]
[203,1,"HAYFIELD",{"$f":"Gened!D74+'Specialed '!D74+Pension!D74","v":7078635},{"$f":"Gened!E74+'Specialed '!E74+Pension!E74","v":7205705},127069,689,10273.780841799709,10458.207547169812,184.42670537010235,{"$f":"Gened!K74+'Specialed '!K74+Pension!K74","v":7109983},{"$f":"Gened!L74+'Specialed '!L74+Pension!L74","v":7355526},245543,689,10319.278664731495,10675.654571843252,356.37590711175653,14188618,14561231,372612,1378,10296.529753265602,10566.931059506531,270.40058055152394]
[204,1,"KASSON-MANTORVIL",{"$f":"Gened!D75+'Specialed '!D75+Pension!D75","v":18170198},{"$f":"Gened!E75+'Specialed '!E75+Pension!E75","v":18525077},354879,2082,{"$f":"D75/G75","v":8727.280499519693},{"$f":"E75/G75","v":8897.731508165225},{"$f":"I75-H75","v":170.45100864553206},{"$f":"Gened!K75+'Specialed '!K75+Pension!K75","v":18376400},{"$f":"Gened!L75+'Specialed '!L75+Pension!L75","v":19067696},{"$f":"L75-K75","v":691296},2092,{"$f":"K75/N75","v":8784.1300191204591},{"$f":"L75/N75","v":9114.5774378585083},{"$f":"P75-O75","v":330.44741873804924},{"$f":"D75+K75","v":36546598},{"$f":"E75+L75","v":37592773},{"$f":"F75+M75","v":1046175},4174,{"$f":"R75/U75","v":8755.7733588883566},{"$f":"S75/U75","v":9006.4142309535218},{"$f":"T75/U75","v":250.6408720651653}]
[206,1,"ALEXANDRIA",{"$f":"Gened!D76+'Specialed '!D76+Pension!D76","v":40748185},{"$f":"Gened!E76+'Specialed '!E76+Pension!E76","v":41613396},865212,4128,9871.1688468992252,10080.764534883721,209.59568798449618,{"$f":"Gened!K76+'Specialed '!K76+Pension!K76","v":41436018},{"$f":"Gened!L76+'Specialed '!L76+Pension!L76","v":42968040},1532022,4161,9958.1874549387157,10326.373467916366,368.18601297765053,82184203,84581436,2397234,8289,9914.8513692845936,10204.057908070938,289.20665942815782]
[213,1,"OSAKIS",{"$f":"Gened!D77+'Specialed '!D77+Pension!D77","v":7526887},{"$f":"Gened!E77+'Specialed '!E77+Pension!E77","v":7670037},143151,813,9258.1635916359155,9434.2398523985248,176.07626076260931,{"$f":"Gened!K77+'Specialed '!K77+Pension!K77","v":7572686},{"$f":"Gened!L77+'Specialed '!L77+Pension!L77","v":7852582},279896,810,9348.9950617283957,9694.5456790123462,345.55061728395049,15099573,15522619,423047,1623,9303.4953789279116,9564.1521873074562,260.65742452248924]
[227,1,"CHATFIELD",{"$f":"Gened!D78+'Specialed '!D78+Pension!D78","v":8441968},{"$f":"Gened!E78+'Specialed '!E78+Pension!E78","v":8609518},167550,899,9390.3982202447169,9576.771968854282,186.37374860956515,{"$f":"Gened!K78+'Specialed '!K78+Pension!K78","v":8445203},{"$f":"Gened!L78+'Specialed '!L78+Pension!L78","v":8757818},312615,892,9467.7163677130047,9818.1816143497763,350.46524663677155,16887171,17367336,480165,1791,9428.9061976549419,9697.0050251256289,268.09882747068679]
[229,1,"LANESBORO",{"$f":"Gened!D79+'Specialed '!D79+Pension!D79","v":3031282},{"$f":"Gened!E79+'Specialed '!E79+Pension!E79","v":3088857},57575,305,9938.6295081967219,10127.4,188.77049180327776,{"$f":"Gened!K79+'Specialed '!K79+Pension!K79","v":2932395},{"$f":"Gened!L79+'Specialed '!L79+Pension!L79","v":3041352},108957,295,9940.3220338983047,10309.667796610169,369.34576271186415,5963677,6130209,166532,600,9939.4616666666661,10217.014999999999,277.55333333333334]
[238,1,"MABEL-CANTON",{"$f":"Gened!D80+'Specialed '!D80+Pension!D80","v":2686459},{"$f":"Gened!E80+'Specialed '!E80+Pension!E80","v":2736183},49724,246,10920.565040650406,11122.695121951219,202.13008130081289,{"$f":"Gened!K80+'Specialed '!K80+Pension!K80","v":2671090},{"$f":"Gened!L80+'Specialed '!L80+Pension!L80","v":2763856},92766,244,10947.090163934427,11327.27868852459,380.18852459016307,5357549,5500039,142490,490,10933.773469387756,11224.569387755102,290.79591836734693]
[239,1,"RUSHFORD-PETERSO",{"$f":"Gened!D81+'Specialed '!D81+Pension!D81","v":6543330},{"$f":"Gened!E81+'Specialed '!E81+Pension!E81","v":6670111},126781,637,10272.10361067504,10471.131868131868,199.02825745682821,{"$f":"Gened!K81+'Specialed '!K81+Pension!K81","v":6445031},{"$f":"Gened!L81+'Specialed '!L81+Pension!L81","v":6677648},232617,625,10312.0496,10684.236800000001,372.1872000000003,12988361,13347759,359398,1262,10291.886687797147,10576.671156893819,284.78446909667196]
[241,1,"ALBERT LEA",{"$f":"Gened!D82+'Specialed '!D82+Pension!D82","v":40043696},{"$f":"Gened!E82+'Specialed '!E82+Pension!E82","v":40771032},727336,3427,11684.766851473592,11897.003793405311,212.23694193171832,{"$f":"Gened!K82+'Specialed '!K82+Pension!K82","v":40735204},{"$f":"Gened!L82+'Specialed '!L82+Pension!L82","v":42110689},1375485,3437,11851.965085830667,12252.16438754728,400.19930171661326,80778900,82881721,2102821,6864,11768.487762237763,12074.842803030304,306.35504079254082]
[242,1,"ALDEN",{"$f":"Gened!D83+'Specialed '!D83+Pension!D83","v":4989613},{"$f":"Gened!E83+'Specialed '!E83+Pension!E83","v":5084207},94593,492,10141.489837398374,10333.75406504065,192.26422764227573,{"$f":"Gened!K83+'Specialed '!K83+Pension!K83","v":5024275},{"$f":"Gened!L83+'Specialed '!L83+Pension!L83","v":5204120},179845,492,10211.941056910569,10577.479674796748,365.53861788617905,10013888,10288327,274438,984,10176.715447154471,10455.616869918698,278.90040650406502]
[252,1,"CANNON FALLS",{"$f":"Gened!D84+'Specialed '!D84+Pension!D84","v":10705955},{"$f":"Gened!E84+'Specialed '!E84+Pension!E84","v":10906472},200517,1129,9482.6882196634197,9660.2940655447292,177.60584588130951,{"$f":"Gened!K84+'Specialed '!K84+Pension!K84","v":10619119},{"$f":"Gened!L84+'Specialed '!L84+Pension!L84","v":11002021},382902,1112,9549.5674460431655,9893.9037769784172,344.33633093525168,21325074,21908493,583419,2241,9515.8741633199461,9776.2128514056221,260.33868808567604]
[253,1,"GOODHUE",{"$f":"Gened!D85+'Specialed '!D85+Pension!D85","v":5598644},{"$f":"Gened!E85+'Specialed '!E85+Pension!E85","v":5711191},112548,636,8802.899371069183,8979.8600628930817,176.96069182389874,{"$f":"Gened!K85+'Specialed '!K85+Pension!K85","v":5598113},{"$f":"Gened!L85+'Specialed '!L85+Pension!L85","v":5814728},216615,635,8815.9259842519677,9157.0519685039362,341.12598425196848,11196757,11525919,329163,1271,8809.4075531077888,9068.3863099921327,258.97954366640442]
[255,1,"PINE ISLAND",{"$f":"Gened!D86+'Specialed '!D86+Pension!D86","v":11125136},{"$f":"Gened!E86+'Specialed '!E86+Pension!E86","v":11344226},219090,1280,8691.5125000000007,8862.6765625000007,171.1640625,{"$f":"Gened!K86+'Specialed '!K86+Pension!K86","v":11219277},{"$f":"Gened!L86+'Specialed '!L86+Pension!L86","v":11644867},425590,1288,8710.6187888198765,9041.0458074534163,330.42701863353977,22344413,22989093,644680,2568,8701.095404984424,8952.1390186915887,251.04361370716512]
[256,1,"RED WING",{"$f":"Gened!D87+'Specialed '!D87+Pension!D87","v":27713474},{"$f":"Gened!E87+'Specialed '!E87+Pension!E87","v":28238141},524667,2660,10418.599248120301,10615.842481203008,197.24323308270687,{"$f":"Gened!K87+'Specialed '!K87+Pension!K87","v":27718406},{"$f":"Gened!L87+'Specialed '!L87+Pension!L87","v":28699967},981561,2623,10567.444147922226,10941.657262676325,374.21311475409857,55431880,56938108,1506228,5283,10492.500473215976,10777.608934317623,285.10846110164681]
[261,1,"ASHBY",{"$f":"Gened!D88+'Specialed '!D88+Pension!D88","v":2815266},{"$f":"Gened!E88+'Specialed '!E88+Pension!E88","v":2863790},48525,274,10274.693430656935,10451.788321167884,177.09489051094897,{"$f":"Gened!K88+'Specialed '!K88+Pension!K88","v":2907335},{"$f":"Gened!L88+'Specialed '!L88+Pension!L88","v":3004726},97391,283,10273.26855123675,10617.406360424029,344.13780918727934,5722601,5868516,145916,557,10273.96947935368,10535.935368043089,261.96768402154396]
[264,1,"HERMAN-NORCROSS",{"$f":"Gened!D89+'Specialed '!D89+Pension!D89","v":1775135},{"$f":"Gened!E89+'Specialed '!E89+Pension!E89","v":1803231},28095,118,15043.516949152543,15281.618644067798,238.10169491525448,{"$f":"Gened!K89+'Specialed '!K89+Pension!K89","v":1765780},{"$f":"Gened!L89+'Specialed '!L89+Pension!L89","v":1820450},54670,116,15222.241379310344,15693.534482758621,471.29310344827718,3540915,3623681,82765,234,15132.115384615385,15485.81623931624,353.69658119658118]
[270,1,"HOPKINS",{"$f":"Gened!D90+'Specialed '!D90+Pension!D90","v":81184899},{"$f":"Gened!E90+'Specialed '!E90+Pension!E90","v":82601985},1417086,6970,11647.761692969871,11851.073888091822,203.31219512195094,{"$f":"Gened!K90+'Specialed '!K90+Pension!K90","v":82451028},{"$f":"Gened!L90+'Specialed '!L90+Pension!L90","v":85115186},2664158,6987,11800.633748389866,12181.935880921712,381.30213253184593,163635927,167717171,4081244,13957,11724.290821809844,12016.706383893386,292.41556208354228]
[271,1,"BLOOMINGTON",{"$f":"Gened!D91+'Specialed '!D91+Pension!D91","v":122262026},{"$f":"Gened!E91+'Specialed '!E91+Pension!E91","v":124470824},2208797,10604,11529.802527348171,11738.10109392682,208.29856657864912,{"$f":"Gened!K91+'Specialed '!K91+Pension!K91","v":122675684},{"$f":"Gened!L91+'Specialed '!L91+Pension!L91","v":126808042},4132358,10459,11729.19820250502,12124.298881346209,395.10067884118871,244937710,251278866,6341155,21063,11628.814034088211,11929.870673693205,301.05659212837679]
[272,1,"EDEN PRAIRIE",{"$f":"Gened!D92+'Specialed '!D92+Pension!D92","v":94503090},{"$f":"Gened!E92+'Specialed '!E92+Pension!E92","v":96108498},1605408,8602,10986.176470588236,11172.808416647291,186.63194605905483,{"$f":"Gened!K92+'Specialed '!K92+Pension!K92","v":93404049},{"$f":"Gened!L92+'Specialed '!L92+Pension!L92","v":96427783},3023734,8455,11047.1968066233,11404.823536369013,357.62672974571251,187907139,192536281,4629142,17057,11016.423697015887,11287.816204490824,271.39250747493696]
[273,1,"EDINA",{"$f":"Gened!D93+'Specialed '!D93+Pension!D93","v":88498986},{"$f":"Gened!E93+'Specialed '!E93+Pension!E93","v":90132139},1633153,8548,10353.180393074403,10544.237131492748,191.05673841834505,{"$f":"Gened!K93+'Specialed '!K93+Pension!K93","v":89601604},{"$f":"Gened!L93+'Specialed '!L93+Pension!L93","v":92640533},3038929,8559,10468.700081785255,10823.756630447482,355.05654866222721,178100590,182772672,4672082,17107,10410.977377681651,10684.086748114807,273.10937043315602]
[276,1,"MINNETONKA",{"$f":"Gened!D94+'Specialed '!D94+Pension!D94","v":109441302},{"$f":"Gened!E94+'Specialed '!E94+Pension!E94","v":111239999},1798697,10550,10373.583127962085,10544.075734597156,170.49260663507084,{"$f":"Gened!K94+'Specialed '!K94+Pension!K94","v":111298609},{"$f":"Gened!L94+'Specialed '!L94+Pension!L94","v":114831150},3532541,10652,10448.611434472399,10780.243146826888,331.63171235448863,220739911,226071149,5331238,21202,10411.277756815394,10662.727525705122,251.44976888972738]
[277,1,"WESTONKA",{"$f":"Gened!D95+'Specialed '!D95+Pension!D95","v":23563977},{"$f":"Gened!E95+'Specialed '!E95+Pension!E95","v":24002591},438614,2298,10254.124020887728,10444.991731940818,190.86771105308981,{"$f":"Gened!K95+'Specialed '!K95+Pension!K95","v":23828068},{"$f":"Gened!L95+'Specialed '!L95+Pension!L95","v":24651880},823812,2296,10378.078397212543,10736.881533101045,358.80313588850186,47392045,48654471,1262426,4594,10316.074227252939,10590.873095341751,274.7988680888115]
[278,1,"ORONO",{"$f":"Gened!D96+'Specialed '!D96+Pension!D96","v":30110703},{"$f":"Gened!E96+'Specialed '!E96+Pension!E96","v":30605929},495226,2810,10715.552669039145,10891.789679715303,176.2370106761573,{"$f":"Gened!K96+'Specialed '!K96+Pension!K96","v":30454770},{"$f":"Gened!L96+'Specialed '!L96+Pension!L96","v":31412511},957741,2814,10822.590618336886,11162.939232409382,340.34861407249628,60565473,62018440,1452967,5624,10769.109708392603,11027.460881934567,258.35117354196302]
[279,1,"OSSEO",{"$f":"Gened!D97+'Specialed '!D97+Pension!D97","v":237928776},{"$f":"Gened!E97+'Specialed '!E97+Pension!E97","v":242232691},4303915,20654,11519.743197443595,11728.124866853877,208.38166941028248,{"$f":"Gened!K97+'Specialed '!K97+Pension!K97","v":242245599},{"$f":"Gened!L97+'Specialed '!L97+Pension!L97","v":250399986},8154387,20751,11673.924100043372,12066.88766806419,392.96356802081755,480174375,492632677,12458302,41405,11597.014249486778,11897.903079338244,300.88882985146722]
[280,1,"RICHFIELD",{"$f":"Gened!D98+'Specialed '!D98+Pension!D98","v":48433665},{"$f":"Gened!E98+'Specialed '!E98+Pension!E98","v":49381360},947696,4183,11578.691130767393,11805.249820702846,226.558689935453,{"$f":"Gened!K98+'Specialed '!K98+Pension!K98","v":47285836},{"$f":"Gened!L98+'Specialed '!L98+Pension!L98","v":49038237},1752401,4003,11812.599550337247,12250.371471396453,437.77192105920585,95719501,98419597,2700097,8186,11693.073662350354,12022.916809186416,329.84326899584659]
[281,1,"ROBBINSDALE",{"$f":"Gened!D99+'Specialed '!D99+Pension!D99","v":146486557},{"$f":"Gened!E99+'Specialed '!E99+Pension!E99","v":149250711},2764155,12927,11331.829272066218,11545.657229055465,213.82795698924747,{"$f":"Gened!K99+'Specialed '!K99+Pension!K99","v":149966469},{"$f":"Gened!L99+'Specialed '!L99+Pension!L99","v":155266175},5299706,13162,11393.896748214556,11796.548776781645,402.65202856708856,296453026,304516886,8063861,26089,11363.142550500212,11672.232971750545,309.09045958066616]
[282,1,"ST. ANTHONY-NEW",{"$f":"Gened!D100+'Specialed '!D100+Pension!D100","v":17693973},{"$f":"Gened!E100+'Specialed '!E100+Pension!E100","v":18034958},340984,1778,9951.6158605174351,10143.395950506187,191.78008998875157,{"$f":"Gened!K100+'Specialed '!K100+Pension!K100","v":17782183},{"$f":"Gened!L100+'Specialed '!L100+Pension!L100","v":18417959},635776,1776,10012.490427927927,10370.472409909909,357.98198198198224,35476156,36452917,976760,3554,9982.0360157568939,10256.870287000564,274.83398987056836]
[283,1,"ST. LOUIS PARK",{"$f":"Gened!D101+'Specialed '!D101+Pension!D101","v":52287494},{"$f":"Gened!E101+'Specialed '!E101+Pension!E101","v":53171814},884320,4641,11266.428355957767,11456.973497091145,190.54514113337791,{"$f":"Gened!K101+'Specialed '!K101+Pension!K101","v":52721923},{"$f":"Gened!L101+'Specialed '!L101+Pension!L101","v":54412862},1690939,4611,11433.945564953372,11800.664064194318,366.71849924094568,105009417,107584676,2575259,9252,11349.915369649805,11628.261565067012,278.34619541720707]
[284,1,"WAYZATA",{"$f":"Gened!D102+'Specialed '!D102+Pension!D102","v":118442629},{"$f":"Gened!E102+'Specialed '!E102+Pension!E102","v":120576225},2133596,11692,10130.228275744099,10312.711683202189,182.48340745809037,{"$f":"Gened!K102+'Specialed '!K102+Pension!K102","v":122009444},{"$f":"Gened!L102+'Specialed '!L102+Pension!L102","v":126108486},4099042,11920,10235.691610738255,10579.570973154363,343.87936241610805,240452073,246684711,6232638,23612,10183.469125868203,10447.429739115703,263.96061324750127]
[286,1,"BROOKLYN CENTER",{"$f":"Gened!D103+'Specialed '!D103+Pension!D103","v":26668286},{"$f":"Gened!E103+'Specialed '!E103+Pension!E103","v":27225458},557173,2405,11088.684407484407,11320.356756756757,231.6723492723504,{"$f":"Gened!K103+'Specialed '!K103+Pension!K103","v":26854225},{"$f":"Gened!L103+'Specialed '!L103+Pension!L103","v":27913669},1059444,2405,11165.997920997921,11606.515176715176,440.51725571725547,53522511,55139127,1616617,4810,11127.341164241165,11463.435966735966,336.09501039501038]
[294,1,"HOUSTON",{"$f":"Gened!D104+'Specialed '!D104+Pension!D104","v":19321863},{"$f":"Gened!E104+'Specialed '!E104+Pension!E104","v":19669255},347393,2024,9546.375,9718.011363636364,171.63636363636397,{"$f":"Gened!K104+'Specialed '!K104+Pension!K104","v":19384139},{"$f":"Gened!L104+'Specialed '!L104+Pension!L104","v":20070458},686319,2025,9572.4143209876547,9911.3372839506173,338.92296296296263,38706002,39739713,1033712,4049,9559.3978760187692,9814.6981970856996,255.30056804149172]
[297,1,"SPRING GROVE",{"$f":"Gened!D105+'Specialed '!D105+Pension!D105","v":3672137},{"$f":"Gened!E105+'Specialed '!E105+Pension!E105","v":3737412},65276,348,10552.117816091954,10739.689655172413,187.57183908045954,{"$f":"Gened!K105+'Specialed '!K105+Pension!K105","v":3666312},{"$f":"Gened!L105+'Specialed '!L105+Pension!L105","v":3790674},124362,346,10596.277456647398,10955.70520231214,359.42774566474145,7338449,7528086,189638,694,10574.134005763688,10847.386167146975,273.25360230547551]
[299,1,"CALEDONIA",{"$f":"Gened!D106+'Specialed '!D106+Pension!D106","v":6642435},{"$f":"Gened!E106+'Specialed '!E106+Pension!E106","v":6782265},139830,685,9696.9854014598532,9901.1167883211674,204.13138686131424,{"$f":"Gened!K106+'Specialed '!K106+Pension!K106","v":6760986},{"$f":"Gened!L106+'Specialed '!L106+Pension!L106","v":7021306},260320,691,9784.3502170767006,10161.079594790159,376.72937771345823,13403421,13803571,400150,1376,9740.8582848837214,10031.664970930233,290.80668604651163]
[300,1,"LACRESCENT",{"$f":"Gened!D107+'Specialed '!D107+Pension!D107","v":11291239},{"$f":"Gened!E107+'Specialed '!E107+Pension!E107","v":11506543},215304,1110,10172.287387387387,10366.254954954955,193.96756756756804,{"$f":"Gened!K107+'Specialed '!K107+Pension!K107","v":11117694},{"$f":"Gened!L107+'Specialed '!L107+Pension!L107","v":11511871},394177,1071,10380.666666666666,10748.712418300654,368.0457516339884,22408933,23018414,609481,2181,10274.613938560293,10554.064190738194,279.45025217790004]
[306,1,"LAPORTE",{"$f":"Gened!D108+'Specialed '!D108+Pension!D108","v":3445465},{"$f":"Gened!E108+'Specialed '!E108+Pension!E108","v":3506721},61256,310,11114.403225806451,11312.003225806451,197.60000000000036,{"$f":"Gened!K108+'Specialed '!K108+Pension!K108","v":3519635},{"$f":"Gened!L108+'Specialed '!L108+Pension!L108","v":3642316},122681,313,11244.840255591054,11636.792332268371,391.95207667731665,6965100,7149037,183937,623,11179.935794542536,11475.1797752809,295.24398073836278]
[308,1,"NEVIS",{"$f":"Gened!D109+'Specialed '!D109+Pension!D109","v":6278141},{"$f":"Gened!E109+'Specialed '!E109+Pension!E109","v":6397908},119766,625,10045.025600000001,10236.6528,191.62719999999899,{"$f":"Gened!K109+'Specialed '!K109+Pension!K109","v":6228813},{"$f":"Gened!L109+'Specialed '!L109+Pension!L109","v":6460192},231379,616,10111.709415584415,10487.324675324675,375.61525974025972,12506954,12858100,351145,1241,10078.125705076551,10361.079774375503,282.95326349717971]
[309,1,"PARK RAPIDS",{"$f":"Gened!D110+'Specialed '!D110+Pension!D110","v":15603868},{"$f":"Gened!E110+'Specialed '!E110+Pension!E110","v":15930844},326976,1577,9894.6531388712738,10101.99365884591,207.34051997463575,{"$f":"Gened!K110+'Specialed '!K110+Pension!K110","v":15814372},{"$f":"Gened!L110+'Specialed '!L110+Pension!L110","v":16434165},619793,1582,9996.4424778761058,10388.220606826802,391.77812895069655,31418240,32365009,946769,3159,9945.6283634061419,10245.333649889206,299.70528648306424]
[314,1,"BRAHAM",{"$f":"Gened!D111+'Specialed '!D111+Pension!D111","v":7002824},{"$f":"Gened!E111+'Specialed '!E111+Pension!E111","v":7163157},160333,764,9166,9375.8599476439795,209.85994764397947,{"$f":"Gened!K111+'Specialed '!K111+Pension!K111","v":6995715},{"$f":"Gened!L111+'Specialed '!L111+Pension!L111","v":7294419},298704,764,9156.6950261780112,9547.6688481675392,390.97382198952801,13998539,14457576,459037,1528,9161.3475130890056,9461.7643979057593,300.41688481675391]
[316,1,"GREENWAY",{"$f":"Gened!D112+'Specialed '!D112+Pension!D112","v":11782017},{"$f":"Gened!E112+'Specialed '!E112+Pension!E112","v":12000170},218153,1049,11231.665395614871,11439.628217349857,207.96282173498548,{"$f":"Gened!K112+'Specialed '!K112+Pension!K112","v":11918993},{"$f":"Gened!L112+'Specialed '!L112+Pension!L112","v":12330485},411492,1048,11373.084923664122,11765.729961832061,392.64503816793876,23701010,24330655,629645,2097,11302.341440152599,11602.601335240821,300.25989508822124]
[317,1,"DEER RIVER",{"$f":"Gened!D113+'Specialed '!D113+Pension!D113","v":10879419},{"$f":"Gened!E113+'Specialed '!E113+Pension!E113","v":11080305},200887,931,11685.734693877552,11901.509129967777,215.77443609022521,{"$f":"Gened!K113+'Specialed '!K113+Pension!K113","v":10946002},{"$f":"Gened!L113+'Specialed '!L113+Pension!L113","v":11330334},384332,922,11872.019522776573,12288.865509761388,416.84598698481568,21825421,22410639,585219,1853,11778.424716675661,12094.246627091203,315.82245008094981]
[318,1,"GRAND RAPIDS",{"$f":"Gened!D114+'Specialed '!D114+Pension!D114","v":39996983},{"$f":"Gened!E114+'Specialed '!E114+Pension!E114","v":40797397},800413,3981,10046.968852047225,10248.027380055262,201.05852800803768,{"$f":"Gened!K114+'Specialed '!K114+Pension!K114","v":40501316},{"$f":"Gened!L114+'Specialed '!L114+Pension!L114","v":42024735},1523419,4011,10097.560708052855,10477.370979805535,379.81027175267991,80498299,82822132,2323832,7992,10072.359734734735,10363.12962962963,290.76976976976977]
[319,1,"NASHWAUK-KEEWATI",{"$f":"Gened!D115+'Specialed '!D115+Pension!D115","v":6433315},{"$f":"Gened!E115+'Specialed '!E115+Pension!E115","v":6549940},116626,553,11633.481012658227,11844.376130198914,210.89511754068735,{"$f":"Gened!K115+'Specialed '!K115+Pension!K115","v":6357915},{"$f":"Gened!L115+'Specialed '!L115+Pension!L115","v":6582254},224339,539,11795.760667903525,12211.974025974027,416.21335807050127,12791230,13132194,340965,1092,11713.580586080587,12025.818681318682,312.23901098901098]
[323,2,"FRANCONIA",{"$f":"Gened!D116+'Specialed '!D116+Pension!D116","v":258753},{"$f":"Gened!E116+'Specialed '!E116+Pension!E116","v":263486},4733,30,8625.1,8782.8666666666668,157.76666666666642,{"$f":"Gened!K116+'Specialed '!K116+Pension!K116","v":215722},{"$f":"Gened!L116+'Specialed '!L116+Pension!L116","v":223342},7620,24,8988.4166666666661,9305.9166666666661,317.5,474475,486828,12353,54,8786.5740740740748,9015.3333333333339,228.75925925925927]
[330,1,"HERON LAKE-OKABE",{"$f":"Gened!D117+'Specialed '!D117+Pension!D117","v":3188160},{"$f":"Gened!E117+'Specialed '!E117+Pension!E117","v":3241971},53810,248,12855.483870967742,13072.463709677419,216.97983870967619,{"$f":"Gened!K117+'Specialed '!K117+Pension!K117","v":3150338},{"$f":"Gened!L117+'Specialed '!L117+Pension!L117","v":3249954},99616,243,12964.35390946502,13374.296296296296,409.94238683127514,6338498,6491925,153426,491,12909.364562118126,13221.84317718941,312.47657841140528]
[332,1,"MORA",{"$f":"Gened!D118+'Specialed '!D118+Pension!D118","v":15391005},{"$f":"Gened!E118+'Specialed '!E118+Pension!E118","v":15722817},331812,1600,9619.3781249999993,9826.7606250000008,207.38250000000153,{"$f":"Gened!K118+'Specialed '!K118+Pension!K118","v":15242600},{"$f":"Gened!L118+'Specialed '!L118+Pension!L118","v":15852693},610093,1575,9677.8412698412703,10065.201904761905,387.36063492063477,30633605,31575510,941905,3175,9648.3795275590546,9945.0425196850392,296.66299212598426]
[333,1,"OGILVIE",{"$f":"Gened!D119+'Specialed '!D119+Pension!D119","v":4586740},{"$f":"Gened!E119+'Specialed '!E119+Pension!E119","v":4678225},91485,466,9842.7896995708161,10039.109442060086,196.31974248926963,{"$f":"Gened!K119+'Specialed '!K119+Pension!K119","v":4687841},{"$f":"Gened!L119+'Specialed '!L119+Pension!L119","v":4866244},178403,473,9910.8689217758983,10288.042283298097,377.17336152219832,9274581,9544469,269888,939,9877.0830670926516,10164.503727369542,287.42066027689032]
[345,1,"NEW LONDON-SPICE",{"$f":"Gened!D120+'Specialed '!D120+Pension!D120","v":13903183},{"$f":"Gened!E120+'Specialed '!E120+Pension!E120","v":14161325},258142,1471,9451.5180149558128,9627.0054384772266,175.4874235214138,{"$f":"Gened!K120+'Specialed '!K120+Pension!K120","v":14077405},{"$f":"Gened!L120+'Specialed '!L120+Pension!L120","v":14580590},503185,1480,9511.760135135135,9851.75,339.98986486486501,27980588,28741915,761327,2951,9481.7309386648594,9739.7204337512703,257.98949508641141]
[347,1,"WILLMAR",{"$f":"Gened!D121+'Specialed '!D121+Pension!D121","v":47139074},{"$f":"Gened!E121+'Specialed '!E121+Pension!E121","v":48046836},907762,4184,11266.509082217974,11483.469407265775,216.96032504780123,{"$f":"Gened!K121+'Specialed '!K121+Pension!K121","v":48061821},{"$f":"Gened!L121+'Specialed '!L121+Pension!L121","v":49777461},1715640,4223,11380.966374615202,11787.227326545109,406.26095192990761,95200895,97824297,2623402,8407,11324.003211609373,11636.052932080409,312.04972047103604]
[356,1,"LANCASTER",{"$f":"Gened!D122+'Specialed '!D122+Pension!D122","v":2173145},{"$f":"Gened!E122+'Specialed '!E122+Pension!E122","v":2204359},31214,144,15091.284722222223,15308.048611111111,216.76388888888869,{"$f":"Gened!K122+'Specialed '!K122+Pension!K122","v":2172426},{"$f":"Gened!L122+'Specialed '!L122+Pension!L122","v":2230320},57894,144,15086.291666666666,15488.333333333334,402.04166666666788,4345571,4434679,89108,288,15088.788194444445,15398.190972222223,309.40277777777777]
[361,1,"INTERNATIONAL FA",{"$f":"Gened!D123+'Specialed '!D123+Pension!D123","v":10036957},{"$f":"Gened!E123+'Specialed '!E123+Pension!E123","v":10252515},215559,1068,9397.8998127340819,9599.7331460674159,201.83333333333394,{"$f":"Gened!K123+'Specialed '!K123+Pension!K123","v":9932478},{"$f":"Gened!L123+'Specialed '!L123+Pension!L123","v":10331008},398530,1047,9486.6074498567341,9867.2473734479463,380.63992359121221,19969435,20583523,614089,2115,9441.8132387706864,9732.1621749408987,290.34940898345155]
[362,1,"LITTLEFORK-BIG F",{"$f":"Gened!D124+'Specialed '!D124+Pension!D124","v":4183622},{"$f":"Gened!E124+'Specialed '!E124+Pension!E124","v":4258186},74563,333,12563.429429429429,12787.345345345346,223.91591591591714,{"$f":"Gened!K124+'Specialed '!K124+Pension!K124","v":4099877},{"$f":"Gened!L124+'Specialed '!L124+Pension!L124","v":4247454},147577,321,12772.202492211838,13231.943925233645,459.7414330218071,8283499,8505640,222140,654,12665.900611620795,13005.565749235475,339.66360856269114]
[363,1,"SOUTH KOOCHICHIN",{"$f":"Gened!D125+'Specialed '!D125+Pension!D125","v":3897088},{"$f":"Gened!E125+'Specialed '!E125+Pension!E125","v":3971754},74665,241,16170.489626556016,16480.30705394191,309.8174273858931,{"$f":"Gened!K125+'Specialed '!K125+Pension!K125","v":3990670},{"$f":"Gened!L125+'Specialed '!L125+Pension!L125","v":4143535},152865,247,16156.55870445344,16775.445344129555,618.88663967611501,7887758,8115289,227530,488,16163.438524590163,16629.690573770491,466.25]
[378,1,"DAWSON",{"$f":"Gened!D126+'Specialed '!D126+Pension!D126","v":5672347},{"$f":"Gened!E126+'Specialed '!E126+Pension!E126","v":5773509},101162,543,10446.311233885819,10632.613259668507,186.30202578268836,{"$f":"Gened!K126+'Specialed '!K126+Pension!K126","v":5611560},{"$f":"Gened!L126+'Specialed '!L126+Pension!L126","v":5804806},193246,530,10587.849056603774,10952.464150943397,364.61509433962237,11283907,11578315,294408,1073,10516.22273998136,10790.601118359738,274.37837837837839]
[381,1,"LAKE SUPERIOR",{"$f":"Gened!D127+'Specialed '!D127+Pension!D127","v":13979931},{"$f":"Gened!E127+'Specialed '!E127+Pension!E127","v":14266304},286373,1360,10279.361029411764,10489.929411764706,210.56838235294163,{"$f":"Gened!K127+'Specialed '!K127+Pension!K127","v":14019718},{"$f":"Gened!L127+'Specialed '!L127+Pension!L127","v":14562700},542982,1365,10270.855677655678,10668.644688644688,397.78901098901042,27999649,28829004,829355,2725,10275.100550458716,10579.451009174312,304.35045871559635]
[390,1,"LAKE OF THE WOOD",{"$f":"Gened!D128+'Specialed '!D128+Pension!D128","v":5510076},{"$f":"Gened!E128+'Specialed '!E128+Pension!E128","v":5621415},111339,464,11875.163793103447,12115.118534482759,239.9547413793116,{"$f":"Gened!K128+'Specialed '!K128+Pension!K128","v":5666361},{"$f":"Gened!L128+'Specialed '!L128+Pension!L128","v":5874519},208158,459,12345.013071895424,12798.51633986928,453.50326797385605,11176437,11495934,319497,923,12108.815817984832,12454.966413867822,346.15059588299027]
[391,1,"CLEVELAND",{"$f":"Gened!D129+'Specialed '!D129+Pension!D129","v":4787342},{"$f":"Gened!E129+'Specialed '!E129+Pension!E129","v":4871798},84457,497,9632.4788732394372,9802.4104627766592,169.93158953722195,{"$f":"Gened!K129+'Specialed '!K129+Pension!K129","v":4787737},{"$f":"Gened!L129+'Specialed '!L129+Pension!L129","v":4953895},166158,496,9652.6955645161288,9987.6915322580644,334.9959677419356,9575079,9825693,250615,993,9642.5770392749237,9894.9577039274918,252.3816717019134]
[402,1,"HENDRICKS",{"$f":"Gened!D130+'Specialed '!D130+Pension!D130","v":1642445},{"$f":"Gened!E130+'Specialed '!E130+Pension!E130","v":1669391},26946,111,14796.801801801801,15039.558558558558,242.75675675675666,{"$f":"Gened!K130+'Specialed '!K130+Pension!K130","v":1666913},{"$f":"Gened!L130+'Specialed '!L130+Pension!L130","v":1716236},49323,110,15153.754545454545,15602.145454545454,448.39090909090919,3309358,3385627,76269,221,14974.470588235294,15319.579185520362,345.1085972850679]
[403,1,"IVANHOE",{"$f":"Gened!D131+'Specialed '!D131+Pension!D131","v":1525319},{"$f":"Gened!E131+'Specialed '!E131+Pension!E131","v":1552063},26743,150,10168.793333333333,10347.086666666666,178.29333333333307,{"$f":"Gened!K131+'Specialed '!K131+Pension!K131","v":1584590},{"$f":"Gened!L131+'Specialed '!L131+Pension!L131","v":1637605},53015,155,10223.161290322581,10565.193548387097,342.03225806451519,3109909,3189668,79758,305,10196.422950819671,10457.927868852459,261.50163934426229]
[404,1,"LAKE BENTON",{"$f":"Gened!D132+'Specialed '!D132+Pension!D132","v":2279427},{"$f":"Gened!E132+'Specialed '!E132+Pension!E132","v":2315058},35630,200,11397.135,11575.29,178.15500000000065,{"$f":"Gened!K132+'Specialed '!K132+Pension!K132","v":2194085},{"$f":"Gened!L132+'Specialed '!L132+Pension!L132","v":2259881},65796,190,11547.815789473685,11894.11052631579,346.29473684210461,4473512,4574939,101426,390,11470.543589743589,11730.612820512821,260.06666666666666]
[413,1,"MARSHALL",{"$f":"Gened!D133+'Specialed '!D133+Pension!D133","v":25529114},{"$f":"Gened!E133+'Specialed '!E133+Pension!E133","v":25999070},469956,2506,10187.196328810855,10374.728651237032,187.53232242617742,{"$f":"Gened!K133+'Specialed '!K133+Pension!K133","v":25932625},{"$f":"Gened!L133+'Specialed '!L133+Pension!L133","v":26848092},915467,2523,10278.487911216806,10641.336504161713,362.84859294490707,51461739,52847162,1385423,5029,10232.996420759595,10508.483197454763,275.48677669516803]
[414,1,"MINNEOTA",{"$f":"Gened!D134+'Specialed '!D134+Pension!D134","v":4716308},{"$f":"Gened!E134+'Specialed '!E134+Pension!E134","v":4802122},85813,456,10342.780701754386,10530.969298245614,188.18859649122896,{"$f":"Gened!K134+'Specialed '!K134+Pension!K134","v":4717313},{"$f":"Gened!L134+'Specialed '!L134+Pension!L134","v":4883834},166521,453,10413.494481236203,10781.090507726269,367.59602649006592,9433621,9685956,252334,909,10378.020902090209,10655.617161716171,277.59515951595159]
[415,1,"LYND",{"$f":"Gened!D135+'Specialed '!D135+Pension!D135","v":2247236},{"$f":"Gened!E135+'Specialed '!E135+Pension!E135","v":2282741},35505,194,11583.690721649484,11766.706185567011,183.01546391752709,{"$f":"Gened!K135+'Specialed '!K135+Pension!K135","v":2020239},{"$f":"Gened!L135+'Specialed '!L135+Pension!L135","v":2088812},68573,164,12318.530487804877,12736.658536585366,418.12804878048883,4267475,4371553,104078,358,11920.32122905028,12211.041899441341,290.72067039106145]
[423,1,"HUTCHINSON",{"$f":"Gened!D136+'Specialed '!D136+Pension!D136","v":27611090},{"$f":"Gened!E136+'Specialed '!E136+Pension!E136","v":28112813},501723,2760,10004.018115942028,10185.801811594203,181.78369565217508,{"$f":"Gened!K136+'Specialed '!K136+Pension!K136","v":27372758},{"$f":"Gened!L136+'Specialed '!L136+Pension!L136","v":28383953},1011195,2704,10123.061390532544,10497.024038461539,373.96264792899456,54983848,56496766,1512918,5464,10062.929721815519,10339.818081991216,276.88836017569548]
[424,1,"LESTER PRAIRIE",{"$f":"Gened!D137+'Specialed '!D137+Pension!D137","v":4270471},{"$f":"Gened!E137+'Specialed '!E137+Pension!E137","v":4355258},84787,442,9661.6990950226245,9853.5248868778272,191.82579185520262,{"$f":"Gened!K137+'Specialed '!K137+Pension!K137","v":4331075},{"$f":"Gened!L137+'Specialed '!L137+Pension!L137","v":4491296},160221,444,9754.6734234234227,10115.531531531531,360.85810810810835,8601546,8846554,245008,886,9708.2911963882616,9984.8239277652374,276.53273137697516]
[432,1,"MAHNOMEN",{"$f":"Gened!D138+'Specialed '!D138+Pension!D138","v":7188609},{"$f":"Gened!E138+'Specialed '!E138+Pension!E138","v":7350661},162052,609,11803.95566502463,12070.050903119869,266.09523809523853,{"$f":"Gened!K138+'Specialed '!K138+Pension!K138","v":7195009},{"$f":"Gened!L138+'Specialed '!L138+Pension!L138","v":7505286},310277,606,11872.952145214522,12384.960396039603,512.00825082508163,14383618,14855947,472329,1215,11838.368724279835,12227.116872427983,388.74814814814818]
[435,1,"WAUBUN",{"$f":"Gened!D139+'Specialed '!D139+Pension!D139","v":7020941},{"$f":"Gened!E139+'Specialed '!E139+Pension!E139","v":7168715},147774,577,{"$f":"D139/G139","v":12168.008665511265},{"$f":"E139/G139","v":12424.116117850954},{"$f":"I139-H139","v":256.10745233968919},{"$f":"Gened!K139+'Specialed '!K139+Pension!K139","v":7111432},{"$f":"Gened!L139+'Specialed '!L139+Pension!L139","v":7391460},{"$f":"L139-K139","v":280028},584,{"$f":"K139/N139","v":12177.109589041096},{"$f":"L139/N139","v":12656.609589041096},{"$f":"P139-O139","v":479.5},{"$f":"D139+K139","v":14132373},{"$f":"E139+L139","v":14560175},{"$f":"F139+M139","v":427802},1161,{"$f":"R139/U139","v":12172.586563307494},{"$f":"S139/U139","v":12541.063738156761},{"$f":"T139/U139","v":368.4771748492679}]
[441,1,"MARSHALL CTY CENTRAL",{"$f":"Gened!D140+'Specialed '!D140+Pension!D140","v":4842740},{"$f":"Gened!E140+'Specialed '!E140+Pension!E140","v":4932860},90120,387,12513.540051679587,12746.40826873385,232.86821705426337,{"$f":"Gened!K140+'Specialed '!K140+Pension!K140","v":4792036},{"$f":"Gened!L140+'Specialed '!L140+Pension!L140","v":4961584},169548,381,12577.522309711287,13022.530183727034,445.0078740157478,9634776,9894444,259668,768,12545.28125,12883.390625,338.109375]
[447,1,"GRYGLA",{"$f":"Gened!D141+'Specialed '!D141+Pension!D141","v":2335884},{"$f":"Gened!E141+'Specialed '!E141+Pension!E141","v":2379623},43739,154,15168.077922077922,15452.097402597403,284.01948051948057,{"$f":"Gened!K141+'Specialed '!K141+Pension!K141","v":2343484},{"$f":"Gened!L141+'Specialed '!L141+Pension!L141","v":2429172},85688,156,15022.333333333334,15571.615384615385,549.28205128205082,4679368,4808795,129427,310,15094.735483870967,15512.241935483871,417.50645161290322]
[458,1,"TRUMAN",{"$f":"Gened!D142+'Specialed '!D142+Pension!D142","v":2593388},{"$f":"Gened!E142+'Specialed '!E142+Pension!E142","v":2638538},45150,219,11841.954337899544,12048.118721461187,206.16438356164326,{"$f":"Gened!K142+'Specialed '!K142+Pension!K142","v":2584467},{"$f":"Gened!L142+'Specialed '!L142+Pension!L142","v":2669189},84722,216,11965.125,12357.356481481482,392.23148148148175,5177855,5307727,129872,435,11903.114942528735,12201.671264367817,298.55632183908045]
[463,1,"EDEN VALLEY",{"$f":"Gened!D143+'Specialed '!D143+Pension!D143","v":8894341},{"$f":"Gened!E143+'Specialed '!E143+Pension!E143","v":9062310},167969,962,9245.6767151767144,9420.2806652806648,174.60395010395041,{"$f":"Gened!K143+'Specialed '!K143+Pension!K143","v":8804176},{"$f":"Gened!L143+'Specialed '!L143+Pension!L143","v":9127884},323708,938,9386.1151385927496,9731.2196162046912,345.10447761194155,17698517,18190194,491677,1900,9315.0089473684202,9573.7863157894735,258.77736842105264]
[465,1,"LITCHFIELD",{"$f":"Gened!D144+'Specialed '!D144+Pension!D144","v":15035869},{"$f":"Gened!E144+'Specialed '!E144+Pension!E144","v":15323931},288063,1548,9713.0936692506457,9899.1802325581393,186.08656330749363,{"$f":"Gened!K144+'Specialed '!K144+Pension!K144","v":15006602},{"$f":"Gened!L144+'Specialed '!L144+Pension!L144","v":15561087},554485,1526,9833.9462647444307,10197.304718217561,363.35845347313079,30042471,30885018,842548,3074,9773.0875081327267,10047.175666883539,274.08848405985685]
[466,1,"DASSEL-COKATO",{"$f":"Gened!D145+'Specialed '!D145+Pension!D145","v":20868067},{"$f":"Gened!E145+'Specialed '!E145+Pension!E145","v":21253837},385769,2214,9425.5045167118333,9599.7457091237575,174.2411924119242,{"$f":"Gened!K145+'Specialed '!K145+Pension!K145","v":20797625},{"$f":"Gened!L145+'Specialed '!L145+Pension!L145","v":21540320},742695,2193,9483.6411308709539,9822.3073415412673,338.66621067031338,41665692,42794157,1128464,4407,9454.4343090537786,9710.4962559564337,256.06171999092351]
[473,1,"ISLE",{"$f":"Gened!D146+'Specialed '!D146+Pension!D146","v":5015579},{"$f":"Gened!E146+'Specialed '!E146+Pension!E146","v":5115093},99514,452,11096.413716814159,11316.577433628319,220.16371681416058,{"$f":"Gened!K146+'Specialed '!K146+Pension!K146","v":5036907},{"$f":"Gened!L146+'Specialed '!L146+Pension!L146","v":5220921},184014,452,11143.599557522124,11550.71017699115,407.11061946902555,10052486,10336014,283528,904,11120.006637168142,11433.643805309735,313.63716814159289]
[477,1,"PRINCETON",{"$f":"Gened!D147+'Specialed '!D147+Pension!D147","v":28959975},{"$f":"Gened!E147+'Specialed '!E147+Pension!E147","v":29521729},561755,3119,9285.0192369349152,9465.1263225392759,180.10708560436069,{"$f":"Gened!K147+'Specialed '!K147+Pension!K147","v":29059552},{"$f":"Gened!L147+'Specialed '!L147+Pension!L147","v":30138201},1078649,3104,9361.9690721649476,9709.4719716494837,347.5028994845361,58019527,59659930,1640404,6223,9323.4014141089501,9587.0046601317699,263.60340671701749]
[480,1,"ONAMIA",{"$f":"Gened!D148+'Specialed '!D148+Pension!D148","v":8536944},{"$f":"Gened!E148+'Specialed '!E148+Pension!E148","v":8693035},156091,633,13486.483412322275,13733.072669826224,246.58925750394883,{"$f":"Gened!K148+'Specialed '!K148+Pension!K148","v":8623536},{"$f":"Gened!L148+'Specialed '!L148+Pension!L148","v":8919609},296073,631,13666.459587955625,14135.671949286847,469.21236133122147,17160480,17612644,452164,1264,13576.32911392405,13934.053797468354,357.72468354430379]
[482,1,"LITTLE FALLS",{"$f":"Gened!D149+'Specialed '!D149+Pension!D149","v":23364638},{"$f":"Gened!E149+'Specialed '!E149+Pension!E149","v":23821331},456693,2306,10132.106678230703,10330.152211621857,198.04553339115409,{"$f":"Gened!K149+'Specialed '!K149+Pension!K149","v":23278381},{"$f":"Gened!L149+'Specialed '!L149+Pension!L149","v":24139745},861364,2283,10196.399912395971,10573.694699956199,377.29478756022763,46643019,47961076,1318057,4589,10164.092176944869,10451.313140117672,287.22096317280455]
[484,1,"PIERZ",{"$f":"Gened!D150+'Specialed '!D150+Pension!D150","v":10618194},{"$f":"Gened!E150+'Specialed '!E150+Pension!E150","v":10829102},210909,1122,9463.6310160427802,9651.6060606060601,187.97504456327988,{"$f":"Gened!K150+'Specialed '!K150+Pension!K150","v":10638092},{"$f":"Gened!L150+'Specialed '!L150+Pension!L150","v":11040788},402696,1115,9540.8896860986551,9902.0520179372197,361.16233183856457,21256286,21869890,613605,2237,9502.1394725078226,9776.4371926687527,274.29816718819848]
[485,1,"ROYALTON",{"$f":"Gened!D151+'Specialed '!D151+Pension!D151","v":8639662},{"$f":"Gened!E151+'Specialed '!E151+Pension!E151","v":8799544},159882,937,9220.5570971184625,9391.1889007470654,170.63180362860294,{"$f":"Gened!K151+'Specialed '!K151+Pension!K151","v":8699784},{"$f":"Gened!L151+'Specialed '!L151+Pension!L151","v":9013046},313262,938,9274.8230277185503,9608.7910447761187,333.96801705756843,17339446,17812590,473144,1875,9247.7045333333335,9500.0480000000007,252.34346666666667]
[486,1,"SWANVILLE",{"$f":"Gened!D152+'Specialed '!D152+Pension!D152","v":3278746},{"$f":"Gened!E152+'Specialed '!E152+Pension!E152","v":3337384},58638,317,10343.047318611987,10528.025236593059,184.9779179810721,{"$f":"Gened!K152+'Specialed '!K152+Pension!K152","v":3250460},{"$f":"Gened!L152+'Specialed '!L152+Pension!L152","v":3360876},110416,312,10418.141025641025,10772.038461538461,353.89743589743557,6529206,6698260,169054,629,10380.295707472178,10649.06200317965,268.76629570747218]
[487,1,"UPSALA",{"$f":"Gened!D153+'Specialed '!D153+Pension!D153","v":3547790},{"$f":"Gened!E153+'Specialed '!E153+Pension!E153","v":3620022},72232,372,9537.0698924731187,9731.2419354838712,194.17204301075253,{"$f":"Gened!K153+'Specialed '!K153+Pension!K153","v":3589349},{"$f":"Gened!L153+'Specialed '!L153+Pension!L153","v":3725615},136266,374,9597.1898395721928,9961.5374331550811,364.34759358288829,7137139,7345637,208498,746,9567.210455764076,9846.6983914209122,279.48793565683644]
[492,1,"AUSTIN",{"$f":"Gened!D154+'Specialed '!D154+Pension!D154","v":51719293},{"$f":"Gened!E154+'Specialed '!E154+Pension!E154","v":52714417},995124,4782,10815.410497699708,11023.508364700961,208.09786700125369,{"$f":"Gened!K154+'Specialed '!K154+Pension!K154","v":51852460},{"$f":"Gened!L154+'Specialed '!L154+Pension!L154","v":53710012},1857552,4726,10971.743546339399,11364.793059669912,393.04951333051213,103571753,106424429,2852676,9508,10893.116638620109,11193.145666806899,300.02902818679007]
[495,1,"GRAND MEADOW",{"$f":"Gened!D155+'Specialed '!D155+Pension!D155","v":4400332},{"$f":"Gened!E155+'Specialed '!E155+Pension!E155","v":4474258},73926,414,10628.821256038647,10807.386473429951,178.56521739130403,{"$f":"Gened!K155+'Specialed '!K155+Pension!K155","v":4428767},{"$f":"Gened!L155+'Specialed '!L155+Pension!L155","v":4574156},145389,412,10749.434466019418,11102.320388349515,352.88592233009695,8829099,9048414,219315,826,10688.981840193705,10954.496368038741,265.5145278450363]
[497,1,"LYLE",{"$f":"Gened!D156+'Specialed '!D156+Pension!D156","v":2753535},{"$f":"Gened!E156+'Specialed '!E156+Pension!E156","v":2799913},46377,246,11193.231707317073,11381.760162601626,188.52845528455327,{"$f":"Gened!K156+'Specialed '!K156+Pension!K156","v":2697716},{"$f":"Gened!L156+'Specialed '!L156+Pension!L156","v":2791873},94157,239,11287.514644351464,11681.476987447699,393.96234309623469,5451251,5591786,140534,485,11239.692783505154,11529.455670103092,289.76082474226803]
[499,1,"LEROY",{"$f":"Gened!D157+'Specialed '!D157+Pension!D157","v":3333457},{"$f":"Gened!E157+'Specialed '!E157+Pension!E157","v":3383953},50495,273,12210.465201465202,12395.432234432234,184.96703296703163,{"$f":"Gened!K157+'Specialed '!K157+Pension!K157","v":3327572},{"$f":"Gened!L157+'Specialed '!L157+Pension!L157","v":3426223},98651,270,12324.340740740741,12689.714814814815,365.37407407407409,6661029,6810176,149146,543,12267.088397790056,12541.760589318601,274.67034990791899]
[500,1,"SOUTHLAND",{"$f":"Gened!D158+'Specialed '!D158+Pension!D158","v":4844510},{"$f":"Gened!E158+'Specialed '!E158+Pension!E158","v":4919270},74760,407,11902.972972972973,12086.658476658477,183.68550368550314,{"$f":"Gened!K158+'Specialed '!K158+Pension!K158","v":4647454},{"$f":"Gened!L158+'Specialed '!L158+Pension!L158","v":4791303},143849,386,12040.036269430051,12412.702072538859,372.66580310880818,9491964,9710573,218609,793,11969.689785624212,12245.363177805801,275.67339218158889]
[505,1,"FULDA",{"$f":"Gened!D159+'Specialed '!D159+Pension!D159","v":4021975},{"$f":"Gened!E159+'Specialed '!E159+Pension!E159","v":4094351},72376,300,13406.583333333334,13647.836666666666,241.25333333333219,{"$f":"Gened!K159+'Specialed '!K159+Pension!K159","v":3908528},{"$f":"Gened!L159+'Specialed '!L159+Pension!L159","v":4037154},128626,292,13385.369863013699,13825.869863013699,440.5,7930503,8131505,201002,592,13396.119932432432,13735.650337837838,339.53040540540542]
[507,1,"NICOLLET",{"$f":"Gened!D160+'Specialed '!D160+Pension!D160","v":3819393},{"$f":"Gened!E160+'Specialed '!E160+Pension!E160","v":3885456},66063,366,10435.5,10616,180.5,{"$f":"Gened!K160+'Specialed '!K160+Pension!K160","v":3806471},{"$f":"Gened!L160+'Specialed '!L160+Pension!L160","v":3931704},125233,363,10486.146005509641,10831.140495867769,344.99449035812722,7625864,7817160,191296,729,10460.718792866941,10723.127572016461,262.40877914951989]
[508,1,"ST. PETER",{"$f":"Gened!D161+'Specialed '!D161+Pension!D161","v":20952449},{"$f":"Gened!E161+'Specialed '!E161+Pension!E161","v":21340746},388297,2071,10117.068565910189,10304.561081603089,187.49251569290027,{"$f":"Gened!K161+'Specialed '!K161+Pension!K161","v":21092847},{"$f":"Gened!L161+'Specialed '!L161+Pension!L161","v":21839235},746388,2067,10204.570391872279,10565.667634252541,361.09724238026138,42045296,43179981,1134685,4138,10160.777187046882,10434.98815853069,274.21097148380858]
[511,1,"ADRIAN",{"$f":"Gened!D162+'Specialed '!D162+Pension!D162","v":5700430},{"$f":"Gened!E162+'Specialed '!E162+Pension!E162","v":5791735},91305,549,10383.296903460838,10549.608378870675,166.31147540983693,{"$f":"Gened!K162+'Specialed '!K162+Pension!K162","v":5780765},{"$f":"Gened!L162+'Specialed '!L162+Pension!L162","v":5966838},186073,551,10491.406533575318,10829.107078039928,337.70054446460927,11481195,11758573,277378,1100,10437.450000000001,10689.611818181818,252.16181818181818]
[514,1,"ELLSWORTH",{"$f":"Gened!D163+'Specialed '!D163+Pension!D163","v":1674939},{"$f":"Gened!E163+'Specialed '!E163+Pension!E163","v":1702525},27587,136,12315.72794117647,12518.566176470587,202.83823529411711,{"$f":"Gened!K163+'Specialed '!K163+Pension!K163","v":1683578},{"$f":"Gened!L163+'Specialed '!L163+Pension!L163","v":1737139},53561,134,12564.014925373134,12963.723880597016,399.70895522388128,3358517,3439664,81148,270,12438.951851851853,12739.496296296296,300.54814814814813]
[518,1,"WORTHINGTON",{"$f":"Gened!D164+'Specialed '!D164+Pension!D164","v":38286915},{"$f":"Gened!E164+'Specialed '!E164+Pension!E164","v":38980650},693735,3236,11831.555933250927,12045.936341161929,214.38040791100138,{"$f":"Gened!K164+'Specialed '!K164+Pension!K164","v":39356679},{"$f":"Gened!L164+'Specialed '!L164+Pension!L164","v":40715569},1358890,3316,11868.721049457177,12278.518998793726,409.79794933654921,77643594,79696219,2052625,6552,11850.365384615385,12163.647588522588,313.28220390720389]
[531,1,"BYRON",{"$f":"Gened!D165+'Specialed '!D165+Pension!D165","v":17924612},{"$f":"Gened!E165+'Specialed '!E165+Pension!E165","v":18270088},345475,2081,8613.4608361364735,8779.4752522825565,166.01441614608302,{"$f":"Gened!K165+'Specialed '!K165+Pension!K165","v":18432925},{"$f":"Gened!L165+'Specialed '!L165+Pension!L165","v":19120036},687111,2126,8670.2375352775161,8993.4317968015057,323.19426152398955,36357537,37390124,1032586,4207,8642.1528405039226,8887.5978131685279,245.44473496553363]
[533,1,"DOVER-EYOTA",{"$f":"Gened!D166+'Specialed '!D166+Pension!D166","v":11176332},{"$f":"Gened!E166+'Specialed '!E166+Pension!E166","v":11384231},207899,1190,9391.8756302521015,9566.5806722689067,174.70504201680524,{"$f":"Gened!K166+'Specialed '!K166+Pension!K166","v":11214722},{"$f":"Gened!L166+'Specialed '!L166+Pension!L166","v":11615609},400887,1191,9416.2233417296393,9752.8203190596141,336.59697732997483,22391054,22999840,608786,2381,9404.0545989080219,9659.7396052078966,255.685006299874]
[534,1,"STEWARTVILLE",{"$f":"Gened!D167+'Specialed '!D167+Pension!D167","v":18928624},{"$f":"Gened!E167+'Specialed '!E167+Pension!E167","v":19295722},367098,2076,9117.8342967244698,9294.6637764932566,176.82947976878677,{"$f":"Gened!K167+'Specialed '!K167+Pension!K167","v":19087400},{"$f":"Gened!L167+'Specialed '!L167+Pension!L167","v":19789176},701776,2072,9212.0656370656379,9550.7606177606176,338.69498069497968,38016024,39084898,1068874,4148,9164.9045323047249,9422.5887174541949,257.68418514946961]
[535,1,"ROCHESTER",{"$f":"Gened!D168+'Specialed '!D168+Pension!D168","v":189794779},{"$f":"Gened!E168+'Specialed '!E168+Pension!E168","v":193303819},3509040,17352,10937.91949054864,11140.146323190411,202.22683264177067,{"$f":"Gened!K168+'Specialed '!K168+Pension!K168","v":192622290},{"$f":"Gened!L168+'Specialed '!L168+Pension!L168","v":199117568},6495278,17445,11041.690455717971,11414.019375179134,372.32891946116251,382417069,392421387,10004318,34797,10989.94364456706,11277.448831795844,287.50518722878411]
[542,1,"BATTLE LAKE",{"$f":"Gened!D169+'Specialed '!D169+Pension!D169","v":4090514},{"$f":"Gened!E169+'Specialed '!E169+Pension!E169","v":4174603},84090,436,9381.9128440366967,9574.7775229357794,192.86467889908272,{"$f":"Gened!K169+'Specialed '!K169+Pension!K169","v":4159028},{"$f":"Gened!L169+'Specialed '!L169+Pension!L169","v":4316570},157542,426,9762.9765258215957,10132.793427230046,369.81690140845058,8249542,8491173,241632,862,9570.2343387470992,9850.5487238979113,280.31554524361951]
[544,1,"FERGUS FALLS",{"$f":"Gened!D170+'Specialed '!D170+Pension!D170","v":22242688},{"$f":"Gened!E170+'Specialed '!E170+Pension!E170","v":22706078},463390,2407,9240.8342334856661,9433.3518903199001,192.517656834234,{"$f":"Gened!K170+'Specialed '!K170+Pension!K170","v":21991302},{"$f":"Gened!L170+'Specialed '!L170+Pension!L170","v":22858914},867612,2387,9212.9459572685373,9576.4197737746126,363.47381650607531,44233990,45564992,1331002,4794,9226.9482686691699,9504.5874009178133,277.63913224864416]
[545,1,"HENNING",{"$f":"Gened!D171+'Specialed '!D171+Pension!D171","v":3799886},{"$f":"Gened!E171+'Specialed '!E171+Pension!E171","v":3869179},69294,355,10703.904225352113,10899.095774647887,195.19154929577417,{"$f":"Gened!K171+'Specialed '!K171+Pension!K171","v":3759555},{"$f":"Gened!L171+'Specialed '!L171+Pension!L171","v":3899273},139718,348,10803.318965517241,11204.807471264368,401.48850574712742,7559441,7768452,209012,703,10753.116642958748,11050.429587482218,297.3143669985775]
[547,1,"PARKERS PRAIRIE",{"$f":"Gened!D172+'Specialed '!D172+Pension!D172","v":5861830},{"$f":"Gened!E172+'Specialed '!E172+Pension!E172","v":5963207},101378,544,10775.422794117647,10961.777573529413,186.35477941176578,{"$f":"Gened!K172+'Specialed '!K172+Pension!K172","v":5780438},{"$f":"Gened!L172+'Specialed '!L172+Pension!L172","v":5975408},194970,532,10865.484962406015,11231.969924812031,366.48496240601526,11642268,11938615,296348,1076,10819.951672862453,11095.367100371746,275.41635687732344]
[548,1,"PELICAN RAPIDS",{"$f":"Gened!D173+'Specialed '!D173+Pension!D173","v":8877169},{"$f":"Gened!E173+'Specialed '!E173+Pension!E173","v":9059409},182240,897,9896.5094760312149,10099.675585284282,203.16610925306668,{"$f":"Gened!K173+'Specialed '!K173+Pension!K173","v":8827907},{"$f":"Gened!L173+'Specialed '!L173+Pension!L173","v":9175737},347830,884,9986.320135746606,10379.79298642534,393.47285067873418,17705076,18235146,530070,1781,9941.0870297585625,10238.711959573273,297.62492981471081]
[549,1,"PERHAM",{"$f":"Gened!D174+'Specialed '!D174+Pension!D174","v":13744449},{"$f":"Gened!E174+'Specialed '!E174+Pension!E174","v":14003801},259351,1406,9775.5682788051217,9960.0291607396866,184.4608819345649,{"$f":"Gened!K174+'Specialed '!K174+Pension!K174","v":13748022},{"$f":"Gened!L174+'Specialed '!L174+Pension!L174","v":14248267},500245,1403,9799.0178189593735,10155.571632216679,356.55381325730559,27492471,28252068,759596,2809,9787.280526877892,10057.695977216092,270.41509433962267]
[550,1,"UNDERWOOD",{"$f":"Gened!D175+'Specialed '!D175+Pension!D175","v":5093260},{"$f":"Gened!E175+'Specialed '!E175+Pension!E175","v":5195619},102360,557,9144.0933572710946,9327.8617594254938,183.76840215439915,{"$f":"Gened!K175+'Specialed '!K175+Pension!K175","v":5107560},{"$f":"Gened!L175+'Specialed '!L175+Pension!L175","v":5307063},199503,559,9136.9588550983899,9493.8515205724507,356.89266547406078,10200820,10502682,301863,1116,9140.5197132616486,9411.0053763440865,270.48655913978496]
[553,1,"NEW YORK MILLS",{"$f":"Gened!D176+'Specialed '!D176+Pension!D176","v":7099035},{"$f":"Gened!E176+'Specialed '!E176+Pension!E176","v":7234198},135163,747,9503.393574297188,9684.3346720214195,180.94109772423144,{"$f":"Gened!K176+'Specialed '!K176+Pension!K176","v":7092770},{"$f":"Gened!L176+'Specialed '!L176+Pension!L176","v":7353400},260630,743,9546.1238223418568,9896.9044414535674,350.78061911171062,14191805,14587598,395793,1490,9524.70134228188,9790.3342281879195,265.63288590604026]
[561,1,"GOODRIDGE",{"$f":"Gened!D177+'Specialed '!D177+Pension!D177","v":2838594},{"$f":"Gened!E177+'Specialed '!E177+Pension!E177","v":2887517},48923,206,13779.582524271844,14017.07281553398,237.49029126213645,{"$f":"Gened!K177+'Specialed '!K177+Pension!K177","v":2930920},{"$f":"Gened!L177+'Specialed '!L177+Pension!L177","v":3027097},96177,212,13825.094339622641,14278.759433962265,453.66509433962347,5769514,5914614,145100,418,13802.665071770334,14149.794258373206,347.12918660287079]
[564,1,"THIEF RIVER FALL",{"$f":"Gened!D178+'Specialed '!D178+Pension!D178","v":18151661},{"$f":"Gened!E178+'Specialed '!E178+Pension!E178","v":18506909},355248,1900,9553.5057894736838,9740.4784210526323,186.97263157894849,{"$f":"Gened!K178+'Specialed '!K178+Pension!K178","v":18058337},{"$f":"Gened!L178+'Specialed '!L178+Pension!L178","v":18737485},679148,1900,9504.387894736843,9861.8342105263164,357.44631578947337,36209998,37244394,1034396,3800,9528.9468421052625,9801.1563157894743,272.20947368421054]
[577,1,"WILLOW RIVER",{"$f":"Gened!D179+'Specialed '!D179+Pension!D179","v":4398430},{"$f":"Gened!E179+'Specialed '!E179+Pension!E179","v":4483462},85033,420,10472.452380952382,10674.909523809523,202.45714285714166,{"$f":"Gened!K179+'Specialed '!K179+Pension!K179","v":4343308},{"$f":"Gened!L179+'Specialed '!L179+Pension!L179","v":4505936},162628,408,10645.362745098038,11043.960784313726,398.59803921568709,8741738,8989398,247661,828,10557.654589371981,10856.760869565218,299.10748792270533]
[578,1,"PINE CITY",{"$f":"Gened!D180+'Specialed '!D180+Pension!D180","v":17601198},{"$f":"Gened!E180+'Specialed '!E180+Pension!E180","v":17931563},330364,1588,11083.877833753149,11291.916246851386,208.03841309823656,{"$f":"Gened!K180+'Specialed '!K180+Pension!K180","v":17873213},{"$f":"Gened!L180+'Specialed '!L180+Pension!L180","v":18478895},605682,1574,11355.281448538755,11740.085768742058,384.80432020330227,35474411,36410458,936046,3162,11218.978810879191,11515.008855154965,296.02972802024033]
[581,1,"EDGERTON",{"$f":"Gened!D181+'Specialed '!D181+Pension!D181","v":4723571},{"$f":"Gened!E181+'Specialed '!E181+Pension!E181","v":4796630},73059,392,12049.926020408164,12236.301020408164,186.375,{"$f":"Gened!K181+'Specialed '!K181+Pension!K181","v":4867980},{"$f":"Gened!L181+'Specialed '!L181+Pension!L181","v":5017975},149995,401,12139.600997506235,12513.653366583541,374.05236907730614,9591551,9814605,223054,793,12095.272383354351,12376.551071878941,281.27868852459017]
[592,1,"CLIMAX",{"$f":"Gened!D182+'Specialed '!D182+Pension!D182","v":2344526},{"$f":"Gened!E182+'Specialed '!E182+Pension!E182","v":2383502},38976,181,12953.182320441989,13168.519337016574,215.3370165745855,{"$f":"Gened!K182+'Specialed '!K182+Pension!K182","v":2341943},{"$f":"Gened!L182+'Specialed '!L182+Pension!L182","v":2420242},78299,181,12938.911602209944,13371.502762430939,432.59116022099442,4686469,4803744,117275,362,12946.046961325967,13270.011049723757,323.96408839779008]
[593,1,"CROOKSTON",{"$f":"Gened!D183+'Specialed '!D183+Pension!D183","v":13756178},{"$f":"Gened!E183+'Specialed '!E183+Pension!E183","v":14018004},261827,1252,10987.362619808307,11196.488817891373,209.1261980830659,{"$f":"Gened!K183+'Specialed '!K183+Pension!K183","v":13676202},{"$f":"Gened!L183+'Specialed '!L183+Pension!L183","v":14163865},487663,1229,11127.910496338487,11524.707078925956,396.79658258746895,27432380,28181869,749490,2481,11056.985086658606,11359.076582023377,302.09189842805318]
[595,1,"EAST GRAND FORKS",{"$f":"Gened!D184+'Specialed '!D184+Pension!D184","v":17732956},{"$f":"Gened!E184+'Specialed '!E184+Pension!E184","v":18075453},342497,1907,9298.8757210277927,9478.4756161510231,179.59989512323045,{"$f":"Gened!K184+'Specialed '!K184+Pension!K184","v":18036181},{"$f":"Gened!L184+'Specialed '!L184+Pension!L184","v":18694530},658349,1931,9340.3319523562914,9681.2687726566546,340.93682030036325,35769137,36769983,1000846,3838,9319.7334549244406,9580.5062532569045,260.77279833246484]
[599,1,"FERTILE-BELTRAMI",{"$f":"Gened!D185+'Specialed '!D185+Pension!D185","v":5132094},{"$f":"Gened!E185+'Specialed '!E185+Pension!E185","v":5227150},95055,454,11304.1718061674,11513.546255506608,209.37444933920779,{"$f":"Gened!K185+'Specialed '!K185+Pension!K185","v":5107007},{"$f":"Gened!L185+'Specialed '!L185+Pension!L185","v":5286347},179340,451,11323.740576496673,11721.390243902439,397.64966740576529,10239101,10513497,274395,905,11313.923756906077,11617.123756906078,303.1988950276243]
[600,1,"FISHER",{"$f":"Gened!D186+'Specialed '!D186+Pension!D186","v":2740147},{"$f":"Gened!E186+'Specialed '!E186+Pension!E186","v":2788024},47876,256,10703.69921875,10890.71875,187.01953125,{"$f":"Gened!K186+'Specialed '!K186+Pension!K186","v":2617440},{"$f":"Gened!L186+'Specialed '!L186+Pension!L186","v":2707327},89887,241,10860.746887966805,11233.721991701244,372.97510373443947,5357587,5495351,137763,497,10779.853118712273,11057.044265593562,277.18913480885311]
[601,1,"FOSSTON",{"$f":"Gened!D187+'Specialed '!D187+Pension!D187","v":7145949},{"$f":"Gened!E187+'Specialed '!E187+Pension!E187","v":7275336},129386,649,11010.707241910632,11210.070878274268,199.36363636363603,{"$f":"Gened!K187+'Specialed '!K187+Pension!K187","v":7133136},{"$f":"Gened!L187+'Specialed '!L187+Pension!L187","v":7382460},249324,642,11110.803738317756,11499.158878504673,388.3551401869172,14279085,14657796,378710,1291,11060.484120836561,11353.831138652207,293.34624322230826]
[621,1,"MOUNDS VIEW",{"$f":"Gened!D188+'Specialed '!D188+Pension!D188","v":130253395},{"$f":"Gened!E188+'Specialed '!E188+Pension!E188","v":132668901},2415507,11511,11315.558596125446,11525.401876465989,209.84328034054306,{"$f":"Gened!K188+'Specialed '!K188+Pension!K188","v":133122965},{"$f":"Gened!L188+'Specialed '!L188+Pension!L188","v":137537071},4414106,11649,11427.844879388789,11806.770624087905,378.92574469911597,263376360,270205972,6829613,23160,11372.036269430051,11666.924525043178,294.888298791019]
[622,1,"NORTH ST. PAUL-M",{"$f":"Gened!D189+'Specialed '!D189+Pension!D189","v":121672413},{"$f":"Gened!E189+'Specialed '!E189+Pension!E189","v":123871618},2199205,10398,11701.52077322562,11913.023466051163,211.50269282554291,{"$f":"Gened!K189+'Specialed '!K189+Pension!K189","v":122182295},{"$f":"Gened!L189+'Specialed '!L189+Pension!L189","v":126323727},4141432,10331,11826.763624044139,12227.637885974253,400.87426193011379,243854708,250195345,6340637,20729,11763.939794490811,12069.822229726471,305.88243523566018]
[623,1,"ROSEVILLE",{"$f":"Gened!D190+'Specialed '!D190+Pension!D190","v":84552210},{"$f":"Gened!E190+'Specialed '!E190+Pension!E190","v":86132694},1580484,7507,11263.115758625283,11473.650459571067,210.5347009457837,{"$f":"Gened!K190+'Specialed '!K190+Pension!K190","v":86262501},{"$f":"Gened!L190+'Specialed '!L190+Pension!L190","v":89263183},3000682,7547,11430.038558367563,11827.63786935206,397.5993109844967,170814711,175395877,4581166,15054,11346.798923874054,11651.114454629998,304.31553075594525]
[624,1,"WHITE BEAR LAKE",{"$f":"Gened!D191+'Specialed '!D191+Pension!D191","v":90942899},{"$f":"Gened!E191+'Specialed '!E191+Pension!E191","v":92580289},1637390,8376,10857.557187201528,11053.043099331424,195.48591212989595,{"$f":"Gened!K191+'Specialed '!K191+Pension!K191","v":92767334},{"$f":"Gened!L191+'Specialed '!L191+Pension!L191","v":95856206},3088872,8425,11010.959525222552,11377.591216617211,366.63169139465936,183710233,188436495,4726262,16801,10934.482054639604,11215.790429141123,281.30837450151779]
[625,1,"ST. PAUL",{"$f":"Gened!D192+'Specialed '!D192+Pension!D192","v":455386056},{"$f":"Gened!E192+'Specialed '!E192+Pension!E192","v":464148387},8762331,36398,12511.293367767459,12752.029974174406,240.73660640694652,{"$f":"Gened!K192+'Specialed '!K192+Pension!K192","v":458131407},{"$f":"Gened!L192+'Specialed '!L192+Pension!L192","v":474722918},16591511,36114,12685.701030071441,13145.121504125824,459.42047405438279,913517463,938871305,25353842,72512,12598.155656994704,12947.805949360107,349.65029236540158]
[630,1,"RED LAKE FALLS",{"$f":"Gened!D193+'Specialed '!D193+Pension!D193","v":4459072},{"$f":"Gened!E193+'Specialed '!E193+Pension!E193","v":4536879},77806,358,12455.508379888268,12672.846368715083,217.33798882681549,{"$f":"Gened!K193+'Specialed '!K193+Pension!K193","v":4450652},{"$f":"Gened!L193+'Specialed '!L193+Pension!L193","v":4594918},144266,356,12501.831460674157,12907.073033707866,405.24157303370885,8909724,9131797,222072,714,12478.605042016807,12789.631652661064,311.02521008403363]
[635,1,"MILROY",{"$f":"Gened!D194+'Specialed '!D194+Pension!D194","v":567524},{"$f":"Gened!E194+'Specialed '!E194+Pension!E194","v":575430},7907,43,13198.232558139534,13382.093023255815,183.86046511628047,{"$f":"Gened!K194+'Specialed '!K194+Pension!K194","v":593608},{"$f":"Gened!L194+'Specialed '!L194+Pension!L194","v":610269},16661,45,13191.288888888888,13561.533333333333,370.24444444444453,1161132,1185699,24568,88,13194.681818181818,13473.852272727272,279.18181818181819]
[640,1,"WABASSO",{"$f":"Gened!D195+'Specialed '!D195+Pension!D195","v":3875326},{"$f":"Gened!E195+'Specialed '!E195+Pension!E195","v":3946347},71021,376,10306.718085106382,10495.603723404256,188.88563829787381,{"$f":"Gened!K195+'Specialed '!K195+Pension!K195","v":3842751},{"$f":"Gened!L195+'Specialed '!L195+Pension!L195","v":3979904},137153,370,10385.813513513514,10756.497297297297,370.68378378378293,7718077,7926251,208174,746,10345.947721179624,10625.001340482573,279.05361930294907]
[656,1,"FARIBAULT",{"$f":"Gened!D196+'Specialed '!D196+Pension!D196","v":44212087},{"$f":"Gened!E196+'Specialed '!E196+Pension!E196","v":45047458},835371,3805,11619.470959264127,11839.016557161629,219.54559789750238,{"$f":"Gened!K196+'Specialed '!K196+Pension!K196","v":44065564},{"$f":"Gened!L196+'Specialed '!L196+Pension!L196","v":45619366},1553802,3737,11791.69494246722,12207.48354294889,415.78860048167007,88277651,90666824,2389173,7542,11704.806549986741,12021.588968443384,316.7824184566428]
[659,1,"NORTHFIELD",{"$f":"Gened!D197+'Specialed '!D197+Pension!D197","v":42349102},{"$f":"Gened!E197+'Specialed '!E197+Pension!E197","v":43115521},766418,3854,10988.350285417748,11187.213544369486,198.86325895173832,{"$f":"Gened!K197+'Specialed '!K197+Pension!K197","v":41905077},{"$f":"Gened!L197+'Specialed '!L197+Pension!L197","v":43317481},1412404,3731,11231.593942642723,11610.153042079872,378.55909943714869,84254179,86433002,2178822,7585,11107.999868160843,11395.254054054054,287.25405405405405]
[671,1,"HILLS-BEAVER CRE",{"$f":"Gened!D198+'Specialed '!D198+Pension!D198","v":3985985},{"$f":"Gened!E198+'Specialed '!E198+Pension!E198","v":4054562},68578,376,10601.023936170213,10783.409574468085,182.38563829787199,{"$f":"Gened!K198+'Specialed '!K198+Pension!K198","v":3937111},{"$f":"Gened!L198+'Specialed '!L198+Pension!L198","v":4067398},130287,366,10757.133879781421,11113.109289617487,355.97540983606632,7923096,8121960,198865,742,10678.026954177898,10946.037735849057,268.01212938005392]
[676,1,"BADGER",{"$f":"Gened!D199+'Specialed '!D199+Pension!D199","v":2190060},{"$f":"Gened!E199+'Specialed '!E199+Pension!E199","v":2229197},39137,189,11587.619047619048,11794.693121693123,207.07407407407482,{"$f":"Gened!K199+'Specialed '!K199+Pension!K199","v":2159905},{"$f":"Gened!L199+'Specialed '!L199+Pension!L199","v":2237593},77688,185,11675.162162162162,12095.097297297298,419.93513513513608,4349965,4466790,116825,374,11630.922459893049,11943.288770053476,312.36631016042782]
[682,1,"ROSEAU",{"$f":"Gened!D200+'Specialed '!D200+Pension!D200","v":11380598},{"$f":"Gened!E200+'Specialed '!E200+Pension!E200","v":11615697},235098,1170,9727.0068376068375,9927.9461538461546,200.93931623931712,{"$f":"Gened!K200+'Specialed '!K200+Pension!K200","v":11282407},{"$f":"Gened!L200+'Specialed '!L200+Pension!L200","v":11707545},425138,1147,9836.4489973844811,10207.101133391456,370.65213600697462,22663005,23323242,660236,2317,9781.1847216227889,10066.138109624515,284.95295640914975]
[690,1,"WARROAD",{"$f":"Gened!D201+'Specialed '!D201+Pension!D201","v":10148072},{"$f":"Gened!E201+'Specialed '!E201+Pension!E201","v":10343175},195104,1023,9919.9139784946237,10110.630498533725,190.71652003910094,{"$f":"Gened!K201+'Specialed '!K201+Pension!K201","v":10192667},{"$f":"Gened!L201+'Specialed '!L201+Pension!L201","v":10567080},374413,1016,10032.152559055117,10400.669291338583,368.5167322834659,20340739,20910255,569517,2039,9975.840608141245,10255.152035311427,279.31191760666991]
[695,1,"CHISHOLM",{"$f":"Gened!D202+'Specialed '!D202+Pension!D202","v":7206114},{"$f":"Gened!E202+'Specialed '!E202+Pension!E202","v":7349695},143582,721,9994.6102635228854,10193.75173370319,199.14147018030417,{"$f":"Gened!K202+'Specialed '!K202+Pension!K202","v":7177719},{"$f":"Gened!L202+'Specialed '!L202+Pension!L202","v":7448759},271040,716,10024.747206703911,10403.294692737431,378.54748603351982,14383833,14798454,414622,1437,10009.62630480167,10298.15866388309,288.53305497564372]
[696,1,"ELY",{"$f":"Gened!D203+'Specialed '!D203+Pension!D203","v":5680485},{"$f":"Gened!E203+'Specialed '!E203+Pension!E203","v":5792460},111975,528,{"$f":"D203/G203","v":10758.494318181818},{"$f":"E203/G203","v":10970.568181818182},{"$f":"I203-H203","v":212.07386363636397},{"$f":"Gened!K203+'Specialed '!K203+Pension!K203","v":5690123},{"$f":"Gened!L203+'Specialed '!L203+Pension!L203","v":5895942},{"$f":"L203-K203","v":205819},526,{"$f":"K203/N203","v":10817.72433460076},{"$f":"L203/N203","v":11209.015209125475},{"$f":"P203-O203","v":391.29087452471504},{"$f":"D203+K203","v":11370608},{"$f":"E203+L203","v":11688402},{"$f":"F203+M203","v":317794},1054,{"$f":"R203/U203","v":10788.053130929791},{"$f":"S203/U203","v":11089.565464895635},{"$f":"T203/U203","v":301.51233396584439}]
[698,1,"FLOODWOOD",{"$f":"Gened!D204+'Specialed '!D204+Pension!D204","v":3077978},{"$f":"Gened!E204+'Specialed '!E204+Pension!E204","v":3130242},52264,236,13042.27966101695,13263.737288135593,221.45762711864336,{"$f":"Gened!K204+'Specialed '!K204+Pension!K204","v":3071520},{"$f":"Gened!L204+'Specialed '!L204+Pension!L204","v":3178584},107064,234,13126.153846153846,13583.692307692309,457.5384615384628,6149498,6308826,159328,470,13084.038297872341,13423.034042553192,338.99574468085109]
[700,1,"HERMANTOWN",{"$f":"Gened!D205+'Specialed '!D205+Pension!D205","v":18903783},{"$f":"Gened!E205+'Specialed '!E205+Pension!E205","v":19271310},367527,2066,9149.9433688286535,9327.8363988383353,177.89303000968175,{"$f":"Gened!K205+'Specialed '!K205+Pension!K205","v":19006097},{"$f":"Gened!L205+'Specialed '!L205+Pension!L205","v":19703541},697444,2064,9208.3803294573645,9546.2892441860458,337.90891472868134,37909880,38974851,1064971,4130,9179.1476997578684,9437.0099273607757,257.86222760290559]
[701,1,"HIBBING",{"$f":"Gened!D206+'Specialed '!D206+Pension!D206","v":22648172},{"$f":"Gened!E206+'Specialed '!E206+Pension!E206","v":23097009},448837,2321,9757.9370960792767,9951.3179663937954,193.38087031451869,{"$f":"Gened!K206+'Specialed '!K206+Pension!K206","v":22537286},{"$f":"Gened!L206+'Specialed '!L206+Pension!L206","v":23393808},856522,2296,9815.8911149825781,10188.940766550522,373.04965156794424,45185458,46490817,1305359,4617,9786.7572016460908,10069.486029889538,282.72882824344811]
[704,1,"PROCTOR",{"$f":"Gened!D207+'Specialed '!D207+Pension!D207","v":16657275},{"$f":"Gened!E207+'Specialed '!E207+Pension!E207","v":16987869},330594,1752,9507.5770547945212,9696.2722602739723,188.69520547945103,{"$f":"Gened!K207+'Specialed '!K207+Pension!K207","v":16425002},{"$f":"Gened!L207+'Specialed '!L207+Pension!L207","v":17046508},621506,1709,9610.8847279110596,9974.5511995318902,363.66647162083063,33082277,34034377,952100,3461,9558.5891360878359,9833.6830395839352,275.09390349609941]
[706,1,"VIRGINIA",{"$f":"Gened!D208+'Specialed '!D208+Pension!D208","v":16820309},{"$f":"Gened!E208+'Specialed '!E208+Pension!E208","v":17139725},319415,1729,9728.3452862926551,9913.085598611915,184.74031231925983,{"$f":"Gened!K208+'Specialed '!K208+Pension!K208","v":17195478},{"$f":"Gened!L208+'Specialed '!L208+Pension!L208","v":17822158},626680,1754,9803.5792474344362,10160.865450399087,357.28620296465124,34015787,34961883,946095,3483,9766.2322710307199,10037.864771748493,271.63221360895778]
[707,1,"NETT LAKE",{"$f":"Gened!D209+'Specialed '!D209+Pension!D209","v":1257394},{"$f":"Gened!E209+'Specialed '!E209+Pension!E209","v":1284406},27012,105,11975.180952380952,12232.438095238096,257.25714285714457,{"$f":"Gened!K209+'Specialed '!K209+Pension!K209","v":1319182},{"$f":"Gened!L209+'Specialed '!L209+Pension!L209","v":1373640},54458,109,12102.587155963303,12602.201834862386,499.61467889908272,2576576,2658046,81470,214,12040.074766355141,12420.775700934579,380.70093457943926]
[709,1,"DULUTH",{"$f":"Gened!D210+'Specialed '!D210+Pension!D210","v":85324564},{"$f":"Gened!E210+'Specialed '!E210+Pension!E210","v":87049712},1725148,8049,10600.641570381415,10814.972294694993,214.33072431357868,{"$f":"Gened!K210+'Specialed '!K210+Pension!K210","v":85655036},{"$f":"Gened!L210+'Specialed '!L210+Pension!L210","v":88891525},3236489,7984,10728.336172344689,11133.708041082164,405.37186873747487,170979600,175941237,4961637,16033,10664.230025572257,10973.694068483752,309.46404291149503]
[712,1,"MOUNTAIN IRON-BU",{"$f":"Gened!D211+'Specialed '!D211+Pension!D211","v":5853028},{"$f":"Gened!E211+'Specialed '!E211+Pension!E211","v":5953117},100089,478,12244.828451882846,12454.219665271967,209.39121338912082,{"$f":"Gened!K211+'Specialed '!K211+Pension!K211","v":5896612},{"$f":"Gened!L211+'Specialed '!L211+Pension!L211","v":6094122},197510,475,12413.92,12829.730526315789,415.81052631578859,11749640,12047239,297599,953,12329.108079748165,12641.384050367262,312.27597061909756]
[716,1,"BELLE PLAINE",{"$f":"Gened!D212+'Specialed '!D212+Pension!D212","v":14399360},{"$f":"Gened!E212+'Specialed '!E212+Pension!E212","v":14702933},303573,1618,8899.4808405438816,9087.1032138442515,187.62237330036987,{"$f":"Gened!K212+'Specialed '!K212+Pension!K212","v":14517113},{"$f":"Gened!L212+'Specialed '!L212+Pension!L212","v":15089754},572641,1619,8966.7158739962942,9320.4163063619526,353.70043236565834,28916473,29792687,876214,3237,8933.1087426629601,9203.7957985789308,270.6870559159716]
[717,1,"JORDAN",{"$f":"Gened!D213+'Specialed '!D213+Pension!D213","v":16445899},{"$f":"Gened!E213+'Specialed '!E213+Pension!E213","v":16781263},335364,1805,9111.3013850415518,9297.0986149584496,185.79722991689778,{"$f":"Gened!K213+'Specialed '!K213+Pension!K213","v":16693296},{"$f":"Gened!L213+'Specialed '!L213+Pension!L213","v":17325051},631755,1812,9212.6357615894049,9561.2864238410602,348.65066225165538,33139195,34106314,967119,3617,9162.0666298037049,9429.4481614597735,267.38153165606855]
[719,1,"PRIOR LAKE",{"$f":"Gened!D214+'Specialed '!D214+Pension!D214","v":80286895},{"$f":"Gened!E214+'Specialed '!E214+Pension!E214","v":81866156},1579261,8525,9417.8175953079171,9603.0681524926695,185.25055718475232,{"$f":"Gened!K214+'Specialed '!K214+Pension!K214","v":83192196},{"$f":"Gened!L214+'Specialed '!L214+Pension!L214","v":86190222},2998026,8775,9480.5921367521369,9822.2475213675207,341.65538461538381,163479091,168056378,4577287,17300,9449.6584393063586,9714.2415028901742,264.58306358381503]
[720,1,"SHAKOPEE",{"$f":"Gened!D215+'Specialed '!D215+Pension!D215","v":79466555},{"$f":"Gened!E215+'Specialed '!E215+Pension!E215","v":81168543},1701987,8365,9499.8870292887023,9703.3524208009567,203.46539151225443,{"$f":"Gened!K215+'Specialed '!K215+Pension!K215","v":81086693},{"$f":"Gened!L215+'Specialed '!L215+Pension!L215","v":84237948},3151255,8460,9584.7154846335688,9957.2042553191495,372.48877068558068,160553248,165406491,4853242,16825,9542.5407429420502,9830.9950074294211,288.45420505200593]
[721,1,"NEW PRAGUE",{"$f":"Gened!D216+'Specialed '!D216+Pension!D216","v":36670101},{"$f":"Gened!E216+'Specialed '!E216+Pension!E216","v":37455186},785084,4072,9005.4275540275048,9198.2283889980354,192.80083497053056,{"$f":"Gened!K216+'Specialed '!K216+Pension!K216","v":36789204},{"$f":"Gened!L216+'Specialed '!L216+Pension!L216","v":38224582},1435378,4051,9081.5117254998768,9435.8385583806466,354.32683288076987,73459305,75679768,2220462,8123,9043.3712913948057,9316.7263326357261,273.35491813369447]
[726,1,"BECKER",{"$f":"Gened!D217+'Specialed '!D217+Pension!D217","v":27331573},{"$f":"Gened!E217+'Specialed '!E217+Pension!E217","v":27892174},560601,2813,9716.1653039459652,9915.4546747244931,199.28937077852788,{"$f":"Gened!K217+'Specialed '!K217+Pension!K217","v":27653269},{"$f":"Gened!L217+'Specialed '!L217+Pension!L217","v":28675382},1022113,2822,9799.1739900779594,10161.36853295535,362.19454287739063,54984842,56567556,1582714,5635,9757.735936113575,10038.607985803017,280.87204968944098]
[727,1,"BIG LAKE",{"$f":"Gened!D218+'Specialed '!D218+Pension!D218","v":29640645},{"$f":"Gened!E218+'Specialed '!E218+Pension!E218","v":30311089},670444,3075,9639.2341463414632,9857.2647154471542,218.03056910569103,{"$f":"Gened!K218+'Specialed '!K218+Pension!K218","v":29297246},{"$f":"Gened!L218+'Specialed '!L218+Pension!L218","v":30454668},1157422,3019,9704.2881748923483,10087.667439549519,383.37926465717101,58937891,60765757,1827866,6094,9671.4622579586485,9971.4074499507715,299.9451919921234]
[728,1,"ELK RIVER",{"$f":"Gened!D219+'Specialed '!D219+Pension!D219","v":128697133},{"$f":"Gened!E219+'Specialed '!E219+Pension!E219","v":131143049},2445916,12885,9988.13604967016,10177.962669771052,189.82662010089189,{"$f":"Gened!K219+'Specialed '!K219+Pension!K219","v":129295690},{"$f":"Gened!L219+'Specialed '!L219+Pension!L219","v":133703385},4407695,12775,10120.993346379648,10466.018395303327,345.0250489236787,257992823,264846434,6853611,25660,10054.279929851909,10321.373109898675,267.09318004676538]
[738,1,"HOLDINGFORD",{"$f":"Gened!D220+'Specialed '!D220+Pension!D220","v":9160838},{"$f":"Gened!E220+'Specialed '!E220+Pension!E220","v":9338044},177206,1023,8954.8758553274674,9128.0977517106548,173.22189638318741,{"$f":"Gened!K220+'Specialed '!K220+Pension!K220","v":8878140},{"$f":"Gened!L220+'Specialed '!L220+Pension!L220","v":9213055},334915,982,9040.8757637474537,9381.9297352342164,341.05397148676275,18038978,18551099,512121,2005,8996.9965087281798,9252.4184538653371,255.42194513715711]
[739,1,"KIMBALL",{"$f":"Gened!D221+'Specialed '!D221+Pension!D221","v":7163188},{"$f":"Gened!E221+'Specialed '!E221+Pension!E221","v":7292460},129273,743,9640.8990578734865,9814.8855989232834,173.98654104979687,{"$f":"Gened!K221+'Specialed '!K221+Pension!K221","v":7169699},{"$f":"Gened!L221+'Specialed '!L221+Pension!L221","v":7420747},251048,738,9715.0392953929531,10055.212737127371,340.17344173441779,14332887,14713207,380321,1481,9677.8440243079003,9934.6434841323426,256.80013504388927]
[740,1,"MELROSE",{"$f":"Gened!D222+'Specialed '!D222+Pension!D222","v":13269416},{"$f":"Gened!E222+'Specialed '!E222+Pension!E222","v":13527699},258282,1341,9895.1648023862781,10087.769574944072,192.60477255779369,{"$f":"Gened!K222+'Specialed '!K222+Pension!K222","v":12941510},{"$f":"Gened!L222+'Specialed '!L222+Pension!L222","v":13425496},483986,1292,10016.648606811146,10391.250773993808,374.60216718266201,26210926,26953195,742268,2633,9954.77630079757,10236.686289403722,281.90960881124192]
[741,1,"PAYNESVILLE",{"$f":"Gened!D223+'Specialed '!D223+Pension!D223","v":8993799},{"$f":"Gened!E223+'Specialed '!E223+Pension!E223","v":9164517},170717,919,9786.5059847660505,9972.2709466811757,185.76496191512524,{"$f":"Gened!K223+'Specialed '!K223+Pension!K223","v":8942803},{"$f":"Gened!L223+'Specialed '!L223+Pension!L223","v":9269337},326534,909,9838.0671067106705,10197.290429042905,359.2233223322346,17936602,18433854,497251,1828,9812.1455142231953,10084.165207877462,272.01914660831511]
[742,1,"ST. CLOUD",{"$f":"Gened!D224+'Specialed '!D224+Pension!D224","v":117241076},{"$f":"Gened!E224+'Specialed '!E224+Pension!E224","v":119535640},2294564,10403,11269.929443429779,11490.4969720273,220.56752859752123,{"$f":"Gened!K224+'Specialed '!K224+Pension!K224","v":119607382},{"$f":"Gened!L224+'Specialed '!L224+Pension!L224","v":123986116},4378734,10508,11382.506851922344,11799.211648267987,416.70479634564254,236848458,243521756,6673298,20911,11326.500789058391,11645.629381665152,319.12859260676197]
[743,1,"SAUK CENTRE",{"$f":"Gened!D225+'Specialed '!D225+Pension!D225","v":11038867},{"$f":"Gened!E225+'Specialed '!E225+Pension!E225","v":11233534},194667,1070,10316.698130841121,10498.629906542055,181.93177570093394,{"$f":"Gened!K225+'Specialed '!K225+Pension!K225","v":11125358},{"$f":"Gened!L225+'Specialed '!L225+Pension!L225","v":11500685},375327,1066,10436.545966228892,10788.635084427768,352.08911819887544,22164225,22734219,569994,2136,10376.509831460675,10643.36095505618,266.85112359550561]
[745,1,"ALBANY",{"$f":"Gened!D226+'Specialed '!D226+Pension!D226","v":16200204},{"$f":"Gened!E226+'Specialed '!E226+Pension!E226","v":16522304},322100,1747,9273.1562678878072,9457.529479107041,184.37321121923378,{"$f":"Gened!K226+'Specialed '!K226+Pension!K226","v":16360738},{"$f":"Gened!L226+'Specialed '!L226+Pension!L226","v":16965814},605076,1757,9311.7461582242468,9656.126351735913,344.38019351166622,32560942,33488118,927176,3504,9292.5062785388127,9557.1113013698632,264.60502283105023]
[748,1,"SARTELL",{"$f":"Gened!D227+'Specialed '!D227+Pension!D227","v":35059472},{"$f":"Gened!E227+'Specialed '!E227+Pension!E227","v":35771392},711919,3923,8936.9033902625542,9118.3767524853429,181.47336222278864,{"$f":"Gened!K227+'Specialed '!K227+Pension!K227","v":35422220},{"$f":"Gened!L227+'Specialed '!L227+Pension!L227","v":36764712},1342492,3932,9008.702950152594,9350.130213631739,341.42726347914504,70481692,72536104,2054411,7855,8972.8443029917253,9234.386250795671,261.54182049649904]
[750,1,"ROCORI",{"$f":"Gened!D228+'Specialed '!D228+Pension!D228","v":18807175},{"$f":"Gened!E228+'Specialed '!E228+Pension!E228","v":19169326},362150,2018,9319.7101090188298,9499.1704658077306,179.46035678890075,{"$f":"Gened!K228+'Specialed '!K228+Pension!K228","v":18585883},{"$f":"Gened!L228+'Specialed '!L228+Pension!L228","v":19273841},687958,1985,9363.1652392947108,9709.7435768261967,346.57833753148589,37393058,38443167,1050108,4003,9341.2585560829375,9603.5890582063457,262.33025231076692]
[756,1,"BLOOMING PRAIRIE",{"$f":"Gened!D229+'Specialed '!D229+Pension!D229","v":7029202},{"$f":"Gened!E229+'Specialed '!E229+Pension!E229","v":7162279},133078,729,9642.2524005486976,9824.7997256515773,182.54732510287977,{"$f":"Gened!K229+'Specialed '!K229+Pension!K229","v":7251638},{"$f":"Gened!L229+'Specialed '!L229+Pension!L229","v":7515214},263576,746,9720.694369973191,10074.013404825737,353.31903485254588,14280840,14677493,396654,1475,9681.9254237288133,9950.8427118644067,268.9179661016949]
[761,1,"OWATONNA",{"$f":"Gened!D230+'Specialed '!D230+Pension!D230","v":50830672},{"$f":"Gened!E230+'Specialed '!E230+Pension!E230","v":51847890},1017218,4924,10323.044679122664,10529.628350934199,206.58367181153517,{"$f":"Gened!K230+'Specialed '!K230+Pension!K230","v":51636791},{"$f":"Gened!L230+'Specialed '!L230+Pension!L230","v":53506208},1869417,4956,10419.045803066989,10796.248587570621,377.20278450363185,102467463,105354098,2886635,9880,10371.200708502025,10663.37024291498,292.16953441295544]
[763,1,"MEDFORD",{"$f":"Gened!D231+'Specialed '!D231+Pension!D231","v":7936319},{"$f":"Gened!E231+'Specialed '!E231+Pension!E231","v":8092595},156276,872,9101.2832568807335,9280.4988532110092,179.21559633027573,{"$f":"Gened!K231+'Specialed '!K231+Pension!K231","v":7855128},{"$f":"Gened!L231+'Specialed '!L231+Pension!L231","v":8154500},299372,853,9208.8253223915599,9559.7889800703397,350.96365767877978,15791447,16247095,455648,1725,9154.4620289855065,9418.6057971014488,264.14376811594201]
[768,1,"HANCOCK",{"$f":"Gened!D232+'Specialed '!D232+Pension!D232","v":3369708},{"$f":"Gened!E232+'Specialed '!E232+Pension!E232","v":3428976},59267,347,9710.9740634005757,9881.7752161383287,170.801152737753,{"$f":"Gened!K232+'Specialed '!K232+Pension!K232","v":3442817},{"$f":"Gened!L232+'Specialed '!L232+Pension!L232","v":3560368},117551,352,9780.730113636364,10114.681818181818,333.95170454545405,6812525,6989344,176818,699,9746.1015736766803,9999.061516452075,252.95851216022891]
[771,1,"CHOKIO-ALBERTA",{"$f":"Gened!D233+'Specialed '!D233+Pension!D233","v":1972096},{"$f":"Gened!E233+'Specialed '!E233+Pension!E233","v":2003722},31625,158,12481.620253164558,12681.784810126583,200.16455696202502,{"$f":"Gened!K233+'Specialed '!K233+Pension!K233","v":1977389},{"$f":"Gened!L233+'Specialed '!L233+Pension!L233","v":2038914},61525,158,12515.120253164558,12904.518987341773,389.39873417721537,3949485,4042636,93150,316,12498.370253164558,12793.151898734177,294.77848101265823]
[775,1,"KERKHOVEN-MURDOC",{"$f":"Gened!D234+'Specialed '!D234+Pension!D234","v":6963711},{"$f":"Gened!E234+'Specialed '!E234+Pension!E234","v":7092793},129082,693,10048.645021645021,10234.910533910534,186.26551226551237,{"$f":"Gened!K234+'Specialed '!K234+Pension!K234","v":7174310},{"$f":"Gened!L234+'Specialed '!L234+Pension!L234","v":7430921},256611,713,10062.145862552594,10422.049088359046,359.90322580645261,14138021,14523714,385693,1406,10055.49146514936,10329.81081081081,274.31934566145094]
[777,1,"BENSON",{"$f":"Gened!D235+'Specialed '!D235+Pension!D235","v":9321743},{"$f":"Gened!E235+'Specialed '!E235+Pension!E235","v":9479899},158156,842,11070.953681710214,11258.787410926367,187.83372921615228,{"$f":"Gened!K235+'Specialed '!K235+Pension!K235","v":9357467},{"$f":"Gened!L235+'Specialed '!L235+Pension!L235","v":9665291},307824,837,11179.769414575867,11547.540023894862,367.77060931899541,18679210,19145190,465980,1679,11125.199523525909,11402.733770101251,277.53424657534248]
[786,1,"BERTHA-HEWITT",{"$f":"Gened!D236+'Specialed '!D236+Pension!D236","v":4580303},{"$f":"Gened!E236+'Specialed '!E236+Pension!E236","v":4665531},85229,412,11117.240291262136,11324.10436893204,206.86407766990305,{"$f":"Gened!K236+'Specialed '!K236+Pension!K236","v":4280576},{"$f":"Gened!L236+'Specialed '!L236+Pension!L236","v":4436794},156218,372,11506.924731182795,11926.865591397849,419.94086021505427,8860879,9102325,241447,784,11302.141581632653,11610.108418367347,307.96811224489795]
[787,1,"BROWERVILLE",{"$f":"Gened!D237+'Specialed '!D237+Pension!D237","v":3936698},{"$f":"Gened!E237+'Specialed '!E237+Pension!E237","v":4003046},66348,354,11120.615819209039,11308.0395480226,187.42372881356096,{"$f":"Gened!K237+'Specialed '!K237+Pension!K237","v":3962094},{"$f":"Gened!L237+'Specialed '!L237+Pension!L237","v":4096081},133987,354,11192.355932203391,11570.850282485875,378.49435028248445,7898792,8099127,200335,708,11156.485875706214,11439.444915254237,282.95903954802259]
[801,1,"BROWNS VALLEY",{"$f":"Gened!D238+'Specialed '!D238+Pension!D238","v":1786124},{"$f":"Gened!E238+'Specialed '!E238+Pension!E238","v":1816751},30628,147,12150.503401360544,12358.850340136054,208.34693877551035,{"$f":"Gened!K238+'Specialed '!K238+Pension!K238","v":1793186},{"$f":"Gened!L238+'Specialed '!L238+Pension!L238","v":1853129},59943,146,12282.095890410959,12692.664383561643,410.56849315068393,3579310,3669880,90571,293,12216.075085324232,12525.187713310581,309.11604095563138]
[803,1,"WHEATON",{"$f":"Gened!D239+'Specialed '!D239+Pension!D239","v":4707900},{"$f":"Gened!E239+'Specialed '!E239+Pension!E239","v":4790102},82202,386,12196.632124352331,12409.590673575129,212.95854922279796,{"$f":"Gened!K239+'Specialed '!K239+Pension!K239","v":4682529},{"$f":"Gened!L239+'Specialed '!L239+Pension!L239","v":4841017},158488,385,12162.412987012987,12574.07012987013,411.65714285714239,9390429,9631119,240690,771,12179.544747081713,12491.723735408561,312.17898832684824]
[811,1,"WABASHA",{"$f":"Gened!D240+'Specialed '!D240+Pension!D240","v":6258484},{"$f":"Gened!E240+'Specialed '!E240+Pension!E240","v":6371966},113483,553,11317.330922242314,11522.542495479205,205.21157323689113,{"$f":"Gened!K240+'Specialed '!K240+Pension!K240","v":6306423},{"$f":"Gened!L240+'Specialed '!L240+Pension!L240","v":6519511},213088,550,11466.223636363637,11853.656363636364,387.43272727272779,12564907,12891477,326571,1103,11391.57479601088,11687.649138712603,296.07524932003628]
[813,1,"LAKE CITY",{"$f":"Gened!D241+'Specialed '!D241+Pension!D241","v":11543837},{"$f":"Gened!E241+'Specialed '!E241+Pension!E241","v":11769503},225666,1229,9392.8698128559809,9576.4873881204239,183.61757526444308,{"$f":"Gened!K241+'Specialed '!K241+Pension!K241","v":11509118},{"$f":"Gened!L241+'Specialed '!L241+Pension!L241","v":11939097},429979,1220,9433.7032786885247,9786.1450819672136,352.44180327868889,23052955,23708600,655645,2449,9413.2115149040419,9680.9309922417306,267.71947733768883]
[815,2,"PRINSBURG",{"$f":"Gened!D242+'Specialed '!D242+Pension!D242","v":208569},{"$f":"Gened!E242+'Specialed '!E242+Pension!E242","v":209742},1173,0,{"$error":"#DIV/0!"},{"$error":"#DIV/0!"},{"$error":"#DIV/0!"},{"$f":"Gened!K242+'Specialed '!K242+Pension!K242","v":218425},{"$f":"Gened!L242+'Specialed '!L242+Pension!L242","v":220553},2128,0,{"$error":"#DIV/0!"},{"$error":"#DIV/0!"},{"$error":"#DIV/0!"},426994,430295,3301,0,{"$error":"#DIV/0!"},{"$error":"#DIV/0!"},{"$error":"#DIV/0!"}]
[818,1,"VERNDALE",{"$f":"Gened!D243+'Specialed '!D243+Pension!D243","v":5370970},{"$f":"Gened!E243+'Specialed '!E243+Pension!E243","v":5470979},100008,536,10020.466417910447,10207.050373134329,186.58395522388128,{"$f":"Gened!K243+'Specialed '!K243+Pension!K243","v":5387326},{"$f":"Gened!L243+'Specialed '!L243+Pension!L243","v":5584409},197083,533,10107.553470919325,10477.315196998125,369.76172607879926,10758296,11055388,297091,1069,10063.887745556594,10341.803554724042,277.91487371375115]
[820,1,"SEBEKA",{"$f":"Gened!D244+'Specialed '!D244+Pension!D244","v":5246547},{"$f":"Gened!E244+'Specialed '!E244+Pension!E244","v":5353523},106976,511,10267.215264187867,10476.561643835616,209.34637964774811,{"$f":"Gened!K244+'Specialed '!K244+Pension!K244","v":4997844},{"$f":"Gened!L244+'Specialed '!L244+Pension!L244","v":5189320},191476,473,10566.266384778013,10971.07822410148,404.81183932346721,10244391,10542843,298452,984,10410.966463414634,10714.271341463415,303.30487804878049]
[821,1,"MENAHGA",{"$f":"Gened!D245+'Specialed '!D245+Pension!D245","v":9834722},{"$f":"Gened!E245+'Specialed '!E245+Pension!E245","v":10020029},185307,1029,9557.5529640427594,9737.6375121477158,180.08454810495641,{"$f":"Gened!K245+'Specialed '!K245+Pension!K245","v":10027459},{"$f":"Gened!L245+'Specialed '!L245+Pension!L245","v":10391385},363926,1046,9586.4808795411082,9934.4024856596552,347.92160611854706,19862181,20411414,549233,2075,9572.1354216867476,9836.8260240963864,264.69060240963853]
[829,1,"WASECA",{"$f":"Gened!D246+'Specialed '!D246+Pension!D246","v":18831650},{"$f":"Gened!E246+'Specialed '!E246+Pension!E246","v":19162605},330954,1791,10514.600781686209,10699.388609715243,184.78782802903334,{"$f":"Gened!K246+'Specialed '!K246+Pension!K246","v":18670380},{"$f":"Gened!L246+'Specialed '!L246+Pension!L246","v":19303585},633205,1759,10614.201250710632,10974.1813530415,359.98010233086825,37502030,38466190,964159,3550,10563.952112676056,10835.546478873239,271.59408450704223]
[831,1,"FOREST LAKE",{"$f":"Gened!D247+'Specialed '!D247+Pension!D247","v":63075403},{"$f":"Gened!E247+'Specialed '!E247+Pension!E247","v":64274489},1199086,6365,9909.7255302435187,10098.112961508248,188.38743126472946,{"$f":"Gened!K247+'Specialed '!K247+Pension!K247","v":62279703},{"$f":"Gened!L247+'Specialed '!L247+Pension!L247","v":64497384},2217681,6215,10020.869348350765,10377.696540627514,356.82719227674897,125355106,128771873,3416767,12580,9964.634817170112,10236.237917329094,271.6031001589825]
[832,1,"MAHTOMEDI",{"$f":"Gened!D248+'Specialed '!D248+Pension!D248","v":32215400},{"$f":"Gened!E248+'Specialed '!E248+Pension!E248","v":32842199},626798,3297,9771.1252653927804,9961.2371853199875,190.11191992720705,{"$f":"Gened!K248+'Specialed '!K248+Pension!K248","v":32413557},{"$f":"Gened!L248+'Specialed '!L248+Pension!L248","v":33585583},1172026,3297,9831.2274795268422,10186.710039429785,355.48255990294274,64628957,66427782,1798824,6594,9801.1763724598113,10073.973612374886,272.79708826205643]
[833,1,"SOUTH WASHINGTON",{"$f":"Gened!D249+'Specialed '!D249+Pension!D249","v":187656107},{"$f":"Gened!E249+'Specialed '!E249+Pension!E249","v":190899567},3243460,17903,10481.824666257053,10662.993185499638,181.16851924258481,{"$f":"Gened!K249+'Specialed '!K249+Pension!K249","v":187761730},{"$f":"Gened!L249+'Specialed '!L249+Pension!L249","v":193887141},6125411,17772,10565.030947557956,10909.697332883186,344.66638532523029,375417837,384786708,9368871,35675,10523.275038542397,10785.89230553609,262.61726699369308]
[834,1,"STILLWATER",{"$f":"Gened!D250+'Specialed '!D250+Pension!D250","v":86281361},{"$f":"Gened!E250+'Specialed '!E250+Pension!E250","v":87835214},1553853,8147,10590.568430096968,10781.295446176508,190.72701607953968,{"$f":"Gened!K250+'Specialed '!K250+Pension!K250","v":85650519},{"$f":"Gened!L250+'Specialed '!L250+Pension!L250","v":88522272},2871753,7975,10739.876990595611,11099.971410658307,360.09442006269637,171931880,176357486,4425606,16122,10664.426249844932,10938.933507009056,274.50725716412353]
[836,1,"BUTTERFIELD",{"$f":"Gened!D251+'Specialed '!D251+Pension!D251","v":2846582},{"$f":"Gened!E251+'Specialed '!E251+Pension!E251","v":2895266},48684,228,12485.008771929824,12698.535087719298,213.5263157894733,{"$f":"Gened!K251+'Specialed '!K251+Pension!K251","v":2856878},{"$f":"Gened!L251+'Specialed '!L251+Pension!L251","v":2953251},96373,228,12530.166666666666,12952.855263157895,422.68859649122896,5703460,5848517,145057,456,12507.587719298246,12825.695175438597,318.10745614035091]
[837,1,"MADELIA",{"$f":"Gened!D252+'Specialed '!D252+Pension!D252","v":6163455},{"$f":"Gened!E252+'Specialed '!E252+Pension!E252","v":6267226},103771,522,11807.385057471265,12006.180076628352,198.79501915708715,{"$f":"Gened!K252+'Specialed '!K252+Pension!K252","v":6053941},{"$f":"Gened!L252+'Specialed '!L252+Pension!L252","v":6249619},195678,504,12011.787698412698,12400.037698412698,388.25,12217396,12516845,299449,1026,11907.793372319687,12199.653996101364,291.8606237816764]
[840,1,"ST. JAMES",{"$f":"Gened!D253+'Specialed '!D253+Pension!D253","v":11038657},{"$f":"Gened!E253+'Specialed '!E253+Pension!E253","v":11247229},208571,1042,10593.720729366603,10793.885796545106,200.1650671785028,{"$f":"Gened!K253+'Specialed '!K253+Pension!K253","v":11261778},{"$f":"Gened!L253+'Specialed '!L253+Pension!L253","v":11667423},405645,1058,10644.402646502836,11027.810018903592,383.40737240075578,22300435,22914652,614216,2100,10619.254761904762,10911.739047619049,292.4838095238095]
[846,1,"BRECKENRIDGE",{"$f":"Gened!D254+'Specialed '!D254+Pension!D254","v":6877763},{"$f":"Gened!E254+'Specialed '!E254+Pension!E254","v":7009758},131995,646,10646.691950464396,10851.018575851393,204.32662538699697,{"$f":"Gened!K254+'Specialed '!K254+Pension!K254","v":6939774},{"$f":"Gened!L254+'Specialed '!L254+Pension!L254","v":7193650},253876,648,10709.527777777777,11101.311728395061,391.78395061728406,13817537,14203408,385871,1294,10678.158423493045,10976.35857805255,298.20015455950539]
[850,1,"ROTHSAY",{"$f":"Gened!D255+'Specialed '!D255+Pension!D255","v":2842052},{"$f":"Gened!E255+'Specialed '!E255+Pension!E255","v":2898361},56309,312,9109.1410256410254,9289.6185897435898,180.47756410256443,{"$f":"Gened!K255+'Specialed '!K255+Pension!K255","v":2885386},{"$f":"Gened!L255+'Specialed '!L255+Pension!L255","v":2996807},111421,314,9189.1273885350311,9543.9713375796182,354.84394904458713,5727438,5895168,167730,626,9149.2619808306717,9417.2012779552715,267.93929712460061]
[852,1,"CAMPBELL-TINTAH",{"$f":"Gened!D256+'Specialed '!D256+Pension!D256","v":2045785},{"$f":"Gened!E256+'Specialed '!E256+Pension!E256","v":2079502},33718,144,14206.840277777777,14440.986111111111,234.14583333333394,{"$f":"Gened!K256+'Specialed '!K256+Pension!K256","v":2016539},{"$f":"Gened!L256+'Specialed '!L256+Pension!L256","v":2081372},64833,141,14301.695035460993,14761.503546099291,459.80851063829869,4062324,4160874,98551,285,14253.768421052631,14599.557894736841,345.79298245614035]
[857,1,"LEWISTON",{"$f":"Gened!D257+'Specialed '!D257+Pension!D257","v":7166238},{"$f":"Gened!E257+'Specialed '!E257+Pension!E257","v":7300519},134281,715,10022.710489510489,10210.516083916084,187.80559440559409,{"$f":"Gened!K257+'Specialed '!K257+Pension!K257","v":6927522},{"$f":"Gened!L257+'Specialed '!L257+Pension!L257","v":7178631},251109,685,10113.170802919709,10479.753284671533,366.58248175182416,14093760,14479150,385390,1400,10066.971428571429,10342.25,275.27857142857141]
[858,1,"ST. CHARLES",{"$f":"Gened!D258+'Specialed '!D258+Pension!D258","v":8761630},{"$f":"Gened!E258+'Specialed '!E258+Pension!E258","v":8934912},173283,947,9251.9852164730728,9434.9651531151012,182.97993664202841,{"$f":"Gened!K258+'Specialed '!K258+Pension!K258","v":8726647},{"$f":"Gened!L258+'Specialed '!L258+Pension!L258","v":9058364},331717,951,9176.2849631966346,9525.0935856992637,348.80862250262908,17488277,17993276,505000,1898,9214.055321390937,9480.1243414120127,266.06954689146471]
[861,1,"WINONA",{"$f":"Gened!D259+'Specialed '!D259+Pension!D259","v":36040719},{"$f":"Gened!E259+'Specialed '!E259+Pension!E259","v":36706451},665730,2990,12053.752173913044,12276.405016722409,222.6528428093643,{"$f":"Gened!K259+'Specialed '!K259+Pension!K259","v":38300255},{"$f":"Gened!L259+'Specialed '!L259+Pension!L259","v":39551074},1250819,2999,12771.008669556519,13188.087362454151,417.07869289763221,74340974,76257525,1916549,5989,12412.9193521456,12732.931207213223,320.0115211220571]
[876,1,"ANNANDALE",{"$f":"Gened!D260+'Specialed '!D260+Pension!D260","v":16287658},{"$f":"Gened!E260+'Specialed '!E260+Pension!E260","v":16588454},300796,1702,9569.7168037602823,9746.4477085781436,176.7309048178613,{"$f":"Gened!K260+'Specialed '!K260+Pension!K260","v":16333149},{"$f":"Gened!L260+'Specialed '!L260+Pension!L260","v":16913206},580057,1682,9710.5523186682512,10055.413793103447,344.86147443519621,32620807,33501660,880853,3384,9639.7183806146568,9900.0177304964545,260.29934988179667]
[877,1,"BUFFALO",{"$f":"Gened!D261+'Specialed '!D261+Pension!D261","v":52963762},{"$f":"Gened!E261+'Specialed '!E261+Pension!E261","v":54091119},1127357,5613,9435.909852128987,9636.7573490112245,200.84749688223746,{"$f":"Gened!K261+'Specialed '!K261+Pension!K261","v":52480336},{"$f":"Gened!L261+'Specialed '!L261+Pension!L261","v":54497087},2016751,5499,9543.6144753591561,9910.3631569376248,366.74868157846868,105444098,108588206,3144108,11112,9489.2096832253428,9772.156767458604,282.94708423326136]
[879,1,"DELANO",{"$f":"Gened!D262+'Specialed '!D262+Pension!D262","v":23198244},{"$f":"Gened!E262+'Specialed '!E262+Pension!E262","v":23648870},450627,2468,9399.6126418152344,9582.2001620745541,182.58752025931972,{"$f":"Gened!K262+'Specialed '!K262+Pension!K262","v":23394202},{"$f":"Gened!L262+'Specialed '!L262+Pension!L262","v":24237590},843388,2468,9479.0121555915721,9820.7414910858988,341.72933549432673,46592446,47886460,1294015,4936,9439.3123987034032,9701.4708265802274,262.15863047001619]
[881,1,"MAPLE LAKE",{"$f":"Gened!D263+'Specialed '!D263+Pension!D263","v":7942280},{"$f":"Gened!E263+'Specialed '!E263+Pension!E263","v":8103251},160971,830,9569.0120481927715,9762.9530120481922,193.9409638554207,{"$f":"Gened!K263+'Specialed '!K263+Pension!K263","v":7919454},{"$f":"Gened!L263+'Specialed '!L263+Pension!L263","v":8217921},298467,819,9669.6630036630031,10034.091575091576,364.42857142857247,15861734,16321172,459438,1649,9619.0018192844145,9897.6179502728919,278.61613098847789]
[882,1,"MONTICELLO",{"$f":"Gened!D264+'Specialed '!D264+Pension!D264","v":36675557},{"$f":"Gened!E264+'Specialed '!E264+Pension!E264","v":37354814},679256,4057,9040.0682770520089,9207.4966724180431,167.42839536603424,{"$f":"Gened!K264+'Specialed '!K264+Pension!K264","v":36688243},{"$f":"Gened!L264+'Specialed '!L264+Pension!L264","v":38058465},1370222,4027,9110.5644400297988,9450.823193444252,340.25875341445317,73363800,75413279,2049478,8084,9075.1855517070762,9328.7084364176153,253.52276100940128]
[883,1,"ROCKFORD",{"$f":"Gened!D265+'Specialed '!D265+Pension!D265","v":15553482},{"$f":"Gened!E265+'Specialed '!E265+Pension!E265","v":15853457},299975,1695,9176.0955752212394,9353.0719764011792,176.97640117993978,{"$f":"Gened!K265+'Specialed '!K265+Pension!K265","v":15726925},{"$f":"Gened!L265+'Specialed '!L265+Pension!L265","v":16308010},581085,1700,9251.1323529411766,9592.947058823529,341.81470588235243,31280407,32161467,881060,3395,9213.6692194403531,9473.1861561119294,259.51693667157582]
[885,1,"ST. MICHAEL-ALBE",{"$f":"Gened!D266+'Specialed '!D266+Pension!D266","v":53039227},{"$f":"Gened!E266+'Specialed '!E266+Pension!E266","v":54127846},1088619,6291,8430.9691622953433,8604.0130344937206,173.04387219837736,{"$f":"Gened!K266+'Specialed '!K266+Pension!K266","v":53995129},{"$f":"Gened!L266+'Specialed '!L266+Pension!L266","v":56097881},2102752,6369,8477.8032658188095,8807.9574501491606,330.1541843303512,107034356,110225727,3191371,12660,8454.5304897314381,8706.6135071090048,252.08301737756713]
[891,1,"CANBY",{"$f":"Gened!D267+'Specialed '!D267+Pension!D267","v":5493713},{"$f":"Gened!E267+'Specialed '!E267+Pension!E267","v":5593474},99760,501,{"$f":"D267/G267","v":10965.495009980041},{"$f":"E267/G267","v":11164.618762475049},{"$f":"I267-H267","v":199.12375249500838},{"$f":"Gened!K267+'Specialed '!K267+Pension!K267","v":5463135},{"$f":"Gened!L267+'Specialed '!L267+Pension!L267","v":5654932},{"$f":"L267-K267","v":191797},492,{"$f":"K267/N267","v":11103.932926829268},{"$f":"L267/N267","v":11493.764227642276},{"$f":"P267-O267","v":389.83130081300806},{"$f":"D267+K267","v":10956848},{"$f":"E267+L267","v":11248406},{"$f":"F267+M267","v":291557},993,{"$f":"R267/U267","v":11034.086606243705},{"$f":"S267/U267","v":11327.699899295065},{"$f":"T267/U267","v":293.61228600201412}]
[911,1,"CAMBRIDGE-ISANTI",{"$f":"Gened!D268+'Specialed '!D268+Pension!D268","v":47484755},{"$f":"Gened!E268+'Specialed '!E268+Pension!E268","v":48492293},1007537,5001,9495.0519896020796,9696.519296140772,201.46730653869236,{"$f":"Gened!K268+'Specialed '!K268+Pension!K268","v":47599396},{"$f":"Gened!L268+'Specialed '!L268+Pension!L268","v":49455508},1856112,4975,9567.717788944723,9940.8056281407044,373.08783919598136,95084151,97947801,2863649,9976,9531.2901964715311,9818.3441259021656,287.05382919005615]
[912,1,"MILACA",{"$f":"Gened!D269+'Specialed '!D269+Pension!D269","v":17518570},{"$f":"Gened!E269+'Specialed '!E269+Pension!E269","v":17870545},351975,1792,9775.9877232142862,9972.40234375,196.41462053571377,{"$f":"Gened!K269+'Specialed '!K269+Pension!K269","v":17505311},{"$f":"Gened!L269+'Specialed '!L269+Pension!L269","v":18175825},670514,1784,9812.394058295964,10188.242713004483,375.84865470851946,35023881,36046370,1022489,3576,9794.1501677852357,10080.081096196867,285.93092841163309]
[914,1,"ULEN-HITTERDAL",{"$f":"Gened!D270+'Specialed '!D270+Pension!D270","v":3175945},{"$f":"Gened!E270+'Specialed '!E270+Pension!E270","v":3233392},57447,274,11591.040145985402,11800.700729927008,209.66058394160609,{"$f":"Gened!K270+'Specialed '!K270+Pension!K270","v":3132420},{"$f":"Gened!L270+'Specialed '!L270+Pension!L270","v":3235428},103008,269,11644.684014869888,12027.613382899628,382.92936802973963,6308365,6468820,160455,543,11617.615101289135,11913.112338858195,295.49723756906076]
[2071,1,"LAKE CRYSTAL-WEL",{"$f":"Gened!D271+'Specialed '!D271+Pension!D271","v":8483454},{"$f":"Gened!E271+'Specialed '!E271+Pension!E271","v":8641324},157870,907,9353.3120176405737,9527.3693495038588,174.05733186328507,{"$f":"Gened!K271+'Specialed '!K271+Pension!K271","v":8628630},{"$f":"Gened!L271+'Specialed '!L271+Pension!L271","v":8937999},309369,914,9440.5142231947484,9778.9923413566739,338.47811816192552,17112084,17579323,467239,1821,9397.0807248764413,9653.6644700713896,256.58374519494782]
[2125,1,"TRITON",{"$f":"Gened!D272+'Specialed '!D272+Pension!D272","v":11017879},{"$f":"Gened!E272+'Specialed '!E272+Pension!E272","v":11237503},219624,1200,9181.565833333334,9364.5858333333326,183.01999999999862,{"$f":"Gened!K272+'Specialed '!K272+Pension!K272","v":11122699},{"$f":"Gened!L272+'Specialed '!L272+Pension!L272","v":11551060},428361,1204,9238.1220930232557,9593.9036544850496,355.7815614617939,22140578,22788563,647985,2404,9209.8910149750409,9479.4355241264566,269.54450915141433]
[2134,1,"UNITED SOUTH CENTRAL",{"$f":"Gened!D273+'Specialed '!D273+Pension!D273","v":7897739},{"$f":"Gened!E273+'Specialed '!E273+Pension!E273","v":8031775},134035,691,11429.434153400869,11623.408104196817,193.97395079594753,{"$f":"Gened!K273+'Specialed '!K273+Pension!K273","v":7906940},{"$f":"Gened!L273+'Specialed '!L273+Pension!L273","v":8176962},270022,681,11610.778267254038,12007.286343612335,396.50807635829733,15804679,16208737,404057,1372,11519.445335276969,11813.948250728863,294.50218658892129]
[2135,1,"MAPLE RIVER",{"$f":"Gened!D274+'Specialed '!D274+Pension!D274","v":10176571},{"$f":"Gened!E274+'Specialed '!E274+Pension!E274","v":10350393},173821,945,10768.858201058201,10952.796825396825,183.93862433862341,{"$f":"Gened!K274+'Specialed '!K274+Pension!K274","v":10047912},{"$f":"Gened!L274+'Specialed '!L274+Pension!L274","v":10376414},328502,914,10993.339168490153,11352.750547045951,359.41137855579836,20224483,20726807,502323,1859,10879.227003765465,11149.438945669715,270.21140398063477]
[2137,1,"KINGSLAND",{"$f":"Gened!D275+'Specialed '!D275+Pension!D275","v":5830219},{"$f":"Gened!E275+'Specialed '!E275+Pension!E275","v":5943016},112797,622,9373.3424437299036,9554.6881028938915,181.34565916398788,{"$f":"Gened!K275+'Specialed '!K275+Pension!K275","v":5999537},{"$f":"Gened!L275+'Specialed '!L275+Pension!L275","v":6220291},220754,633,9477.9415481832548,9826.6840442338071,348.74249605055229,11829756,12163307,333551,1255,9426.1003984063736,9691.878087649402,265.77768924302791]
[2142,1,"ST. LOUIS COUNTY",{"$f":"Gened!D276+'Specialed '!D276+Pension!D276","v":22191070},{"$f":"Gened!E276+'Specialed '!E276+Pension!E276","v":22589604},398535,1839,12066.922240348014,12283.634584013051,216.71234366503631,{"$f":"Gened!K276+'Specialed '!K276+Pension!K276","v":22242787},{"$f":"Gened!L276+'Specialed '!L276+Pension!L276","v":22992572},749785,1815,12254.979063360881,12668.083746556475,413.10468319559368,44433857,45582176,1148320,3654,12160.333059660647,12474.596606458676,314.26382047071701]
[2143,1,"WATERVILLE-ELYSIAN-MORRISTOWN",{"$f":"Gened!D277+'Specialed '!D277+Pension!D277","v":8199560},{"$f":"Gened!E277+'Specialed '!E277+Pension!E277","v":8343864},144304,771,10634.96757457847,10822.132295719844,187.16472114137468,{"$f":"Gened!K277+'Specialed '!K277+Pension!K277","v":8238946},{"$f":"Gened!L277+'Specialed '!L277+Pension!L277","v":8517982},279036,771,10686.051880674449,11047.966277561609,361.91439688715946,16438506,16861846,423340,1542,10660.509727626459,10935.049286640726,274.53955901426718]
[2144,1,"CHISAGO LAKES AREA",{"$f":"Gened!D278+'Specialed '!D278+Pension!D278","v":33799932},{"$f":"Gened!E278+'Specialed '!E278+Pension!E278","v":34451666},651735,3375,10014.794666666667,10207.901037037038,193.10637037037122,{"$f":"Gened!K278+'Specialed '!K278+Pension!K278","v":33623593},{"$f":"Gened!L278+'Specialed '!L278+Pension!L278","v":34826066},1202473,3325,10112.358796992481,10474.004812030074,361.64601503759332,67423525,69277732,1854208,6700,10063.212686567163,10339.959999999999,276.74746268656719]
[2149,1,"MINNEWASKA",{"$f":"Gened!D279+'Specialed '!D279+Pension!D279","v":14789553},{"$f":"Gened!E279+'Specialed '!E279+Pension!E279","v":15005313},215760,1193,12396.943000838222,12577.797988264878,180.8549874266555,{"$f":"Gened!K279+'Specialed '!K279+Pension!K279","v":15008675},{"$f":"Gened!L279+'Specialed '!L279+Pension!L279","v":15442728},434053,1192,12591.170302013423,12955.308724832215,364.13842281879261,29798228,30448041,649813,2385,12494.015932914046,12766.474213836478,272.45828092243187]
[2154,1,"EVELETH-GILBERT",{"$f":"Gened!D280+'Specialed '!D280+Pension!D280","v":8942368},{"$f":"Gened!E280+'Specialed '!E280+Pension!E280","v":9118519},176151,940,9513.1574468085109,9700.5521276595737,187.39468085106273,{"$f":"Gened!K280+'Specialed '!K280+Pension!K280","v":9061588},{"$f":"Gened!L280+'Specialed '!L280+Pension!L280","v":9403872},342284,955,9488.5738219895284,9846.9863874345556,358.41256544502721,18003956,18522391,518435,1895,9500.7683377308713,9774.3488126649081,273.58047493403694]
[2155,1,"WADENA-DEER CREEK",{"$f":"Gened!D281+'Specialed '!D281+Pension!D281","v":10060400},{"$f":"Gened!E281+'Specialed '!E281+Pension!E281","v":10270846},210446,1032,9748.4496124031011,9952.3701550387595,203.92054263565842,{"$f":"Gened!K281+'Specialed '!K281+Pension!K281","v":10010404},{"$f":"Gened!L281+'Specialed '!L281+Pension!L281","v":10403922},393518,1013,9881.938795656466,10270.406712734452,388.46791707798548,20070804,20674768,603964,2045,9814.5740831295843,10109.911002444987,295.33691931540341]
[2159,1,"BUFFALO LAKE-HECTOR",{"$f":"Gened!D282+'Specialed '!D282+Pension!D282","v":5823540},{"$f":"Gened!E282+'Specialed '!E282+Pension!E282","v":5932175},108634,556,10473.992805755395,10669.379496402878,195.38669064748319,{"$f":"Gened!K282+'Specialed '!K282+Pension!K282","v":5867048},{"$f":"Gened!L282+'Specialed '!L282+Pension!L282","v":6077741},210693,556,10552.244604316547,10931.188848920863,378.94424460431583,11690588,12009916,319327,1112,10513.118705035971,10800.28417266187,287.16456834532374]
[2164,1,"DILWORTH-GLYNDON",{"$f":"Gened!D283+'Specialed '!D283+Pension!D283","v":15528748},{"$f":"Gened!E283+'Specialed '!E283+Pension!E283","v":15823148},294400,1690,9188.6082840236686,9362.8094674556214,174.20118343195281,{"$f":"Gened!K283+'Specialed '!K283+Pension!K283","v":16007628},{"$f":"Gened!L283+'Specialed '!L283+Pension!L283","v":16597546},589918,1733,9236.9463358338144,9577.3491055972299,340.40276976341556,31536376,32420694,884318,3423,9213.0809231668136,9471.426818580192,258.34589541338005]
[2165,1,"HINCKLEY-FINLAYS",{"$f":"Gened!D284+'Specialed '!D284+Pension!D284","v":10173322},{"$f":"Gened!E284+'Specialed '!E284+Pension!E284","v":10385782},212461,972,10466.380658436214,10684.960905349793,218.58024691357969,{"$f":"Gened!K284+'Specialed '!K284+Pension!K284","v":10045809},{"$f":"Gened!L284+'Specialed '!L284+Pension!L284","v":10441276},395467,941,10675.673751328373,11095.936238044633,420.26248671625945,20219131,20827058,607928,1913,10569.331416623105,10887.118661787768,317.78776790381602]
[2167,1,"LAKEVIEW",{"$f":"Gened!D285+'Specialed '!D285+Pension!D285","v":6162260},{"$f":"Gened!E285+'Specialed '!E285+Pension!E285","v":6280450},118191,642,9598.535825545172,9782.6323987538944,184.09657320872248,{"$f":"Gened!K285+'Specialed '!K285+Pension!K285","v":6084622},{"$f":"Gened!L285+'Specialed '!L285+Pension!L285","v":6311815},227193,629,9673.4848966613681,10034.682034976153,361.19713831478475,12246882,12592265,345384,1271,9635.6270653029114,9907.3682140047204,271.74193548387098]
[2168,1,"NRHEG",{"$f":"Gened!D286+'Specialed '!D286+Pension!D286","v":8783371},{"$f":"Gened!E286+'Specialed '!E286+Pension!E286","v":8951873},168502,927,9475.0496224379713,9656.8209277238402,181.77130528586895,{"$f":"Gened!K286+'Specialed '!K286+Pension!K286","v":8698658},{"$f":"Gened!L286+'Specialed '!L286+Pension!L286","v":9020102},321444,904,9622.4092920353978,9977.9889380530967,355.57964601769891,17482029,17971975,489946,1831,9547.8039322774439,9815.3877662479517,267.5838339705079]
[2169,1,"MURRAY COUNTY",{"$f":"Gened!D287+'Specialed '!D287+Pension!D287","v":7534814},{"$f":"Gened!E287+'Specialed '!E287+Pension!E287","v":7666085},131270,726,10378.531680440772,10559.345730027548,180.81404958677558,{"$f":"Gened!K287+'Specialed '!K287+Pension!K287","v":7570205},{"$f":"Gened!L287+'Specialed '!L287+Pension!L287","v":7825285},255080,726,10427.279614325069,10778.629476584021,351.34986225895227,15105019,15491370,386350,1452,10402.905647382921,10668.987603305784,266.08126721763085]
[2170,1,"STAPLES-MOTLEY",{"$f":"Gened!D288+'Specialed '!D288+Pension!D288","v":12042200},{"$f":"Gened!E288+'Specialed '!E288+Pension!E288","v":12269010},226810,1130,10656.814159292035,10857.530973451327,200.71681415929197,{"$f":"Gened!K288+'Specialed '!K288+Pension!K288","v":12050755},{"$f":"Gened!L288+'Specialed '!L288+Pension!L288","v":12483034},432279,1125,10711.782222222222,11096.030222222222,384.24799999999959,24092955,24752044,659089,2255,10684.237250554324,10976.516186252771,292.27893569844787]
[2171,1,"KITTSON CENTRAL",{"$f":"Gened!D289+'Specialed '!D289+Pension!D289","v":3492884},{"$f":"Gened!E289+'Specialed '!E289+Pension!E289","v":3550899},58015,249,14027.646586345381,14260.638554216868,232.99196787148685,{"$f":"Gened!K289+'Specialed '!K289+Pension!K289","v":3389785},{"$f":"Gened!L289+'Specialed '!L289+Pension!L289","v":3495902},106117,239,14183.200836820084,14627.205020920503,444.00418410041857,6882669,7046801,164132,488,14103.829918032787,14440.165983606557,336.3360655737705]
[2172,1,"KENYON-WANAMINGO",{"$f":"Gened!D290+'Specialed '!D290+Pension!D290","v":7920081},{"$f":"Gened!E290+'Specialed '!E290+Pension!E290","v":8064506},144424,789,10038.125475285171,10221.173637515843,183.04816223067246,{"$f":"Gened!K290+'Specialed '!K290+Pension!K290","v":7820255},{"$f":"Gened!L290+'Specialed '!L290+Pension!L290","v":8095629},275374,774,10103.688630490957,10459.468992248061,355.7803617571044,15740336,16160135,419798,1563,10070.592450415867,10339.177863083813,268.58477287268073]
[2174,1,"PINE RIVER-BACKU",{"$f":"Gened!D291+'Specialed '!D291+Pension!D291","v":10085720},{"$f":"Gened!E291+'Specialed '!E291+Pension!E291","v":10284994},199275,974,10354.948665297741,10559.542094455852,204.59342915811067,{"$f":"Gened!K291+'Specialed '!K291+Pension!K291","v":10336583},{"$f":"Gened!L291+'Specialed '!L291+Pension!L291","v":10723512},386929,993,10409.449144008056,10799.105740181269,389.65659617321217,20422303,21008506,586204,1967,10382.462125063548,10680.480935434673,298.01931875953227]
[2176,1,"WARREN-ALVARADO-",{"$f":"Gened!D292+'Specialed '!D292+Pension!D292","v":6038097},{"$f":"Gened!E292+'Specialed '!E292+Pension!E292","v":6143028},104931,462,13069.474025974027,13296.597402597403,227.12337662337632,{"$f":"Gened!K292+'Specialed '!K292+Pension!K292","v":6124007},{"$f":"Gened!L292+'Specialed '!L292+Pension!L292","v":6327270},203263,467,13113.505353319058,13548.758029978586,435.25267665952742,12162104,12470298,308194,929,13091.608180839612,13423.356297093649,331.74811625403657]
[2180,1,"MACCRAY",{"$f":"Gened!D293+'Specialed '!D293+Pension!D293","v":7499708},{"$f":"Gened!E293+'Specialed '!E293+Pension!E293","v":7632756},133048,673,11143.696879643388,11341.390787518574,197.69390787518569,{"$f":"Gened!K293+'Specialed '!K293+Pension!K293","v":7464103},{"$f":"Gened!L293+'Specialed '!L293+Pension!L293","v":7720255},256152,661,11292.137670196671,11679.659606656582,387.52193645991065,14963811,15353011,389200,1334,11217.249625187405,11509.003748125937,291.75412293853071]
[2184,1,"LUVERNE",{"$f":"Gened!D294+'Specialed '!D294+Pension!D294","v":12194691},{"$f":"Gened!E294+'Specialed '!E294+Pension!E294","v":12425616},230925,1194,10213.309045226131,10406.713567839195,193.40452261306382,{"$f":"Gened!K294+'Specialed '!K294+Pension!K294","v":12207481},{"$f":"Gened!L294+'Specialed '!L294+Pension!L294","v":12634792},427311,1187,10284.314237573715,10644.306655433867,359.99241786015227,24402172,25060408,658236,2381,10248.707265854682,10525.160856782864,276.45359092818143]
[2190,1,"YELLOW MEDICINE EAST",{"$f":"Gened!D295+'Specialed '!D295+Pension!D295","v":8637040},{"$f":"Gened!E295+'Specialed '!E295+Pension!E295","v":8806195},169154,753,11470.172642762283,11694.814077025232,224.64143426294868,{"$f":"Gened!K295+'Specialed '!K295+Pension!K295","v":8556920},{"$f":"Gened!L295+'Specialed '!L295+Pension!L295","v":8857962},301042,729,11737.887517146777,12150.839506172839,412.95198902606171,17193960,17664157,470196,1482,11601.862348178138,11919.134278002699,317.27125506072872]
[2198,1,"FILLMORE CENTRAL",{"$f":"Gened!D296+'Specialed '!D296+Pension!D296","v":6365668},{"$f":"Gened!E296+'Specialed '!E296+Pension!E296","v":6478997},113329,627,10152.580542264754,10333.328548644338,180.74800637958469,{"$f":"Gened!K296+'Specialed '!K296+Pension!K296","v":6220169},{"$f":"Gened!L296+'Specialed '!L296+Pension!L296","v":6435295},215126,606,10264.305280528053,10619.298679867987,354.9933993399336,12585837,12914292,328455,1233,10207.491484184915,10473.878345498784,266.38686131386862]
[2215,1,"NORMAN COUNTY EAST",{"$f":"Gened!D297+'Specialed '!D297+Pension!D297","v":3686101},{"$f":"Gened!E297+'Specialed '!E297+Pension!E297","v":3755977},69876,283,13025.09187279152,13272.003533568904,246.9116607773849,{"$f":"Gened!K297+'Specialed '!K297+Pension!K297","v":3725826},{"$f":"Gened!L297+'Specialed '!L297+Pension!L297","v":3853391},127565,287,12981.972125435541,13426.449477351916,444.47735191637548,7411927,7609368,197441,570,13003.380701754386,13349.768421052631,346.3877192982456]
[2310,1,"SIBLEY EAST",{"$f":"Gened!D298+'Specialed '!D298+Pension!D298","v":11238022},{"$f":"Gened!E298+'Specialed '!E298+Pension!E298","v":11474256},236233,1182,9507.6328257191199,9707.4923857868016,199.85956006768174,{"$f":"Gened!K298+'Specialed '!K298+Pension!K298","v":11161087},{"$f":"Gened!L298+'Specialed '!L298+Pension!L298","v":11604219},443132,1159,9629.9283865401212,10012.268334771356,382.3399482312343,22399109,23078475,679365,2341,9568.1798376762072,9858.3831695856479,290.20290474156343]
[2311,1,"CLEARBROOK-GONVICK",{"$f":"Gened!D299+'Specialed '!D299+Pension!D299","v":4854078},{"$f":"Gened!E299+'Specialed '!E299+Pension!E299","v":4939788},85711,422,11502.554502369669,11705.658767772511,203.10426540284243,{"$f":"Gened!K299+'Specialed '!K299+Pension!K299","v":4826839},{"$f":"Gened!L299+'Specialed '!L299+Pension!L299","v":4992421},165582,417,11575.153477218226,11972.232613908873,397.07913669064692,9680917,9932209,251293,839,11538.637663885578,11838.151370679379,299.51489868891537]
[2342,1,"WEST CENTRAL AREA",{"$f":"Gened!D300+'Specialed '!D300+Pension!D300","v":8029362},{"$f":"Gened!E300+'Specialed '!E300+Pension!E300","v":8173672},144310,719,11167.401947148817,11368.111265646732,200.70931849791486,{"$f":"Gened!K300+'Specialed '!K300+Pension!K300","v":8070448},{"$f":"Gened!L300+'Specialed '!L300+Pension!L300","v":8345367},274919,721,11193.409153952844,11574.711511789181,381.30235783633725,16099810,16519039,419229,1440,11180.423611111111,11471.554861111112,291.13125000000002]
[2358,1,"TRI-COUNTY",{"$f":"Gened!D301+'Specialed '!D301+Pension!D301","v":2971491},{"$f":"Gened!E301+'Specialed '!E301+Pension!E301","v":3024863},53372,191,15557.5445026178,15836.979057591623,279.43455497382274,{"$f":"Gened!K301+'Specialed '!K301+Pension!K301","v":2961584},{"$f":"Gened!L301+'Specialed '!L301+Pension!L301","v":3065174},103590,194,15265.896907216495,15799.865979381444,533.96907216494947,5933075,6090037,156962,385,15410.584415584415,15818.277922077921,407.6935064935065]
[2364,1,"BELGRADE-BROOTEN-ELR",{"$f":"Gened!D302+'Specialed '!D302+Pension!D302","v":5968926},{"$f":"Gened!E302+'Specialed '!E302+Pension!E302","v":6089181},120254,590,10116.823728813559,10320.645762711865,203.82203389830647,{"$f":"Gened!K302+'Specialed '!K302+Pension!K302","v":5816291},{"$f":"Gened!L302+'Specialed '!L302+Pension!L302","v":6040855},224564,565,10294.320353982301,10691.778761061947,397.45840707964635,11785217,12130036,344818,1155,10203.651082251083,10502.19567099567,298.54372294372297]
[2365,1,"G.F.W.",{"$f":"Gened!D303+'Specialed '!D303+Pension!D303","v":8140609},{"$f":"Gened!E303+'Specialed '!E303+Pension!E303","v":8302471},161861,780,10436.678205128204,10644.193589743591,207.51538461538621,{"$f":"Gened!K303+'Specialed '!K303+Pension!K303","v":8093192},{"$f":"Gened!L303+'Specialed '!L303+Pension!L303","v":8395180},301988,763,10607.066841415466,11002.857142857143,395.790301441677,16233801,16697651,463849,1543,10520.933895009721,10821.54957874271,300.61503564484769]
[2396,1,"A.C.G.C.",{"$f":"Gened!D304+'Specialed '!D304+Pension!D304","v":7895625},{"$f":"Gened!E304+'Specialed '!E304+Pension!E304","v":8048012},152387,752,10499.501329787234,10702.143617021276,202.64228723404267,{"$f":"Gened!K304+'Specialed '!K304+Pension!K304","v":7837946},{"$f":"Gened!L304+'Specialed '!L304+Pension!L304","v":8127439},289493,737,10634.933514246946,11027.732700135684,392.79918588873807,15733571,16175451,441880,1489,10566.535258562793,10863.298186702485,296.76292813969104]
[2397,1,"LESUEUR-HENDERSO",{"$f":"Gened!D305+'Specialed '!D305+Pension!D305","v":9821580},{"$f":"Gened!E305+'Specialed '!E305+Pension!E305","v":10017124},195544,975,10073.415384615384,10273.973333333333,200.55794871794933,{"$f":"Gened!K305+'Specialed '!K305+Pension!K305","v":9710683},{"$f":"Gened!L305+'Specialed '!L305+Pension!L305","v":10067299},356616,964,10073.322614107883,10443.25622406639,369.93360995850708,19532263,20084423,552160,1939,10073.369262506447,10358.134605466736,284.76534296028882]
[2448,1,"MARTIN COUNTY",{"$f":"Gened!D306+'Specialed '!D306+Pension!D306","v":7678219},{"$f":"Gened!E306+'Specialed '!E306+Pension!E306","v":7812398},134179,730,10518.108219178082,10701.91506849315,183.80684931506767,{"$f":"Gened!K306+'Specialed '!K306+Pension!K306","v":7561472},{"$f":"Gened!L306+'Specialed '!L306+Pension!L306","v":7822541},261069,710,10649.960563380282,11017.66338028169,367.70281690140837,15239691,15634939,395248,1440,10583.11875,10857.596527777778,274.47777777777776]
[2527,1,"NORMAN CTY WEST",{"$f":"Gened!D307+'Specialed '!D307+Pension!D307","v":2976810},{"$f":"Gened!E307+'Specialed '!E307+Pension!E307","v":3034384},57575,235,12667.276595744681,12912.272340425532,244.9957446808512,{"$f":"Gened!K307+'Specialed '!K307+Pension!K307","v":2955685},{"$f":"Gened!L307+'Specialed '!L307+Pension!L307","v":3061686},106001,231,12795.173160173161,13254.051948051949,458.87878787878799,5932495,6096070,163576,466,12730.675965665236,13081.695278969957,351.0214592274678]
[2534,1,"BIRD ISLAND-OLIVIA-LAKE LILLIAN",{"$f":"Gened!D308+'Specialed '!D308+Pension!D308","v":6645420},{"$f":"Gened!E308+'Specialed '!E308+Pension!E308","v":6775154},129735,687,9673.1004366812231,9861.9417758369727,188.84133915574967,{"$f":"Gened!K308+'Specialed '!K308+Pension!K308","v":6667058},{"$f":"Gened!L308+'Specialed '!L308+Pension!L308","v":6919358},252300,683,9761.4319180087841,10130.831625183017,369.39970717423239,13312478,13694512,382035,1370,9717.137226277373,9995.9941605839413,278.85766423357666]
[2536,1,"GRANADA HUNTLEY-",{"$f":"Gened!D309+'Specialed '!D309+Pension!D309","v":3001033},{"$f":"Gened!E309+'Specialed '!E309+Pension!E309","v":3046952},45919,247,12149.931174089068,12335.838056680162,185.90688259109447,{"$f":"Gened!K309+'Specialed '!K309+Pension!K309","v":2974031},{"$f":"Gened!L309+'Specialed '!L309+Pension!L309","v":3063890},89859,246,12089.556910569107,12454.837398373984,365.28048780487734,5975064,6110842,135778,493,12119.805273833672,12395.217038539553,275.41176470588238]
[2580,1,"EAST CENTRAL",{"$f":"Gened!D310+'Specialed '!D310+Pension!D310","v":7893798},{"$f":"Gened!E310+'Specialed '!E310+Pension!E310","v":8050096},156298,720,10963.608333333334,11180.68888888889,217.0805555555562,{"$f":"Gened!K310+'Specialed '!K310+Pension!K310","v":7809754},{"$f":"Gened!L310+'Specialed '!L310+Pension!L310","v":8110122},300368,696,11220.910919540231,11652.474137931034,431.56321839080374,15703552,16160218,456666,1416,11090.079096045198,11412.583333333334,322.50423728813558]
[2609,1,"WIN-E-MAC",{"$f":"Gened!D311+'Specialed '!D311+Pension!D311","v":4557159},{"$f":"Gened!E311+'Specialed '!E311+Pension!E311","v":4644700},87541,422,10798.954976303317,11006.398104265403,207.44312796208578,{"$f":"Gened!K311+'Specialed '!K311+Pension!K311","v":4547336},{"$f":"Gened!L311+'Specialed '!L311+Pension!L311","v":4711987},164651,418,10878.794258373206,11272.696172248803,393.90191387559753,9104495,9356687,252192,840,10838.684523809523,11138.913095238095,300.22857142857146]
[2683,1,"GREENBUSH-MIDDLE RIV",{"$f":"Gened!D312+'Specialed '!D312+Pension!D312","v":4870716},{"$f":"Gened!E312+'Specialed '!E312+Pension!E312","v":4961892},91175,380,12817.673684210526,13057.61052631579,239.93684210526408,{"$f":"Gened!K312+'Specialed '!K312+Pension!K312","v":4866846},{"$f":"Gened!L312+'Specialed '!L312+Pension!L312","v":5041974},175128,379,12841.282321899736,13303.36147757256,462.07915567282362,9737562,10003866,266303,759,12829.462450592886,13180.324110671936,350.86034255599475]
[2687,1,"HOWARD LAKE-WAVERLY-WINSTED",{"$f":"Gened!D313+'Specialed '!D313+Pension!D313","v":10883305},{"$f":"Gened!E313+'Specialed '!E313+Pension!E313","v":11091704},208399,1161,9374.0783807062871,9553.5779500430672,179.49956933678004,{"$f":"Gened!K313+'Specialed '!K313+Pension!K313","v":11144669},{"$f":"Gened!L313+'Specialed '!L313+Pension!L313","v":11550334},405665,1178,9460.6697792869272,9805.037351443123,344.36757215619582,22027974,22642038,614064,2339,9417.6887558785802,9680.2214621633175,262.53270628473706]
[2689,1,"PIPESTONE-JASPER",{"$f":"Gened!D314+'Specialed '!D314+Pension!D314","v":12328897},{"$f":"Gened!E314+'Specialed '!E314+Pension!E314","v":12546951},218054,1145,10767.595633187773,10958.035807860262,190.44017467248887,{"$f":"Gened!K314+'Specialed '!K314+Pension!K314","v":12435039},{"$f":"Gened!L314+'Specialed '!L314+Pension!L314","v":12859027},423988,1143,10879.299212598426,11250.242344706912,370.94313210848668,24763936,25405978,642042,2288,10823.398601398601,11104.011363636364,280.61276223776224]
[2711,1,"MESABI EAST",{"$f":"Gened!D315+'Specialed '!D315+Pension!D315","v":9522295},{"$f":"Gened!E315+'Specialed '!E315+Pension!E315","v":9711935},189640,923,10316.679306608885,10522.139761646804,205.46045503791902,{"$f":"Gened!K315+'Specialed '!K315+Pension!K315","v":9599013},{"$f":"Gened!L315+'Specialed '!L315+Pension!L315","v":9947503},348490,921,10422.381107491856,10800.763300760043,378.38219326818762,19121308,19659438,538130,1844,10369.472885032537,10661.300433839479,291.82754880694142]
[2752,1,"FAIRMONT AREA SCHOOLS",{"$f":"Gened!D316+'Specialed '!D316+Pension!D316","v":17294869},{"$f":"Gened!E316+'Specialed '!E316+Pension!E316","v":17615124},320255,1718,10066.862048894063,10253.273573923167,186.41152502910336,{"$f":"Gened!K316+'Specialed '!K316+Pension!K316","v":18382039},{"$f":"Gened!L316+'Specialed '!L316+Pension!L316","v":19007882},625843,1706,10774.934935521687,11141.783118405627,366.84818288393944,35676908,36623006,946098,3424,10419.657710280373,10695.971378504673,276.31366822429908]
[2753,1,"LONG PRAIRIE-GREY EA",{"$f":"Gened!D317+'Specialed '!D317+Pension!D317","v":9555274},{"$f":"Gened!E317+'Specialed '!E317+Pension!E317","v":9751096},195821,888,10760.443693693695,10980.963963963964,220.52027027026998,{"$f":"Gened!K317+'Specialed '!K317+Pension!K317","v":9660716},{"$f":"Gened!L317+'Specialed '!L317+Pension!L317","v":10031740},371024,893,10818.270996640538,11233.751399776036,415.48040313549791,19215990,19782836,566845,1781,10789.438517686693,11107.712521055586,318.2734418865806]
[2754,1,"CEDAR MOUNTAIN",{"$f":"Gened!D318+'Specialed '!D318+Pension!D318","v":5368782},{"$f":"Gened!E318+'Specialed '!E318+Pension!E318","v":5454422},85640,493,10890.024340770791,11063.736308316429,173.71196754563789,{"$f":"Gened!K318+'Specialed '!K318+Pension!K318","v":5315140},{"$f":"Gened!L318+'Specialed '!L318+Pension!L318","v":5489523},174383,480,11073.208333333334,11436.50625,363.29791666666642,10683922,10943945,260023,973,10980.39260020555,11247.631038026722,267.23843782117166]
[2759,1,"EAGLE BEND-CLARISSA",{"$f":"Gened!D319+'Specialed '!D319+Pension!D319","v":2253542},{"$f":"Gened!E319+'Specialed '!E319+Pension!E319","v":2300251},46709,226,9971.424778761062,10178.101769911504,206.67699115044161,{"$f":"Gened!K319+'Specialed '!K319+Pension!K319","v":2270101},{"$f":"Gened!L319+'Specialed '!L319+Pension!L319","v":2358167},88066,226,10044.694690265487,10434.367256637168,389.67256637168066,4523643,4658418,134775,452,10008.059734513274,10306.234513274336,298.17477876106193]
[2769,1,"MORRIS AREA PUBLIC SCHOOLS",{"$f":"Gened!D320+'Specialed '!D320+Pension!D320","v":9527281},{"$f":"Gened!E320+'Specialed '!E320+Pension!E320","v":9716720},189439,965,9872.8300518134711,10069.139896373057,196.30984455958605,{"$f":"Gened!K320+'Specialed '!K320+Pension!K320","v":9764094},{"$f":"Gened!L320+'Specialed '!L320+Pension!L320","v":10122874},358780,979,9973.5383043922375,10340.014300306435,366.47599591419748,19291375,19839594,548219,1944,9923.5468106995886,10205.552469135802,282.00565843621399]
[2805,1,"ZUMBROTA-MAZEPPA",{"$f":"Gened!D321+'Specialed '!D321+Pension!D321","v":11029977},{"$f":"Gened!E321+'Specialed '!E321+Pension!E321","v":11226025},196048,1136,9709.4867957746483,9882.0642605633802,172.57746478873196,{"$f":"Gened!K321+'Specialed '!K321+Pension!K321","v":11050907},{"$f":"Gened!L321+'Specialed '!L321+Pension!L321","v":11430196},379289,1128,9796.9033687943265,10133.152482269503,336.24911347517627,22080884,22656221,575337,2264,9753.0406360424022,10007.164752650177,254.12411660777386]
[2835,1,"JANESVILLE-WALDO",{"$f":"Gened!D322+'Specialed '!D322+Pension!D322","v":6554785},{"$f":"Gened!E322+'Specialed '!E322+Pension!E322","v":6668638},113853,558,11746.92652329749,11950.964157706094,204.03763440860348,{"$f":"Gened!K322+'Specialed '!K322+Pension!K322","v":6232479},{"$f":"Gened!L322+'Specialed '!L322+Pension!L322","v":6428022},195543,535,11649.493457943925,12014.994392523364,365.50093457943876,12787264,13096660,309396,1093,11699.235132662398,11982.305580969807,283.0704483074108]
[2853,1,"LAC QUI PARLE",{"$f":"Gened!D323+'Specialed '!D323+Pension!D323","v":8153986},{"$f":"Gened!E323+'Specialed '!E323+Pension!E323","v":8311166},157180,749,10886.496662216288,11096.349799732978,209.85313751668946,{"$f":"Gened!K323+'Specialed '!K323+Pension!K323","v":8182998},{"$f":"Gened!L323+'Specialed '!L323+Pension!L323","v":8483509},300511,743,11013.456258411843,11417.912516823688,404.45625841184483,16336984,16794675,457691,1492,10949.721179624665,11256.484584450402,306.76340482573727]
[2854,1,"ADA-BORUP",{"$f":"Gened!D324+'Specialed '!D324+Pension!D324","v":5279372},{"$f":"Gened!E324+'Specialed '!E324+Pension!E324","v":5394864},115492,483,10930.376811594202,11169.490683229813,239.11387163561085,{"$f":"Gened!K324+'Specialed '!K324+Pension!K324","v":5093712},{"$f":"Gened!L324+'Specialed '!L324+Pension!L324","v":5277986},184274,470,10837.685106382978,11229.757446808511,392.07234042553318,10373084,10672850,299766,953,10884.663168940189,11199.213011542497,314.5498426023085]
[2856,1,"STEPHEN-ARGYLE",{"$f":"Gened!D325+'Specialed '!D325+Pension!D325","v":3942335},{"$f":"Gened!E325+'Specialed '!E325+Pension!E325","v":4004849},62514,299,13185.066889632108,13394.14381270903,209.07692307692196,{"$f":"Gened!K325+'Specialed '!K325+Pension!K325","v":3887326},{"$f":"Gened!L325+'Specialed '!L325+Pension!L325","v":4020679},133353,291,13358.508591065292,13816.766323024054,458.25773195876172,7829661,8025528,195867,590,13270.611864406779,13602.589830508474,331.9779661016949]
[2859,1,"GLENCOE-SILVER LAKE",{"$f":"Gened!D326+'Specialed '!D326+Pension!D326","v":15609790},{"$f":"Gened!E326+'Specialed '!E326+Pension!E326","v":15921209},311419,1566,9967.9374201787996,10166.800127713921,198.86270753512144,{"$f":"Gened!K326+'Specialed '!K326+Pension!K326","v":15897732},{"$f":"Gened!L326+'Specialed '!L326+Pension!L326","v":16487868},590136,1579,10068.227992400254,10441.968334388854,373.74034198859954,31507522,32409077,901555,3145,10018.289984101748,10304.952941176471,286.66295707472176]
[2860,1,"BLUE EARTH-DELAVAN-ELMORE",{"$f":"Gened!D327+'Specialed '!D327+Pension!D327","v":10688171},{"$f":"Gened!E327+'Specialed '!E327+Pension!E327","v":10902647},214476,1135,9416.8907488986788,9605.8563876651988,188.96563876651999,{"$f":"Gened!K327+'Specialed '!K327+Pension!K327","v":10627587},{"$f":"Gened!L327+'Specialed '!L327+Pension!L327","v":11046102},418515,1117,9514.4019695613242,9889.0796777081468,374.67770814682262,21315758,21948749,632991,2252,9465.256660746003,9746.3361456483126,281.07948490230905]
[2884,1,"RED ROCK CENTRAL",{"$f":"Gened!D328+'Specialed '!D328+Pension!D328","v":4395066},{"$f":"Gened!E328+'Specialed '!E328+Pension!E328","v":4467555},72488,379,11596.480211081795,11787.744063324539,191.26385224274418,{"$f":"Gened!K328+'Specialed '!K328+Pension!K328","v":4275507},{"$f":"Gened!L328+'Specialed '!L328+Pension!L328","v":4424091},148584,364,11745.898351648351,12154.096153846154,408.19780219780296,8670573,8891646,221072,743,11669.681022880215,11967.222072678331,297.53970390309559]
[2886,1,"GLENVILLE-EMMONS",{"$f":"Gened!D329+'Specialed '!D329+Pension!D329","v":3628869},{"$f":"Gened!E329+'Specialed '!E329+Pension!E329","v":3691526},62657,338,10736.298816568047,10921.674556213018,185.37573964497096,{"$f":"Gened!K329+'Specialed '!K329+Pension!K329","v":3667272},{"$f":"Gened!L329+'Specialed '!L329+Pension!L329","v":3787874},120602,340,10786.094117647059,11140.805882352941,354.71176470588216,7296141,7479400,183259,678,10761.269911504425,11031.563421828909,270.29351032448375]
[2888,1,"CLINTON-GRACEVILLE-BEARDSLEY",{"$f":"Gened!D330+'Specialed '!D330+Pension!D330","v":3923852},{"$f":"Gened!E330+'Specialed '!E330+Pension!E330","v":4000838},76986,336,11678.130952380952,11907.255952380952,229.125,{"$f":"Gened!K330+'Specialed '!K330+Pension!K330","v":3947653},{"$f":"Gened!L330+'Specialed '!L330+Pension!L330","v":4091943},144290,337,11714.103857566766,12142.26409495549,428.16023738872354,7871505,8092781,221276,673,11696.144130757801,12024.934621099554,328.79049034175335]
[2889,1,"LAKE PARK-AUDUBON",{"$f":"Gened!D331+'Specialed '!D331+Pension!D331","v":6674336},{"$f":"Gened!E331+'Specialed '!E331+Pension!E331","v":6811017},136680,727,{"$f":"D331/G331","v":9180.6547455295731},{"$f":"E331/G331","v":9368.6616231086664},{"$f":"I331-H331","v":188.00687757909327},{"$f":"Gened!K331+'Specialed '!K331+Pension!K331","v":6749369},{"$f":"Gened!L331+'Specialed '!L331+Pension!L331","v":7014997},{"$f":"L331-K331","v":265628},737,{"$f":"K331/N331","v":9157.8955223880603},{"$f":"L331/N331","v":9518.313432835821},{"$f":"P331-O331","v":360.41791044776073},{"$f":"D331+K331","v":13423705},{"$f":"E331+L331","v":13826014},{"$f":"F331+M331","v":402308},1464,{"$f":"R331/U331","v":9169.1974043715854},{"$f":"S331/U331","v":9443.9986338797808},{"$f":"T331/U331","v":274.80054644808746}]
[2890,1,"RENVILLE CTY WEST",{"$f":"Gened!D332+'Specialed '!D332+Pension!D332","v":6158504},{"$f":"Gened!E332+'Specialed '!E332+Pension!E332","v":6271654},113149,509,12099.222003929273,12321.520628683693,222.29862475441951,{"$f":"Gened!K332+'Specialed '!K332+Pension!K332","v":6098874},{"$f":"Gened!L332+'Specialed '!L332+Pension!L332","v":6310543},211669,496,12296.116935483871,12722.868951612903,426.7520161290322,12257378,12582197,324818,1005,12196.396019900498,12519.599004975124,323.20199004975126]
[2895,1,"JACKSON COUNTY CENTRAL",{"$f":"Gened!D333+'Specialed '!D333+Pension!D333","v":11490849},{"$f":"Gened!E333+'Specialed '!E333+Pension!E333","v":11712958},222109,1175,9779.4459574468092,9968.4748936170217,189.02893617021255,{"$f":"Gened!K333+'Specialed '!K333+Pension!K333","v":11880372},{"$f":"Gened!L333+'Specialed '!L333+Pension!L333","v":12307962},427590,1170,10154.164102564102,10519.625641025641,365.46153846153902,23371221,24020920,649699,2345,9966.4055437100214,10243.462686567163,277.05714285714288]
[2897,1,"REDWOOD AREA SCHOOLS",{"$f":"Gened!D334+'Specialed '!D334+Pension!D334","v":11059742},{"$f":"Gened!E334+'Specialed '!E334+Pension!E334","v":11272775},213033,1112,9945.8111510791368,10137.387589928057,191.57643884892059,{"$f":"Gened!K334+'Specialed '!K334+Pension!K334","v":11047939},{"$f":"Gened!L334+'Specialed '!L334+Pension!L334","v":11459650},411711,1099,10052.71974522293,10427.343039126479,374.62329390354898,22107681,22732425,624744,2211,9998.9511533242876,10281.51289009498,282.56173677069199]
[2898,1,"WESTBROOK-WALNUT GROVE",{"$f":"Gened!D335+'Specialed '!D335+Pension!D335","v":4664220},{"$f":"Gened!E335+'Specialed '!E335+Pension!E335","v":4753882},89662,383,12178.120104438642,12412.22454308094,234.10443864229819,{"$f":"Gened!K335+'Specialed '!K335+Pension!K335","v":4575890},{"$f":"Gened!L335+'Specialed '!L335+Pension!L335","v":4745583},169693,374,12235,12688.724598930481,453.72459893048108,9240110,9499465,259355,757,12206.221928665786,12548.830911492734,342.60898282694848]
[2899,1,"PLAINVIEW-ELGIN-MILLVILLE",{"$f":"Gened!D336+'Specialed '!D336+Pension!D336","v":13154548},{"$f":"Gened!E336+'Specialed '!E336+Pension!E336","v":13416227},261679,1454,9047.144429160935,9227.1162310866566,179.97180192572159,{"$f":"Gened!K336+'Specialed '!K336+Pension!K336","v":13289356},{"$f":"Gened!L336+'Specialed '!L336+Pension!L336","v":13796108},506752,1464,9077.4289617486338,9423.5710382513662,346.14207650273238,26443904,27212335,768431,2918,9062.3385880740225,9325.6802604523655,263.34167237834134]
[2902,1,"RTR",{"$f":"Gened!D337+'Specialed '!D337+Pension!D337","v":6169771},{"$f":"Gened!E337+'Specialed '!E337+Pension!E337","v":6286120},116348,609,10130.986863711001,10322.036124794746,191.04926108374457,{"$f":"Gened!K337+'Specialed '!K337+Pension!K337","v":6318311},{"$f":"Gened!L337+'Specialed '!L337+Pension!L337","v":6548750},230439,624,10125.498397435897,10494.791666666666,369.29326923076951,12488082,12834870,346787,1233,10128.209245742093,10409.464720194646,281.25466342254663]
[2903,1,"ORTONVILLE",{"$f":"Gened!D338+'Specialed '!D338+Pension!D338","v":5313171},{"$f":"Gened!E338+'Specialed '!E338+Pension!E338","v":5428095},114925,486,10932.45061728395,11168.91975308642,236.46913580247019,{"$f":"Gened!K338+'Specialed '!K338+Pension!K338","v":5315382},{"$f":"Gened!L338+'Specialed '!L338+Pension!L338","v":5524896},209514,481,11050.69022869023,11486.27027027027,435.58004158004042,10628553,10952991,324439,967,10991.264736297828,11326.77456049638,335.51085832471563]
[2904,1,"TRACY-BALATON",{"$f":"Gened!D339+'Specialed '!D339+Pension!D339","v":7573302},{"$f":"Gened!E339+'Specialed '!E339+Pension!E339","v":7720754},147452,733,10331.926330150069,10533.088676671214,201.16234652114508,{"$f":"Gened!K339+'Specialed '!K339+Pension!K339","v":8199754},{"$f":"Gened!L339+'Specialed '!L339+Pension!L339","v":8486975},287221,730,11232.539726027397,11625.993150684932,393.45342465753492,15773056,16207729,434673,1463,10781.30963773069,11078.42036910458,297.11073137388928]
[2905,1,"TRI-CITY UNITED",{"$f":"Gened!D340+'Specialed '!D340+Pension!D340","v":17648040},{"$f":"Gened!E340+'Specialed '!E340+Pension!E340","v":18006948},358909,1942,9087.5592173017503,9272.3728115345002,184.81359423274989,{"$f":"Gened!K340+'Specialed '!K340+Pension!K340","v":18404552},{"$f":"Gened!L340+'Specialed '!L340+Pension!L340","v":19115908},711356,2006,9174.7517447657028,9529.3659022931206,354.61415752741777,36052592,37122856,1070265,3948,9131.8622087132717,9402.9523809523816,271.09042553191489]
[2906,1,"RED LAKE COUNTY CENTRAL PUBLIC SCHOOLS",{"$f":"Gened!D341+'Specialed '!D341+Pension!D341","v":4843514},{"$f":"Gened!E341+'Specialed '!E341+Pension!E341","v":4921995},78480,388,12483.283505154639,12685.554123711339,202.27061855670036,{"$f":"Gened!K341+'Specialed '!K341+Pension!K341","v":4897569},{"$f":"Gened!L341+'Specialed '!L341+Pension!L341","v":5056966},159397,391,12525.751918158569,12933.416879795397,407.66496163682859,9741083,9978961,237877,779,12504.599486521181,12809.962772785622,305.36200256739409]
[2907,1,"ROUND LAKE-BREWSTER PUBLIC SCHOOLS",{"$f":"Gened!D342+'Specialed '!D342+Pension!D342","v":3090535},{"$f":"Gened!E342+'Specialed '!E342+Pension!E342","v":3153443},62908,305,10132.901639344262,10339.15737704918,206.25573770491792,{"$f":"Gened!K342+'Specialed '!K342+Pension!K342","v":3357291},{"$f":"Gened!L342+'Specialed '!L342+Pension!L342","v":3486288},128997,334,10051.769461077844,10437.988023952095,386.2185628742518,6447826,6639731,191905,639,10090.494522691706,10390.815336463224,300.32081377151798]
[2908,1,"BRANDON-EVANSVILLE PUBLIC SCHOOLS",{"$f":"Gened!D343+'Specialed '!D343+Pension!D343","v":4507543},{"$f":"Gened!E343+'Specialed '!E343+Pension!E343","v":4587585},80042,476,9469.6281512605037,9637.7836134453773,168.15546218487361,{"$f":"Gened!K343+'Specialed '!K343+Pension!K343","v":4593941},{"$f":"Gened!L343+'Specialed '!L343+Pension!L343","v":4758356},164415,484,9491.613636363636,9831.3140495867774,339.70041322314137,9101484,9345941,244457,960,9480.7124999999996,9735.3552083333325,254.64270833333333]
[3000,1,"NEW REFERENDUM GROWTH",{"$f":"Gened!D344+'Specialed '!D344+Pension!D344","v":88175},{"$f":"Gened!E344+'Specialed '!E344+Pension!E344","v":88175},0,0,{"$error":"#DIV/0!"},{"$error":"#DIV/0!"},{"$error":"#DIV/0!"},{"$f":"Gened!K344+'Specialed '!K344+Pension!K344","v":22723900},{"$f":"Gened!L344+'Specialed '!L344+Pension!L344","v":22723900},0,0,{"$error":"#DIV/0!"},{"$error":"#DIV/0!"},{"$error":"#DIV/0!"},22812075,22812075,0,0,{"$error":"#DIV/0!"},{"$error":"#DIV/0!"},{"$error":"#DIV/0!"}]
[3999,1,"MDE DST EST (FUDGE)",{"$f":"Gened!D345+'Specialed '!D345+Pension!D345","v":22028369},{"$f":"Gened!E345+'Specialed '!E345+Pension!E345","v":22278592},250223,792,27813.597222222223,28129.535353535353,315.93813131313073,{"$f":"Gened!K345+'Specialed '!K345+Pension!K345","v":53238963},{"$f":"Gened!L345+'Specialed '!L345+Pension!L345","v":54910783},1671820,2794,19054.746957766642,19653.107730851825,598.36077308518361,75267332,77189375,1922043,3586,20989.216954824318,21525.202175125487,535.98522030117124]
[4000,7,"CITY ACADEMY",{"$f":"Gened!D346+'Specialed '!D346+Pension!D346","v":1222313},{"$f":"Gened!E346+'Specialed '!E346+Pension!E346","v":1248923},26610,110,11111.936363636363,11353.845454545455,241.9090909090919,{"$f":"Gened!K346+'Specialed '!K346+Pension!K346","v":763982},{"$f":"Gened!L346+'Specialed '!L346+Pension!L346","v":800699},36717,30,25466.066666666666,26689.966666666667,1223.9000000000015,1986295,2049622,63327,140,14187.821428571429,14640.157142857142,452.33571428571429]
[4001,7,"BLUFFVIEW MONTESSORI",{"$f":"Gened!D347+'Specialed '!D347+Pension!D347","v":1639641},{"$f":"Gened!E347+'Specialed '!E347+Pension!E347","v":1669157},29516,204,8037.4558823529414,8182.1421568627447,144.6862745098033,{"$f":"Gened!K347+'Specialed '!K347+Pension!K347","v":1649186},{"$f":"Gened!L347+'Specialed '!L347+Pension!L347","v":1709092},59906,205,8044.8097560975611,8337.0341463414643,292.22439024390314,3288827,3378249,89422,409,8041.1418092909535,8259.7775061124703,218.63569682151589]
[4003,7,"NEW HEIGHTS SCHOOL, INC.",{"$f":"Gened!D348+'Specialed '!D348+Pension!D348","v":1181777},{"$f":"Gened!E348+'Specialed '!E348+Pension!E348","v":1204707},22930,136,8689.5367647058829,8858.1397058823532,168.60294117647027,{"$f":"Gened!K348+'Specialed '!K348+Pension!K348","v":1211563},{"$f":"Gened!L348+'Specialed '!L348+Pension!L348","v":1258952},47389,139,8716.2805755395675,9057.2086330935253,340.92805755395784,2393340,2463659,70319,275,8703.0545454545463,8958.76,255.70545454545456]
[4004,7,"CEDAR RIVERSIDE COMMUNITY SCHO",{"$f":"Gened!D349+'Specialed '!D349+Pension!D349","v":2402410},{"$f":"Gened!E349+'Specialed '!E349+Pension!E349","v":2439792},37382,176,13650.056818181818,13862.454545454546,212.39772727272793,{"$f":"Gened!K349+'Specialed '!K349+Pension!K349","v":2481457},{"$f":"Gened!L349+'Specialed '!L349+Pension!L349","v":2559435},77978,185,13413.281081081081,13834.783783783783,421.50270270270266,4883867,4999227,115360,361,13528.717451523546,13848.274238227146,319.55678670360112]
[4005,7,"METRO DEAF CHARTER SCHOOL",{"$f":"Gened!D350+'Specialed '!D350+Pension!D350","v":7075322},{"$f":"Gened!E350+'Specialed '!E350+Pension!E350","v":7093091},17770,35,202152.05714285714,202659.74285714285,507.68571428570431,{"$f":"Gened!K350+'Specialed '!K350+Pension!K350","v":7225078},{"$f":"Gened!L350+'Specialed '!L350+Pension!L350","v":7260595},35517,33,218941.75757575757,220018.0303030303,1076.2727272727352,14300400,14353686,53287,68,210300,211083.61764705883,783.63235294117646]
[4007,7,"MINNESOTA NEW COUNTRY SCHOOL",{"$f":"Gened!D351+'Specialed '!D351+Pension!D351","v":1644507},{"$f":"Gened!E351+'Specialed '!E351+Pension!E351","v":1672332},27826,151,10890.774834437087,11075.046357615895,184.27152317880791,{"$f":"Gened!K351+'Specialed '!K351+Pension!K351","v":1483981},{"$f":"Gened!L351+'Specialed '!L351+Pension!L351","v":1533652},49671,139,10676.122302158274,11033.46762589928,357.34532374100672,3128488,3205984,77497,290,10787.889655172414,11055.11724137931,267.23103448275862]
[4008,7,"PACT CHARTER SCHOOL",{"$f":"Gened!D352+'Specialed '!D352+Pension!D352","v":5886128},{"$f":"Gened!E352+'Specialed '!E352+Pension!E352","v":5981001},94873,640,9197.0750000000007,9345.3140624999996,148.23906249999891,{"$f":"Gened!K352+'Specialed '!K352+Pension!K352","v":5827163},{"$f":"Gened!L352+'Specialed '!L352+Pension!L352","v":6015877},188714,628,9278.9219745222927,9579.4219745222927,300.5,11713291,11996878,283587,1268,9237.6111987381701,9461.2602523659298,223.64905362776025]
[4011,7,"NEW VISIONS CHARTER SCHOOL",{"$f":"Gened!D353+'Specialed '!D353+Pension!D353","v":10982765},{"$f":"Gened!E353+'Specialed '!E353+Pension!E353","v":11162840},180075,1105,9939.1538461538457,10102.117647058823,162.96380090497769,{"$f":"Gened!K353+'Specialed '!K353+Pension!K353","v":10986085},{"$f":"Gened!L353+'Specialed '!L353+Pension!L353","v":11349416},363331,1100,9987.35,10317.650909090909,330.30090909090904,21968850,22512256,543406,2205,9963.1972789115644,10209.639909297051,246.44263038548752]
[4015,7,"COMMUNITY OF PEACE ACADEMY",{"$f":"Gened!D354+'Specialed '!D354+Pension!D354","v":9373466},{"$f":"Gened!E354+'Specialed '!E354+Pension!E354","v":9537832},164366,768,12205.033854166666,12419.052083333334,214.01822916666788,{"$f":"Gened!K354+'Specialed '!K354+Pension!K354","v":9405527},{"$f":"Gened!L354+'Specialed '!L354+Pension!L354","v":9737913},332386,768,12246.779947916666,12679.57421875,432.79427083333394,18778993,19275745,496752,1536,12225.906901041666,12549.313151041666,323.40625]
[4016,7,"WORLD LEARNER CHARTER SCHOOL",{"$f":"Gened!D355+'Specialed '!D355+Pension!D355","v":1867627},{"$f":"Gened!E355+'Specialed '!E355+Pension!E355","v":1897997},30370,218,8567.0963302752298,8706.4082568807335,139.31192660550369,{"$f":"Gened!K355+'Specialed '!K355+Pension!K355","v":1836514},{"$f":"Gened!L355+'Specialed '!L355+Pension!L355","v":1896451},59937,211,8703.8578199052135,8987.9194312796208,284.06161137440722,3704141,3794448,90307,429,8634.3613053613062,8844.8671328671335,210.50582750582751]
[4017,7,"MINNESOTA TRANSITIONS CHARTER",{"$f":"Gened!D356+'Specialed '!D356+Pension!D356","v":28149848},{"$f":"Gened!E356+'Specialed '!E356+Pension!E356","v":28647539},497690,2820,9982.215602836879,10158.701773049645,176.4861702127655,{"$f":"Gened!K356+'Specialed '!K356+Pension!K356","v":26322143},{"$f":"Gened!L356+'Specialed '!L356+Pension!L356","v":27256640},934497,2481,10609.489318823054,10986.15074566707,376.6614268440153,54471991,55904179,1432187,5301,10275.795321637426,10545.968496510093,270.17298622901342]
[4018,7,"ACHIEVE LANGUAGE ACADEMY",{"$f":"Gened!D357+'Specialed '!D357+Pension!D357","v":4578159},{"$f":"Gened!E357+'Specialed '!E357+Pension!E357","v":4663850},85691,444,10311.168918918918,10504.166666666666,192.99774774774778,{"$f":"Gened!K357+'Specialed '!K357+Pension!K357","v":4634437},{"$f":"Gened!L357+'Specialed '!L357+Pension!L357","v":4809478},175041,450,10298.748888888889,10687.728888888889,388.97999999999956,9212596,9473328,260732,894,10304.917225950783,10596.563758389262,291.64653243847874]
[4020,7,"DULUTH PUBLIC SCHOOLS ACADEMY",{"$f":"Gened!D358+'Specialed '!D358+Pension!D358","v":16070902},{"$f":"Gened!E358+'Specialed '!E358+Pension!E358","v":16297967},227065,1408,11413.992897727272,11575.26065340909,161.26775568181802,{"$f":"Gened!K358+'Specialed '!K358+Pension!K358","v":18723512},{"$f":"Gened!L358+'Specialed '!L358+Pension!L358","v":19279064},555552,1729,10829.098901098901,11150.412955465586,321.31405436668501,34794414,35577031,782617,3137,11091.620656678355,11341.10009563277,249.47943895441506]
[4025,7,"CYBER VILLAGE ACADEMY",{"$f":"Gened!D359+'Specialed '!D359+Pension!D359","v":2050310},{"$f":"Gened!E359+'Specialed '!E359+Pension!E359","v":2081943},31633,154,13313.701298701299,13519.11038961039,205.4090909090919,{"$f":"Gened!K359+'Specialed '!K359+Pension!K359","v":1786452},{"$f":"Gened!L359+'Specialed '!L359+Pension!L359","v":1839435},52983,142,12580.647887323943,12953.767605633802,373.11971830985931,3836762,3921378,84616,296,12962.033783783783,13247.898648648648,285.86486486486484]
[4026,7,"E.C.H.O. CHARTER SCHOOL",{"$f":"Gened!D360+'Specialed '!D360+Pension!D360","v":1049994},{"$f":"Gened!E360+'Specialed '!E360+Pension!E360","v":1069404},19410,95,11052.568421052632,11256.884210526316,204.31578947368325,{"$f":"Gened!K360+'Specialed '!K360+Pension!K360","v":992587},{"$f":"Gened!L360+'Specialed '!L360+Pension!L360","v":1029493},36906,88,11279.397727272728,11698.78409090909,419.38636363636215,2042581,2098897,56316,183,11161.644808743169,11469.382513661201,307.73770491803276]
[4027,7,"HIGHER GROUND ACADEMY",{"$f":"Gened!D361+'Specialed '!D361+Pension!D361","v":8167165},{"$f":"Gened!E361+'Specialed '!E361+Pension!E361","v":8326993},159829,760,10746.269736842105,10956.569736842106,210.30000000000109,{"$f":"Gened!K361+'Specialed '!K361+Pension!K361","v":8173529},{"$f":"Gened!L361+'Specialed '!L361+Pension!L361","v":8496906},323377,760,10754.643421052631,11180.13947368421,425.496052631579,16340694,16823899,483206,1520,10750.456578947369,11068.354605263157,317.89868421052631]
[4029,7,"NEW SPIRIT SCHOOLS",{"$f":"Gened!D362+'Specialed '!D362+Pension!D362","v":5221405},{"$f":"Gened!E362+'Specialed '!E362+Pension!E362","v":5311373},89967,394,13252.296954314721,13480.642131979695,228.34517766497447,{"$f":"Gened!K362+'Specialed '!K362+Pension!K362","v":5094602},{"$f":"Gened!L362+'Specialed '!L362+Pension!L362","v":5270630},176028,393,12963.363867684478,13411.272264631043,447.90839694656461,10316007,10582003,265995,787,13108.013977128336,13446.00127064803,337.98602287166455]
[4030,7,"ODYSSEY CHARTER SCHOOL",{"$f":"Gened!D363+'Specialed '!D363+Pension!D363","v":4144805},{"$f":"Gened!E363+'Specialed '!E363+Pension!E363","v":4215594},70789,360,11513.347222222223,11709.983333333334,196.63611111111095,{"$f":"Gened!K363+'Specialed '!K363+Pension!K363","v":4230999},{"$f":"Gened!L363+'Specialed '!L363+Pension!L363","v":4376956},145957,370,11435.132432432432,11829.610810810811,394.47837837837869,8375804,8592550,216746,730,11473.704109589042,11770.616438356165,296.91232876712331]
[4031,7,"JENNINGS EXPERIENTIAL HIGH SCH",{"$f":"Gened!D364+'Specialed '!D364+Pension!D364","v":970342},{"$f":"Gened!E364+'Specialed '!E364+Pension!E364","v":989117},18775,86,11283.046511627907,11501.360465116279,218.31395348837214,{"$f":"Gened!K364+'Specialed '!K364+Pension!K364","v":886275},{"$f":"Gened!L364+'Specialed '!L364+Pension!L364","v":921041},34766,71,12482.74647887324,12972.408450704226,489.66197183098666,1856617,1910158,53541,157,11825.585987261147,12166.611464968153,341.02547770700636]
[4032,7,"HARVEST PREP SCHOOL/SEED ACADE",{"$f":"Gened!D365+'Specialed '!D365+Pension!D365","v":4735979},{"$f":"Gened!E365+'Specialed '!E365+Pension!E365","v":4813392},77413,430,11013.904651162791,11193.934883720931,180.03023255813969,{"$f":"Gened!K365+'Specialed '!K365+Pension!K365","v":4818626},{"$f":"Gened!L365+'Specialed '!L365+Pension!L365","v":4977628},159002,440,10951.422727272728,11312.790909090909,361.36818181818126,9554605,9791020,236415,870,10982.30459770115,11254.045977011494,271.74137931034483]
[4035,7,"CONCORDIA CREATIVE LEARNING AC",{"$f":"Gened!D366+'Specialed '!D366+Pension!D366","v":3794753},{"$f":"Gened!E366+'Specialed '!E366+Pension!E366","v":3857359},62606,350,10842.151428571429,11021.025714285714,178.87428571428427,{"$f":"Gened!K366+'Specialed '!K366+Pension!K366","v":3807568},{"$f":"Gened!L366+'Specialed '!L366+Pension!L366","v":3934162},126594,350,10878.765714285715,11240.462857142857,361.69714285714144,7602321,7791521,189200,700,10860.458571428571,11130.744285714285,270.28571428571428]
[4036,7,"FACE TO FACE ACADEMY",{"$f":"Gened!D367+'Specialed '!D367+Pension!D367","v":923786},{"$f":"Gened!E367+'Specialed '!E367+Pension!E367","v":938870},15084,48,19245.541666666668,19559.791666666668,314.25,{"$f":"Gened!K367+'Specialed '!K367+Pension!K367","v":882517},{"$f":"Gened!L367+'Specialed '!L367+Pension!L367","v":911103},28586,48,18385.770833333332,18981.3125,595.54166666666788,1806303,1849973,43670,96,18815.65625,19270.552083333332,454.89583333333331]
[4038,7,"SOJOURNER TRUTH ACADEMY",{"$f":"Gened!D368+'Specialed '!D368+Pension!D368","v":5662179},{"$f":"Gened!E368+'Specialed '!E368+Pension!E368","v":5754194},92014,444,12752.655405405405,12959.896396396396,207.24099099099112,{"$f":"Gened!K368+'Specialed '!K368+Pension!K368","v":5809824},{"$f":"Gened!L368+'Specialed '!L368+Pension!L368","v":6000386},190562,460,12630.052173913044,13044.317391304348,414.26521739130476,11472003,11754580,282576,904,12690.268805309735,13002.853982300885,312.5840707964602]
[4039,7,"HIGH SCHOOL FOR RECORDING ARTS",{"$f":"Gened!D369+'Specialed '!D369+Pension!D369","v":4051957},{"$f":"Gened!E369+'Specialed '!E369+Pension!E369","v":4119817},67860,315,12863.355555555556,13078.784126984126,215.42857142857065,{"$f":"Gened!K369+'Specialed '!K369+Pension!K369","v":4105827},{"$f":"Gened!L369+'Specialed '!L369+Pension!L369","v":4244631},138804,320,12830.709375,13264.471874999999,433.76249999999891,8157784,8364448,206664,635,12846.903937007874,13172.35905511811,325.45511811023624]
[4042,7,"TWIN CITIES ACADEMY",{"$f":"Gened!D370+'Specialed '!D370+Pension!D370","v":304060},{"$f":"Gened!E370+'Specialed '!E370+Pension!E370","v":308243},4183,0,{"$error":"#DIV/0!"},{"$error":"#DIV/0!"},{"$error":"#DIV/0!"},{"$f":"Gened!K370+'Specialed '!K370+Pension!K370","v":310806},{"$f":"Gened!L370+'Specialed '!L370+Pension!L370","v":319172},8366,0,{"$error":"#DIV/0!"},{"$error":"#DIV/0!"},{"$error":"#DIV/0!"},614866,627415,12549,0,{"$error":"#DIV/0!"},{"$error":"#DIV/0!"},{"$error":"#DIV/0!"}]
[4043,7,"MATH & SCIENCE ACADEMY",{"$f":"Gened!D371+'Specialed '!D371+Pension!D371","v":3974539},{"$f":"Gened!E371+'Specialed '!E371+Pension!E371","v":4047190},72652,477,8332.3668763102723,8484.6750524109011,152.30817610062877,{"$f":"Gened!K371+'Specialed '!K371+Pension!K371","v":4453123},{"$f":"Gened!L371+'Specialed '!L371+Pension!L371","v":4617763},164640,540,8246.5240740740737,8551.4129629629624,304.88888888888869,8427662,8664953,237292,1017,8286.7866273352993,8520.1111111111113,233.32546705998033]
[4045,7,"LAKES AREA CHARTER SCHOOL",{"$f":"Gened!D372+'Specialed '!D372+Pension!D372","v":0},{"$f":"Gened!E372+'Specialed '!E372+Pension!E372","v":0},0,0,{"$error":"#DIV/0!"},{"$error":"#DIV/0!"},{"$error":"#DIV/0!"},{"$f":"Gened!K372+'Specialed '!K372+Pension!K372","v":0},{"$f":"Gened!L372+'Specialed '!L372+Pension!L372","v":0},0,0,{"$error":"#DIV/0!"},{"$error":"#DIV/0!"},{"$error":"#DIV/0!"},0,0,0,0,{"$error":"#DIV/0!"},{"$error":"#DIV/0!"},{"$error":"#DIV/0!"}]
[4049,7,"COON RAPIDS LEARNING CENTER",{"$f":"Gened!D373+'Specialed '!D373+Pension!D373","v":2220215},{"$f":"Gened!E373+'Specialed '!E373+Pension!E373","v":2251857},31642,180,12334.527777777777,12510.316666666668,175.78888888889014,{"$f":"Gened!K373+'Specialed '!K373+Pension!K373","v":2234440},{"$f":"Gened!L373+'Specialed '!L373+Pension!L373","v":2298423},63983,180,12413.555555555555,12769.016666666666,355.46111111111168,4454655,4550280,95625,360,12374.041666666666,12639.666666666666,265.625]
[4050,7,"LAFAYETTE PUBLIC CHARTER SCHOO",{"$f":"Gened!D374+'Specialed '!D374+Pension!D374","v":888639},{"$f":"Gened!E374+'Specialed '!E374+Pension!E374","v":904828},16189,96,9256.65625,9425.2916666666661,168.63541666666606,{"$f":"Gened!K374+'Specialed '!K374+Pension!K374","v":950396},{"$f":"Gened!L374+'Specialed '!L374+Pension!L374","v":985409},35013,104,9138.4230769230762,9475.086538461539,336.6634615384628,1839035,1890237,51202,200,9195.1749999999993,9451.1849999999995,256.01]
[4053,7,"NORTH LAKES ACADEMY",{"$f":"Gened!D375+'Specialed '!D375+Pension!D375","v":3628648},{"$f":"Gened!E375+'Specialed '!E375+Pension!E375","v":3694763},66115,417,8701.7937649880096,8860.3429256594718,158.54916067146223,{"$f":"Gened!K375+'Specialed '!K375+Pension!K375","v":3644197},{"$f":"Gened!L375+'Specialed '!L375+Pension!L375","v":3778045},133848,420,8676.6595238095233,8995.3452380952385,318.68571428571522,7272845,7472808,199963,837,8689.1816009557951,8928.0860215053763,238.90442054958183]
[4054,7,"LACRESCENT MONTESSORI ACADEMY",{"$f":"Gened!D376+'Specialed '!D376+Pension!D376","v":720314},{"$f":"Gened!E376+'Specialed '!E376+Pension!E376","v":732102},11787,76,9477.8157894736851,9632.9210526315783,155.10526315789321,{"$f":"Gened!K376+'Specialed '!K376+Pension!K376","v":746601},{"$f":"Gened!L376+'Specialed '!L376+Pension!L376","v":771281},24680,78,9571.8076923076915,9888.2179487179492,316.41025641025772,1466915,1503383,36467,154,9525.4220779220777,9762.2272727272721,236.7987012987013]
[4055,7,"NERSTRAND CHARTER SCHOOL",{"$f":"Gened!D377+'Specialed '!D377+Pension!D377","v":1235887},{"$f":"Gened!E377+'Specialed '!E377+Pension!E377","v":1255779},19892,150,8239.246666666666,8371.86,132.61333333333459,{"$f":"Gened!K377+'Specialed '!K377+Pension!K377","v":1231759},{"$f":"Gened!L377+'Specialed '!L377+Pension!L377","v":1271645},39886,148,8322.6959459459467,8592.1959459459467,269.5,2467646,2527424,59778,298,8280.6912751677846,8481.2885906040265,200.59731543624162]
[4056,7,"ROCHESTER OFF-CAMPUS CHARTER H",{"$f":"Gened!D378+'Specialed '!D378+Pension!D378","v":1217491},{"$f":"Gened!E378+'Specialed '!E378+Pension!E378","v":1237809},20317,108,11273.064814814816,11461.194444444445,188.12962962962956,{"$f":"Gened!K378+'Specialed '!K378+Pension!K378","v":1238606},{"$f":"Gened!L378+'Specialed '!L378+Pension!L378","v":1280266},41660,110,11260.054545454546,11638.781818181818,378.72727272727207,2456097,2518075,61977,218,11266.5,11550.802752293577,284.29816513761466]
[4057,7,"EL COLEGIO CHARTER SCHOOL",{"$f":"Gened!D379+'Specialed '!D379+Pension!D379","v":1262846},{"$f":"Gened!E379+'Specialed '!E379+Pension!E379","v":1287399},24553,110,11480.418181818182,11703.627272727274,223.20909090909117,{"$f":"Gened!K379+'Specialed '!K379+Pension!K379","v":1226006},{"$f":"Gened!L379+'Specialed '!L379+Pension!L379","v":1274187},48181,105,11676.247619047619,12135.114285714286,458.86666666666679,2488852,2561586,72734,215,11576.055813953488,11914.353488372093,338.29767441860463]
[4058,7,"SCHOOLCRAFT LEARNING COMMUNITY",{"$f":"Gened!D380+'Specialed '!D380+Pension!D380","v":2271934},{"$f":"Gened!E380+'Specialed '!E380+Pension!E380","v":2302229},30295,187,12149.379679144386,12311.385026737968,162.00534759358197,{"$f":"Gened!K380+'Specialed '!K380+Pension!K380","v":2293015},{"$f":"Gened!L380+'Specialed '!L380+Pension!L380","v":2354403},61388,185,12394.675675675675,12726.502702702703,331.82702702702773,4564949,4656632,91683,372,12271.368279569893,12517.827956989247,246.45967741935485]
[4059,7,"CROSSLAKE COMMUNITY CHARTER SC",{"$f":"Gened!D381+'Specialed '!D381+Pension!D381","v":1576442},{"$f":"Gened!E381+'Specialed '!E381+Pension!E381","v":1603168},26726,150,10509.613333333333,10687.786666666667,178.17333333333409,{"$f":"Gened!K381+'Specialed '!K381+Pension!K381","v":1458325},{"$f":"Gened!L381+'Specialed '!L381+Pension!L381","v":1507349},49024,147,9920.5782312925166,10254.074829931973,333.49659863945635,3034767,3110517,75750,297,10218.070707070707,10473.121212121212,255.05050505050505]
[4064,7,"RIVERWAY LEARNING COMMUNITY CH",{"$f":"Gened!D382+'Specialed '!D382+Pension!D382","v":1178259},{"$f":"Gened!E382+'Specialed '!E382+Pension!E382","v":1197671},19411,106,11115.650943396226,11298.783018867925,183.13207547169986,{"$f":"Gened!K382+'Specialed '!K382+Pension!K382","v":1197559},{"$f":"Gened!L382+'Specialed '!L382+Pension!L382","v":1237370},39811,108,11088.509259259259,11457.12962962963,368.62037037037044,2375818,2435041,59222,214,11101.953271028038,11378.696261682244,276.73831775700933]
[4066,7,"RIVERBEND ACADEMY",{"$f":"Gened!D383+'Specialed '!D383+Pension!D383","v":787605},{"$f":"Gened!E383+'Specialed '!E383+Pension!E383","v":801129},13524,65,12117,12325.061538461538,208.06153846153757,{"$f":"Gened!K383+'Specialed '!K383+Pension!K383","v":730903},{"$f":"Gened!L383+'Specialed '!L383+Pension!L383","v":755890},24987,60,12181.716666666667,12598.166666666666,416.44999999999891,1518508,1557019,38511,125,12148.064,12456.152,308.08800000000002]
[4067,7,"AURORA CHARTER SCHOOL",{"$f":"Gened!D384+'Specialed '!D384+Pension!D384","v":4318840},{"$f":"Gened!E384+'Specialed '!E384+Pension!E384","v":4402758},83918,385,11217.766233766233,11435.735064935065,217.96883116883146,{"$f":"Gened!K384+'Specialed '!K384+Pension!K384","v":4305488},{"$f":"Gened!L384+'Specialed '!L384+Pension!L384","v":4474554},169066,382,11270.910994764397,11713.492146596858,442.58115183246082,8624328,8877312,252984,767,11244.234680573663,11574.070404172098,329.83572359843544]
[4068,7,"EXCELL ACADEMY CHARTER",{"$f":"Gened!D385+'Specialed '!D385+Pension!D385","v":5704884},{"$f":"Gened!E385+'Specialed '!E385+Pension!E385","v":5809954},105070,568,10043.80985915493,10228.792253521127,184.9823943661977,{"$f":"Gened!K385+'Specialed '!K385+Pension!K385","v":6025144},{"$f":"Gened!L385+'Specialed '!L385+Pension!L385","v":6255992},230848,608,9909.7763157894733,10289.46052631579,379.68421052631675,11730028,12065946,335918,1176,9974.5136054421764,10260.158163265307,285.64455782312928]
[4070,7,"HOPE COMMUNITY ACADEMY",{"$f":"Gened!D386+'Specialed '!D386+Pension!D386","v":5548240},{"$f":"Gened!E386+'Specialed '!E386+Pension!E386","v":5649609},101369,520,10669.692307692309,10864.632692307692,194.94038461538366,{"$f":"Gened!K386+'Specialed '!K386+Pension!K386","v":5653677},{"$f":"Gened!L386+'Specialed '!L386+Pension!L386","v":5861837},208160,530,10667.315094339623,11060.069811320755,392.75471698113142,11201917,11511446,309529,1050,10668.492380952381,10963.281904761905,294.78952380952381]
[4073,7,"ACADEMIA CESAR CHAVEZ CHARTER",{"$f":"Gened!D387+'Specialed '!D387+Pension!D387","v":5670446},{"$f":"Gened!E387+'Specialed '!E387+Pension!E387","v":5768684},98237,527,10759.859582542695,10946.26944971537,186.40986717267515,{"$f":"Gened!K387+'Specialed '!K387+Pension!K387","v":5761149},{"$f":"Gened!L387+'Specialed '!L387+Pension!L387","v":5962824},201675,540,10668.794444444444,11042.266666666666,373.47222222222263,11431595,11731508,299912,1067,10713.772258669165,10994.852858481725,281.07966260543583]
[4074,7,"AGRICULTURAL FOOD SCIENCE ACAD",{"$f":"Gened!D388+'Specialed '!D388+Pension!D388","v":5137018},{"$f":"Gened!E388+'Specialed '!E388+Pension!E388","v":5216267},79249,465,11047.350537634409,11217.778494623655,170.42795698924601,{"$f":"Gened!K388+'Specialed '!K388+Pension!K388","v":4946533},{"$f":"Gened!L388+'Specialed '!L388+Pension!L388","v":5097205},150672,425,11638.901176470588,11993.423529411764,354.522352941176,10083551,10313472,229921,890,11329.832584269663,11588.170786516854,258.33820224719102]
[4075,7,"AVALON SCHOOL",{"$f":"Gened!D389+'Specialed '!D389+Pension!D389","v":2381007},{"$f":"Gened!E389+'Specialed '!E389+Pension!E389","v":2416971},35965,200,11905.035,12084.855,179.81999999999971,{"$f":"Gened!K389+'Specialed '!K389+Pension!K389","v":2214513},{"$f":"Gened!L389+'Specialed '!L389+Pension!L389","v":2280323},65810,173,12800.653179190751,13181.057803468208,380.40462427745661,4595520,4697294,101775,373,12320.428954423593,12593.281501340483,272.85522788203752]
[4077,7,"TWIN CITIES INTERNATIONAL ELEM",{"$f":"Gened!D390+'Specialed '!D390+Pension!D390","v":6615032},{"$f":"Gened!E390+'Specialed '!E390+Pension!E390","v":6738965},123933,581,11385.597246127367,11598.907056798624,213.30981067125686,{"$f":"Gened!K390+'Specialed '!K390+Pension!K390","v":6578913},{"$f":"Gened!L390+'Specialed '!L390+Pension!L390","v":6827753},248840,571,11521.739054290718,11957.535901926445,435.79684763572732,13193945,13566718,372773,1152,11453.077256944445,11776.664930555555,323.58767361111109]
[4078,7,"MN INTERNATIONAL MIDDLE CHARTE",{"$f":"Gened!D391+'Specialed '!D391+Pension!D391","v":5681467},{"$f":"Gened!E391+'Specialed '!E391+Pension!E391","v":5780331},98864,458,12404.949781659388,12620.810043668122,215.86026200873312,{"$f":"Gened!K391+'Specialed '!K391+Pension!K391","v":5840815},{"$f":"Gened!L391+'Specialed '!L391+Pension!L391","v":6046038},205223,476,12270.61974789916,12701.76050420168,431.14075630252046,11522282,11826369,304087,934,12336.490364025696,12662.065310492506,325.57494646680942]
[4079,7,"FRIENDSHIP ACDMY OF FINE ARTS",{"$f":"Gened!D392+'Specialed '!D392+Pension!D392","v":1593106},{"$f":"Gened!E392+'Specialed '!E392+Pension!E392","v":1622016},28910,145,10986.937931034483,11186.317241379311,199.3793103448279,{"$f":"Gened!K392+'Specialed '!K392+Pension!K392","v":1610406},{"$f":"Gened!L392+'Specialed '!L392+Pension!L392","v":1669359},58953,147,10955.142857142857,11356.183673469388,401.04081632653106,3203512,3291375,87863,292,10970.931506849314,11271.832191780823,300.90068493150687]
[4080,7,"PILLAGER AREA CHARTER SCHOOL",{"$f":"Gened!D393+'Specialed '!D393+Pension!D393","v":531464},{"$f":"Gened!E393+'Specialed '!E393+Pension!E393","v":540911},9446,43,12359.627906976744,12579.325581395349,219.69767441860495,{"$f":"Gened!K393+'Specialed '!K393+Pension!K393","v":537191},{"$f":"Gened!L393+'Specialed '!L393+Pension!L393","v":556429},19238,44,12208.886363636364,12646.113636363636,437.22727272727207,1068655,1097340,28684,87,12283.3908045977,12613.103448275862,329.70114942528738]
[4081,7,"COVENANT ACADEMY OF MN. CHTR.",{"$f":"Gened!D394+'Specialed '!D394+Pension!D394","v":736928},{"$f":"Gened!E394+'Specialed '!E394+Pension!E394","v":747364},10437,55,13398.690909090908,13588.436363636363,189.74545454545478,{"$f":"Gened!K394+'Specialed '!K394+Pension!K394","v":756023},{"$f":"Gened!L394+'Specialed '!L394+Pension!L394","v":777678},21655,57,13263.561403508771,13643.473684210527,379.91228070175566,1492951,1525042,32092,112,13329.919642857143,13616.446428571429,286.53571428571428]
[4082,7,"BLUESKY CHARTER SCHOOL",{"$f":"Gened!D395+'Specialed '!D395+Pension!D395","v":4703423},{"$f":"Gened!E395+'Specialed '!E395+Pension!E395","v":4792213},88790,490,{"$f":"D395/G395","v":9598.8224489795921},{"$f":"E395/G395","v":9780.0265306122456},{"$f":"I395-H395","v":181.20408163265347},{"$f":"Gened!K395+'Specialed '!K395+Pension!K395","v":4544241},{"$f":"Gened!L395+'Specialed '!L395+Pension!L395","v":4717309},{"$f":"L395-K395","v":173068},460,{"$f":"K395/N395","v":9878.7847826086963},{"$f":"L395/N395","v":10255.019565217392},{"$f":"P395-O395","v":376.23478260869524},{"$f":"D395+K395","v":9247664},{"$f":"E395+L395","v":9509522},{"$f":"F395+M395","v":261858},950,{"$f":"R395/U395","v":9734.3831578947375},{"$f":"S395/U395","v":10010.023157894737},{"$f":"T395/U395","v":275.64}]
[4083,7,"RIDGEWAY COMMUNITY SCHOOL",{"$f":"Gened!D396+'Specialed '!D396+Pension!D396","v":773631},{"$f":"Gened!E396+'Specialed '!E396+Pension!E396","v":787074},13443,97,7975.5773195876291,8114.1649484536083,138.58762886597924,{"$f":"Gened!K396+'Specialed '!K396+Pension!K396","v":760825},{"$f":"Gened!L396+'Specialed '!L396+Pension!L396","v":787430},26605,94,8093.8829787234044,8376.9148936170204,283.03191489361598,1534456,1574504,40048,191,8033.8010471204188,8243.4764397905765,209.67539267015707]
[4084,7,"NORTH SHORE COMMUNITY SCHOOL",{"$f":"Gened!D397+'Specialed '!D397+Pension!D397","v":2731724},{"$f":"Gened!E397+'Specialed '!E397+Pension!E397","v":2784199},52476,340,8034.482352941176,8188.8205882352941,154.33823529411802,{"$f":"Gened!K397+'Specialed '!K397+Pension!K397","v":2806286},{"$f":"Gened!L397+'Specialed '!L397+Pension!L397","v":2914997},108711,350,8017.96,8328.562857142857,310.60285714285692,5538010,5699196,161187,690,8026.101449275362,8259.7043478260875,233.60434782608695]
[4085,7,"HARBOR CITY INTERNATIONAL CHAR",{"$f":"Gened!D398+'Specialed '!D398+Pension!D398","v":2132856},{"$f":"Gened!E398+'Specialed '!E398+Pension!E398","v":2169708},36851,200,10664.28,10848.54,184.26000000000022,{"$f":"Gened!K398+'Specialed '!K398+Pension!K398","v":2142584},{"$f":"Gened!L398+'Specialed '!L398+Pension!L398","v":2217069},74485,200,10712.92,11085.344999999999,372.42499999999927,4275440,4386777,111336,400,10688.6,10966.942499999999,278.33999999999997]
[4086,7,"WOODSON INSTITUTE FOR EXCELLEN",{"$f":"Gened!D399+'Specialed '!D399+Pension!D399","v":0},{"$f":"Gened!E399+'Specialed '!E399+Pension!E399","v":0},0,0,{"$error":"#DIV/0!"},{"$error":"#DIV/0!"},{"$error":"#DIV/0!"},{"$f":"Gened!K399+'Specialed '!K399+Pension!K399","v":0},{"$f":"Gened!L399+'Specialed '!L399+Pension!L399","v":0},0,0,{"$error":"#DIV/0!"},{"$error":"#DIV/0!"},{"$error":"#DIV/0!"},0,0,0,0,{"$error":"#DIV/0!"},{"$error":"#DIV/0!"},{"$error":"#DIV/0!"}]
[4087,7,"SAGE ACADEMY CHARTER SCHOOL",{"$f":"Gened!D400+'Specialed '!D400+Pension!D400","v":1128682},{"$f":"Gened!E400+'Specialed '!E400+Pension!E400","v":1145084},16402,80,14108.525,14313.55,205.02499999999964,{"$f":"Gened!K400+'Specialed '!K400+Pension!K400","v":1134946},{"$f":"Gened!L400+'Specialed '!L400+Pension!L400","v":1168107},33161,80,14186.825000000001,14601.3375,414.51249999999891,2263628,2313191,49563,160,14147.674999999999,14457.44375,309.76875000000001]
[4088,7,"URBAN ACADEMY CHARTER SCHOOL",{"$f":"Gened!D401+'Specialed '!D401+Pension!D401","v":3442073},{"$f":"Gened!E401+'Specialed '!E401+Pension!E401","v":3506131},64058,316,10892.636075949367,11095.351265822785,202.71518987341733,{"$f":"Gened!K401+'Specialed '!K401+Pension!K401","v":3450247},{"$f":"Gened!L401+'Specialed '!L401+Pension!L401","v":3579818},129571,316,10918.503164556962,11328.537974683544,410.03481012658267,6892320,7085949,193629,632,10905.569620253165,11211.944620253165,306.375]
[4089,7,"NEW CITY SCHOOL",{"$f":"Gened!D402+'Specialed '!D402+Pension!D402","v":2220423},{"$f":"Gened!E402+'Specialed '!E402+Pension!E402","v":2261977},41554,288,7709.802083333333,7854.0868055555557,144.28472222222263,{"$f":"Gened!K402+'Specialed '!K402+Pension!K402","v":2656255},{"$f":"Gened!L402+'Specialed '!L402+Pension!L402","v":2756581},100326,356,7461.3904494382023,7743.2050561797751,281.81460674157279,4876678,5018558,141880,644,7572.4813664596277,7792.7919254658382,220.31055900621118]
[4090,7,"PRAIRIE CREEK COMMUNITY SCHOOL",{"$f":"Gened!D403+'Specialed '!D403+Pension!D403","v":1516243},{"$f":"Gened!E403+'Specialed '!E403+Pension!E403","v":1541089},24845,180,8423.572222222223,8561.6055555555558,138.03333333333285,{"$f":"Gened!K403+'Specialed '!K403+Pension!K403","v":1523275},{"$f":"Gened!L403+'Specialed '!L403+Pension!L403","v":1573489},50214,180,8462.6388888888887,8741.6055555555558,278.96666666666715,3039518,3114578,75059,360,8443.1055555555558,8651.6055555555558,208.49722222222223]
[4091,7,"ARTECH",{"$f":"Gened!D404+'Specialed '!D404+Pension!D404","v":1467218},{"$f":"Gened!E404+'Specialed '!E404+Pension!E404","v":1487591},20373,123,11928.60162601626,12094.235772357724,165.63414634146466,{"$f":"Gened!K404+'Specialed '!K404+Pension!K404","v":1485725},{"$f":"Gened!L404+'Specialed '!L404+Pension!L404","v":1527176},41451,124,11981.653225806451,12315.935483870968,334.28225806451701,2952943,3014767,61824,247,11955.234817813765,12205.534412955465,250.29959514170039]
[4092,7,"WATERSHED HIGH SCHOOL",{"$f":"Gened!D405+'Specialed '!D405+Pension!D405","v":679916},{"$f":"Gened!E405+'Specialed '!E405+Pension!E405","v":691774},11858,64,10623.6875,10808.96875,185.28125,{"$f":"Gened!K405+'Specialed '!K405+Pension!K405","v":682438},{"$f":"Gened!L405+'Specialed '!L405+Pension!L405","v":706416},23978,64,10663.09375,11037.75,374.65625,1362354,1398190,35836,128,10643.390625,10923.359375,279.96875]
[4093,7,"NEW CENTURY CHARTER SCHOOL",{"$f":"Gened!D406+'Specialed '!D406+Pension!D406","v":1534197},{"$f":"Gened!E406+'Specialed '!E406+Pension!E406","v":1557826},23629,130,11801.515384615384,11983.276923076923,181.76153846153829,{"$f":"Gened!K406+'Specialed '!K406+Pension!K406","v":1482822},{"$f":"Gened!L406+'Specialed '!L406+Pension!L406","v":1528431},45609,120,12356.85,12736.924999999999,380.07499999999891,3017019,3086257,69238,250,12068.075999999999,12345.028,276.952]
[4095,7,"TRIO WOLF CREEK DISTANCE LEARN",{"$f":"Gened!D407+'Specialed '!D407+Pension!D407","v":1757606},{"$f":"Gened!E407+'Specialed '!E407+Pension!E407","v":1789572},31966,200,8788.0300000000007,8947.86,159.82999999999993,{"$f":"Gened!K407+'Specialed '!K407+Pension!K407","v":1761696},{"$f":"Gened!L407+'Specialed '!L407+Pension!L407","v":1826332},64636,200,8808.48,9131.66,323.18000000000029,3519302,3615904,96602,400,8798.2549999999992,9039.76,241.505]
[4097,7,"PARTNERSHIP ACADEMY, INC.",{"$f":"Gened!D408+'Specialed '!D408+Pension!D408","v":3704216},{"$f":"Gened!E408+'Specialed '!E408+Pension!E408","v":3766126},61911,291,12729.264604810996,12942.013745704468,212.74914089347112,{"$f":"Gened!K408+'Specialed '!K408+Pension!K408","v":3743723},{"$f":"Gened!L408+'Specialed '!L408+Pension!L408","v":3869809},126086,295,12690.586440677966,13117.996610169492,427.41016949152618,7447939,7635935,187997,586,12709.793515358362,13030.605802047781,320.81399317406141]
[4098,7,"NOVA CLASSICAL ACADEMY",{"$f":"Gened!D409+'Specialed '!D409+Pension!D409","v":7449018},{"$f":"Gened!E409+'Specialed '!E409+Pension!E409","v":7588834},139816,958,7775.5929018789147,7921.5386221294366,145.94572025052184,{"$f":"Gened!K409+'Specialed '!K409+Pension!K409","v":7718235},{"$f":"Gened!L409+'Specialed '!L409+Pension!L409","v":8010557},292322,991,7788.3299697275479,8083.3067608476285,294.97679112008063,15167253,15599391,432138,1949,7782.0692662904057,8003.7922011287837,221.72293483837865]
[4100,7,"GREAT EXPECTATIONS",{"$f":"Gened!D410+'Specialed '!D410+Pension!D410","v":1030690},{"$f":"Gened!E410+'Specialed '!E410+Pension!E410","v":1045651},14960,102,10104.803921568628,10251.480392156862,146.67647058823422,{"$f":"Gened!K410+'Specialed '!K410+Pension!K410","v":1062351},{"$f":"Gened!L410+'Specialed '!L410+Pension!L410","v":1093529},31178,106,10022.17924528302,10316.311320754718,294.13207547169804,2093041,2139180,46138,208,10062.697115384615,10284.51923076923,221.81730769230768]
[4102,7,"MINNESOTA INTERNSHIP CENTER",{"$f":"Gened!D411+'Specialed '!D411+Pension!D411","v":6148749},{"$f":"Gened!E411+'Specialed '!E411+Pension!E411","v":6261391},112643,550,11179.543636363636,11384.347272727273,204.80363636363654,{"$f":"Gened!K411+'Specialed '!K411+Pension!K411","v":6161802},{"$f":"Gened!L411+'Specialed '!L411+Pension!L411","v":6397482},235680,550,11203.276363636363,11631.785454545454,428.50909090909045,12310551,12658873,348323,1100,11191.41,11508.066363636364,316.65727272727275]
[4103,7,"HMONG ACADEMY",{"$f":"Gened!D412+'Specialed '!D412+Pension!D412","v":16999636},{"$f":"Gened!E412+'Specialed '!E412+Pension!E412","v":17320146},320510,1625,10461.314461538461,10658.551384615384,197.23692307692363,{"$f":"Gened!K412+'Specialed '!K412+Pension!K412","v":17705480},{"$f":"Gened!L412+'Specialed '!L412+Pension!L412","v":18378382},672902,1725,10264.046376811595,10654.134492753623,390.0881159420278,34705116,35698528,993412,3350,10359.736119402985,10656.277014925374,296.54089552238804]
[4104,7,"LIBERTY HIGH SCHOOL",{"$f":"Gened!D413+'Specialed '!D413+Pension!D413","v":4005906},{"$f":"Gened!E413+'Specialed '!E413+Pension!E413","v":4063488},57583,280,14306.807142857142,14512.457142857143,205.65000000000146,{"$f":"Gened!K413+'Specialed '!K413+Pension!K413","v":3062214},{"$f":"Gened!L413+'Specialed '!L413+Pension!L413","v":3142481},80267,110,27838.30909090909,28568.00909090909,729.70000000000073,7068120,7205969,137850,390,18123.384615384617,18476.843589743588,353.46153846153845]
[4105,7,"GREAT RIVER SCHOOL",{"$f":"Gened!D414+'Specialed '!D414+Pension!D414","v":3815611},{"$f":"Gened!E414+'Specialed '!E414+Pension!E414","v":3882317},66706,425,8977.9082352941168,9134.8635294117648,156.95529411764801,{"$f":"Gened!K414+'Specialed '!K414+Pension!K414","v":3718601},{"$f":"Gened!L414+'Specialed '!L414+Pension!L414","v":3849426},130825,406,9159.1157635467989,9481.3448275862065,322.2290640394076,7534212,7731743,197531,831,9066.4404332129961,9304.1432009626951,237.70276774969915]
[4106,7,"TREKNORTH HIGH SCHOOL",{"$f":"Gened!D415+'Specialed '!D415+Pension!D415","v":2555636},{"$f":"Gened!E415+'Specialed '!E415+Pension!E415","v":2599887},44251,235,10875.046808510639,11063.348936170212,188.30212765957367,{"$f":"Gened!K415+'Specialed '!K415+Pension!K415","v":2539001},{"$f":"Gened!L415+'Specialed '!L415+Pension!L415","v":2627450},88449,230,11039.134782608695,11423.695652173914,384.56086956521904,5094637,5227337,132700,465,10956.208602150538,11241.584946236559,285.3763440860215]
[4107,7,"VOYAGEURS EXPEDITIONARY",{"$f":"Gened!D416+'Specialed '!D416+Pension!D416","v":1384100},{"$f":"Gened!E416+'Specialed '!E416+Pension!E416","v":1407911},23810,112,12358.035714285714,12570.633928571429,212.59821428571558,{"$f":"Gened!K416+'Specialed '!K416+Pension!K416","v":1389437},{"$f":"Gened!L416+'Specialed '!L416+Pension!L416","v":1437586},48149,112,12405.6875,12835.589285714286,429.90178571428623,2773537,2845497,71959,224,12381.861607142857,12703.111607142857,321.24553571428572]
[4109,7,"SOBRIETY HIGH",{"$f":"Gened!D417+'Specialed '!D417+Pension!D417","v":0},{"$f":"Gened!E417+'Specialed '!E417+Pension!E417","v":0},0,0,{"$error":"#DIV/0!"},{"$error":"#DIV/0!"},{"$error":"#DIV/0!"},{"$f":"Gened!K417+'Specialed '!K417+Pension!K417","v":0},{"$f":"Gened!L417+'Specialed '!L417+Pension!L417","v":0},0,0,{"$error":"#DIV/0!"},{"$error":"#DIV/0!"},{"$error":"#DIV/0!"},0,0,0,0,{"$error":"#DIV/0!"},{"$error":"#DIV/0!"},{"$error":"#DIV/0!"}]
[4110,7,"MAIN STREET SCHOOL PERFORMING",{"$f":"Gened!D418+'Specialed '!D418+Pension!D418","v":3265299},{"$f":"Gened!E418+'Specialed '!E418+Pension!E418","v":3327032},61734,365,8946.0246575342462,9115.1561643835612,169.13150684931497,{"$f":"Gened!K418+'Specialed '!K418+Pension!K418","v":3349907},{"$f":"Gened!L418+'Specialed '!L418+Pension!L418","v":3477680},127773,375,8933.0853333333325,9273.8133333333335,340.72800000000097,6615206,6804712,189507,740,8939.467567567568,9195.5567567567559,256.09054054054053]
[4111,7,"AUGSBURG ACADEMY FOR HEALTH CA",{"$f":"Gened!D419+'Specialed '!D419+Pension!D419","v":1799483},{"$f":"Gened!E419+'Specialed '!E419+Pension!E419","v":1827979},28495,120,14995.691666666668,15233.158333333333,237.46666666666533,{"$f":"Gened!K419+'Specialed '!K419+Pension!K419","v":1808484},{"$f":"Gened!L419+'Specialed '!L419+Pension!L419","v":1866090},57606,120,15070.7,15550.75,480.04999999999927,3607967,3694069,86101,240,15033.195833333333,15391.954166666666,358.75416666666666]
[4112,7,"ST PAUL CONSERVATORY PERFORMIN",{"$f":"Gened!D420+'Specialed '!D420+Pension!D420","v":5090100},{"$f":"Gened!E420+'Specialed '!E420+Pension!E420","v":5189124},99023,595,8554.7899159663866,8721.2168067226885,166.42689075630187,{"$f":"Gened!K420+'Specialed '!K420+Pension!K420","v":5290963},{"$f":"Gened!L420+'Specialed '!L420+Pension!L420","v":5498580},207617,620,8533.811290322581,8868.677419354839,334.86612903225796,10381063,10687704,306640,1215,8544.084773662551,8796.4641975308641,252.37860082304528]
[4113,7,"FRASER ACADEMY",{"$f":"Gened!D421+'Specialed '!D421+Pension!D421","v":4484612},{"$f":"Gened!E421+'Specialed '!E421+Pension!E421","v":4503378},18767,105,42710.590476190475,42889.314285714288,178.72380952381354,{"$f":"Gened!K421+'Specialed '!K421+Pension!K421","v":4564512},{"$f":"Gened!L421+'Specialed '!L421+Pension!L421","v":4602861},38349,107,42658.990654205605,43017.392523364484,358.40186915887898,9049124,9106239,57116,212,42684.547169811318,42953.957547169812,269.41509433962267]
[4115,7,"MINNEAPOLIS ACADEMY CHARTER SC",{"$f":"Gened!D422+'Specialed '!D422+Pension!D422","v":570747},{"$f":"Gened!E422+'Specialed '!E422+Pension!E422","v":581978},11232,0,{"$error":"#DIV/0!"},{"$error":"#DIV/0!"},{"$error":"#DIV/0!"},{"$f":"Gened!K422+'Specialed '!K422+Pension!K422","v":574929},{"$f":"Gened!L422+'Specialed '!L422+Pension!L422","v":597603},22674,0,{"$error":"#DIV/0!"},{"$error":"#DIV/0!"},{"$error":"#DIV/0!"},1145676,1179581,33906,0,{"$error":"#DIV/0!"},{"$error":"#DIV/0!"},{"$error":"#DIV/0!"}]
[4116,7,"LAKES INTERNATIONAL LANGUAGE A",{"$f":"Gened!D423+'Specialed '!D423+Pension!D423","v":8283184},{"$f":"Gened!E423+'Specialed '!E423+Pension!E423","v":8437333},154150,1151,7196.5108601216334,7330.4370112945262,133.92615117289279,{"$f":"Gened!K423+'Specialed '!K423+Pension!K423","v":10329743},{"$f":"Gened!L423+'Specialed '!L423+Pension!L423","v":10718548},388805,1433,7208.4738311235169,7479.7962316817866,271.32240055826969,18612927,19155881,542955,2584,7203.1451238390091,7413.2666408668729,210.12190402476782]
[4118,7,"KALEIDOSCOPE CHARTER SCHOOL",{"$f":"Gened!D424+'Specialed '!D424+Pension!D424","v":5792237},{"$f":"Gened!E424+'Specialed '!E424+Pension!E424","v":5884157},91920,663,8736.4057315233786,8875.048265460031,138.6425339366524,{"$f":"Gened!K424+'Specialed '!K424+Pension!K424","v":6034845},{"$f":"Gened!L424+'Specialed '!L424+Pension!L424","v":6228998},194153,691,8733.4949348769896,9014.4688856729372,280.97395079594753,11827082,12113155,286073,1354,8734.9202363367804,8946.2001477104877,211.27991137370753]
[4119,7,"RIVER HEIGHTS CHARTER SCHOOL",{"$f":"Gened!D425+'Specialed '!D425+Pension!D425","v":1308558},{"$f":"Gened!E425+'Specialed '!E425+Pension!E425","v":1328504},19946,93,14070.516129032258,14284.989247311827,214.47311827956946,{"$f":"Gened!K425+'Specialed '!K425+Pension!K425","v":988755},{"$f":"Gened!L425+'Specialed '!L425+Pension!L425","v":1016510},27755,55,17977.363636363636,18482,504.63636363636397,2297313,2345014,47701,148,15522.385135135135,15844.68918918919,322.30405405405406]
[4120,7,"ST. CROIX PREPARATORY ACADEMY",{"$f":"Gened!D426+'Specialed '!D426+Pension!D426","v":8902732},{"$f":"Gened!E426+'Specialed '!E426+Pension!E426","v":9068053},165321,1150,7741.5060869565214,7885.2634782608693,143.75739130434795,{"$f":"Gened!K426+'Specialed '!K426+Pension!K426","v":8992270},{"$f":"Gened!L426+'Specialed '!L426+Pension!L426","v":9329104},336834,1159,7758.6453839516826,8049.2700603968942,290.62467644521166,17895002,18397157,502155,2309,7750.1091381550459,7967.5864010394107,217.47726288436553]
[4121,7,"UBAH MEDICAL ACADEMY CHARTER S",{"$f":"Gened!D427+'Specialed '!D427+Pension!D427","v":4831184},{"$f":"Gened!E427+'Specialed '!E427+Pension!E427","v":4922172},90989,400,12077.96,12305.43,227.47000000000116,{"$f":"Gened!K427+'Specialed '!K427+Pension!K427","v":4845180},{"$f":"Gened!L427+'Specialed '!L427+Pension!L427","v":5029238},184058,400,12112.95,12573.094999999999,460.14499999999862,9676364,9951410,275047,800,12095.455,12439.262500000001,343.80874999999997]
[4122,7,"EAGLE RIDGE ACADEMY CHARTER SC",{"$f":"Gened!D428+'Specialed '!D428+Pension!D428","v":10741958},{"$f":"Gened!E428+'Specialed '!E428+Pension!E428","v":10939282},197324,1386,7750.330447330447,7892.699855699856,142.36940836940903,{"$f":"Gened!K428+'Specialed '!K428+Pension!K428","v":11442141},{"$f":"Gened!L428+'Specialed '!L428+Pension!L428","v":11866987},424846,1477,7746.8794854434664,8034.5206499661472,287.64116452268081,22184099,22806269,622170,2863,7748.5501222493886,7965.8641285365002,217.31400628711143]
[4123,7,"DAKOTA AREA COMMUNITY CHARTER",{"$f":"Gened!D429+'Specialed '!D429+Pension!D429","v":0},{"$f":"Gened!E429+'Specialed '!E429+Pension!E429","v":88},89,0,{"$error":"#DIV/0!"},{"$error":"#DIV/0!"},{"$error":"#DIV/0!"},{"$f":"Gened!K429+'Specialed '!K429+Pension!K429","v":0},{"$f":"Gened!L429+'Specialed '!L429+Pension!L429","v":176},176,0,{"$error":"#DIV/0!"},{"$error":"#DIV/0!"},{"$error":"#DIV/0!"},0,264,265,0,{"$error":"#DIV/0!"},{"$error":"#DIV/0!"},{"$error":"#DIV/0!"}]
[4124,7,"BEACON ACADEMY",{"$f":"Gened!D430+'Specialed '!D430+Pension!D430","v":4037623},{"$f":"Gened!E430+'Specialed '!E430+Pension!E430","v":4098910},61287,412,9800.0558252427181,9948.8106796116499,148.75485436893177,{"$f":"Gened!K430+'Specialed '!K430+Pension!K430","v":4042937},{"$f":"Gened!L430+'Specialed '!L430+Pension!L430","v":4166259},123322,408,9909.1593137254895,10211.419117647059,302.25980392156998,8080560,8265169,184609,820,9854.3414634146338,10079.474390243902,225.13292682926829]
[4126,7,"PRAIRIE SEEDS ACADEMY",{"$f":"Gened!D431+'Specialed '!D431+Pension!D431","v":7616764},{"$f":"Gened!E431+'Specialed '!E431+Pension!E431","v":7769705},152941,766,9943.5561357702354,10143.218015665796,199.66187989556056,{"$f":"Gened!K431+'Specialed '!K431+Pension!K431","v":7702660},{"$f":"Gened!L431+'Specialed '!L431+Pension!L431","v":8014965},312305,778,9900.5912596401031,10302.011568123393,401.42030848328977,15319424,15784670,465246,1544,9921.9067357512959,10223.231865284974,301.32512953367876]
[4127,7,"TEAM ACADEMY",{"$f":"Gened!D432+'Specialed '!D432+Pension!D432","v":1261014},{"$f":"Gened!E432+'Specialed '!E432+Pension!E432","v":1282584},21571,118,10686.559322033898,10869.355932203391,182.79661016949285,{"$f":"Gened!K432+'Specialed '!K432+Pension!K432","v":1278540},{"$f":"Gened!L432+'Specialed '!L432+Pension!L432","v":1322610},44070,120,10654.5,11021.75,367.25,2539554,2605194,65641,238,10670.394957983193,10946.193277310924,275.80252100840335]
[4131,7,"LIGHTHOUSE ACADEMY OF NATIONS",{"$f":"Gened!D433+'Specialed '!D433+Pension!D433","v":3730032},{"$f":"Gened!E433+'Specialed '!E433+Pension!E433","v":3797547},67515,300,12433.44,12658.49,225.04999999999927,{"$f":"Gened!K433+'Specialed '!K433+Pension!K433","v":3740086},{"$f":"Gened!L433+'Specialed '!L433+Pension!L433","v":3876645},136559,300,12466.953333333333,12922.15,455.19666666666672,7470118,7674192,204074,600,12450.196666666667,12790.32,340.12333333333333]
[4132,7,"TWIN CITIES ACADEMY HIGH SCHOOL",{"$f":"Gened!D434+'Specialed '!D434+Pension!D434","v":5683884},{"$f":"Gened!E434+'Specialed '!E434+Pension!E434","v":5801841},117957,620,9167.5548387096769,9357.8080645161299,190.25322580645297,{"$f":"Gened!K434+'Specialed '!K434+Pension!K434","v":5758995},{"$f":"Gened!L434+'Specialed '!L434+Pension!L434","v":5981085},222090,630,9141.2619047619046,9493.7857142857138,352.52380952380918,11442879,11782926,340047,1250,9154.3032000000003,9426.3407999999999,272.0376]
[4133,7,"BEACON PREPARATORY SCHOOL",{"$f":"Gened!D435+'Specialed '!D435+Pension!D435","v":0},{"$f":"Gened!E435+'Specialed '!E435+Pension!E435","v":0},0,0,{"$error":"#DIV/0!"},{"$error":"#DIV/0!"},{"$error":"#DIV/0!"},{"$f":"Gened!K435+'Specialed '!K435+Pension!K435","v":0},{"$f":"Gened!L435+'Specialed '!L435+Pension!L435","v":0},0,0,{"$error":"#DIV/0!"},{"$error":"#DIV/0!"},{"$error":"#DIV/0!"},0,0,0,0,{"$error":"#DIV/0!"},{"$error":"#DIV/0!"},{"$error":"#DIV/0!"}]
[4135,7,"ADAM ABDULLE ACADEMY",{"$f":"Gened!D436+'Specialed '!D436+Pension!D436","v":3926799},{"$f":"Gened!E436+'Specialed '!E436+Pension!E436","v":3998916},72117,350,11219.425714285715,11425.474285714286,206.04857142857145,{"$f":"Gened!K436+'Specialed '!K436+Pension!K436","v":3934255},{"$f":"Gened!L436+'Specialed '!L436+Pension!L436","v":4080148},145893,350,11240.728571428572,11657.565714285714,416.83714285714268,7861054,8079064,218010,700,11230.077142857142,11541.52,311.44285714285712]
[4137,7,"SWAN RIVER MONTESSORI CHARTER",{"$f":"Gened!D437+'Specialed '!D437+Pension!D437","v":1459003},{"$f":"Gened!E437+'Specialed '!E437+Pension!E437","v":1479828},20825,150,9726.6866666666665,9865.52,138.83333333333394,{"$f":"Gened!K437+'Specialed '!K437+Pension!K437","v":1452718},{"$f":"Gened!L437+'Specialed '!L437+Pension!L437","v":1494184},41466,150,9684.7866666666669,9961.2266666666674,276.44000000000051,2911721,2974012,62291,300,9705.7366666666658,9913.373333333333,207.63666666666666]
[4138,7,"MILROY AREA CHARTER SCHOOL",{"$f":"Gened!D438+'Specialed '!D438+Pension!D438","v":333981},{"$f":"Gened!E438+'Specialed '!E438+Pension!E438","v":340749},6768,49,6815.9387755102043,6954.0612244897957,138.12244897959135,{"$f":"Gened!K438+'Specialed '!K438+Pension!K438","v":329765},{"$f":"Gened!L438+'Specialed '!L438+Pension!L438","v":343285},13520,48,6870.104166666667,7151.770833333333,281.66666666666606,663746,684034,20288,97,6842.7422680412374,7051.8969072164946,209.15463917525773]
[4139,7,"LOVEWORKS ACADEMY FOR ARTS",{"$f":"Gened!D439+'Specialed '!D439+Pension!D439","v":3258317},{"$f":"Gened!E439+'Specialed '!E439+Pension!E439","v":3313907},55590,306,10648.094771241829,10829.761437908497,181.66666666666788,{"$f":"Gened!K439+'Specialed '!K439+Pension!K439","v":3342811},{"$f":"Gened!L439+'Specialed '!L439+Pension!L439","v":3466429},123618,302,11068.91059602649,11478.241721854305,409.33112582781541,6601128,6780336,179208,608,10857.118421052632,11151.868421052632,294.75]
[4140,7,"YINGHUA ACADEMY",{"$f":"Gened!D440+'Specialed '!D440+Pension!D440","v":5563364},{"$f":"Gened!E440+'Specialed '!E440+Pension!E440","v":5667341},103977,748,7437.6524064171126,7576.659090909091,139.00668449197838,{"$f":"Gened!K440+'Specialed '!K440+Pension!K440","v":6129140},{"$f":"Gened!L440+'Specialed '!L440+Pension!L440","v":6360523},231383,829,7393.413751507841,7672.5247285886608,279.11097708081979,11692504,12027864,335360,1577,7414.396956246037,7627.0538998097654,212.65694356372859]
[4141,7,"PAIDEIA ACADEMY CHARTER SCHOOL",{"$f":"Gened!D441+'Specialed '!D441+Pension!D441","v":926286},{"$f":"Gened!E441+'Specialed '!E441+Pension!E441","v":933523},7236,0,{"$error":"#DIV/0!"},{"$error":"#DIV/0!"},{"$error":"#DIV/0!"},{"$f":"Gened!K441+'Specialed '!K441+Pension!K441","v":944357},{"$f":"Gened!L441+'Specialed '!L441+Pension!L441","v":958849},14492,0,{"$error":"#DIV/0!"},{"$error":"#DIV/0!"},{"$error":"#DIV/0!"},1870643,1892372,21728,0,{"$error":"#DIV/0!"},{"$error":"#DIV/0!"},{"$error":"#DIV/0!"}]
[4142,7,"STRIDE ACADEMY CHARTER SCHOOL",{"$f":"Gened!D442+'Specialed '!D442+Pension!D442","v":6194334},{"$f":"Gened!E442+'Specialed '!E442+Pension!E442","v":6303294},108960,722,8579.4099722991687,8730.3240997229914,150.91412742382272,{"$f":"Gened!K442+'Specialed '!K442+Pension!K442","v":6281298},{"$f":"Gened!L442+'Specialed '!L442+Pension!L442","v":6504249},222951,732,8581.0081967213118,8885.5860655737706,304.57786885245878,12475632,12807543,331911,1454,8580.2145804676748,8808.488995873453,228.27441540577718]
[4143,7,"NEW MILLENNIUM ACADEMY CHARTER",{"$f":"Gened!D443+'Specialed '!D443+Pension!D443","v":7098993},{"$f":"Gened!E443+'Specialed '!E443+Pension!E443","v":7221957},122963,660,10756.05,10942.359090909091,186.30909090909154,{"$f":"Gened!K443+'Specialed '!K443+Pension!K443","v":7360452},{"$f":"Gened!L443+'Specialed '!L443+Pension!L443","v":7618265},257813,695,10590.578417266188,10961.53237410072,370.95395683453171,14459445,14840222,380776,1355,10671.177121771218,10952.19335793358,281.01549815498157]
[4144,7,"GREEN ISLE COMMUNITY SCHOOL",{"$f":"Gened!D444+'Specialed '!D444+Pension!D444","v":588663},{"$f":"Gened!E444+'Specialed '!E444+Pension!E444","v":597117},8453,60,9811.0499999999993,9951.9500000000007,140.90000000000146,{"$f":"Gened!K444+'Specialed '!K444+Pension!K444","v":614806},{"$f":"Gened!L444+'Specialed '!L444+Pension!L444","v":632727},17921,65,9458.5538461538454,9734.2615384615383,275.70769230769292,1203469,1229844,26374,125,9627.7520000000004,9838.7520000000004,210.99199999999999]
[4145,7,"BIRCH GROVE COMMUNITY SCHOOL",{"$f":"Gened!D445+'Specialed '!D445+Pension!D445","v":369173},{"$f":"Gened!E445+'Specialed '!E445+Pension!E445","v":374474},5301,30,12305.766666666666,12482.466666666667,176.70000000000073,{"$f":"Gened!K445+'Specialed '!K445+Pension!K445","v":399773},{"$f":"Gened!L445+'Specialed '!L445+Pension!L445","v":411565},11792,34,11758.029411764706,12104.85294117647,346.82352941176396,768946,786039,17093,64,12014.78125,12281.859375,267.078125]
[4146,7,"NORTHERN LIGHTS COMMUNITY SCHO",{"$f":"Gened!D446+'Specialed '!D446+Pension!D446","v":1864916},{"$f":"Gened!E446+'Specialed '!E446+Pension!E446","v":1886556},21641,90,20721.288888888888,20961.733333333334,240.44444444444525,{"$f":"Gened!K446+'Specialed '!K446+Pension!K446","v":1801116},{"$f":"Gened!L446+'Specialed '!L446+Pension!L446","v":1841760},40644,80,22513.95,23022,508.04999999999927,3666032,3728316,62285,170,21564.894117647058,21931.270588235293,366.38235294117646]
[4150,7,"MINNESOTA ONLINE HIGH SCHOOL",{"$f":"Gened!D447+'Specialed '!D447+Pension!D447","v":1513789},{"$f":"Gened!E447+'Specialed '!E447+Pension!E447","v":1540638},26849,158,9580.9430379746827,9750.8734177215192,169.93037974683648,{"$f":"Gened!K447+'Specialed '!K447+Pension!K447","v":1518619},{"$f":"Gened!L447+'Specialed '!L447+Pension!L447","v":1572887},54268,158,9611.5126582278481,9954.981012658227,343.46835443037889,3032408,3113525,81117,316,9596.2278481012654,9852.9272151898731,256.69936708860757]
[4151,7,"EDVISIONS OFF CAMPUS SCHOOL",{"$f":"Gened!D448+'Specialed '!D448+Pension!D448","v":1254034},{"$f":"Gened!E448+'Specialed '!E448+Pension!E448","v":1274748},20714,115,10904.64347826087,11084.765217391305,180.12173913043443,{"$f":"Gened!K448+'Specialed '!K448+Pension!K448","v":1242187},{"$f":"Gened!L448+'Specialed '!L448+Pension!L448","v":1283388},41201,112,11090.955357142857,11458.821428571429,367.86607142857247,2496221,2558136,61915,227,10996.568281938326,11269.321585903084,272.75330396475772]
[4152,7,"TWIN CITIES GERMAN IMMERSION C",{"$f":"Gened!D449+'Specialed '!D449+Pension!D449","v":4561631},{"$f":"Gened!E449+'Specialed '!E449+Pension!E449","v":4640616},78985,554,8233.9909747292422,8376.5631768953062,142.57220216606402,{"$f":"Gened!K449+'Specialed '!K449+Pension!K449","v":4859438},{"$f":"Gened!L449+'Specialed '!L449+Pension!L449","v":5029853},170415,594,8180.8720538720536,8467.7659932659935,286.89393939393995,9421069,9670469,249400,1148,8206.5060975609758,8423.7534843205576,217.24738675958187]
[4153,7,"DUGSI ACADEMY",{"$f":"Gened!D450+'Specialed '!D450+Pension!D450","v":4275739},{"$f":"Gened!E450+'Specialed '!E450+Pension!E450","v":4352712},76973,387,11048.421188630491,11247.317829457364,198.89664082687341,{"$f":"Gened!K450+'Specialed '!K450+Pension!K450","v":4364646},{"$f":"Gened!L450+'Specialed '!L450+Pension!L450","v":4523367},158721,398,10966.447236180904,11365.243718592965,398.79648241206087,8640385,8876079,235694,785,11006.859872611465,11307.107006369426,300.24713375796176]
[4155,7,"NAYTAUWAUSH COMMUNITY SCHOOL",{"$f":"Gened!D451+'Specialed '!D451+Pension!D451","v":1315769},{"$f":"Gened!E451+'Specialed '!E451+Pension!E451","v":1337982},22213,108,12183.046296296296,12388.722222222223,205.675925925927,{"$f":"Gened!K451+'Specialed '!K451+Pension!K451","v":1322924},{"$f":"Gened!L451+'Specialed '!L451+Pension!L451","v":1367816},44892,108,12249.296296296296,12664.962962962964,415.66666666666788,2638693,2705798,67105,216,12216.171296296296,12526.842592592593,310.6712962962963]
[4159,7,"SEVEN HILLS CLASSICAL ACADEMY",{"$f":"Gened!D452+'Specialed '!D452+Pension!D452","v":7567843},{"$f":"Gened!E452+'Specialed '!E452+Pension!E452","v":7698916},131074,916,8261.8373362445418,8404.9301310043666,143.09279475982476,{"$f":"Gened!K452+'Specialed '!K452+Pension!K452","v":8071600},{"$f":"Gened!L452+'Specialed '!L452+Pension!L452","v":8354775},283175,989,8161.3751263902932,8447.699696663296,286.32457027300279,15639443,16053691,414249,1905,8209.6813648293955,8427.1343832020993,217.45354330708662]
[4160,7,"SPECTRUM HIGH SCHOOL",{"$f":"Gened!D453+'Specialed '!D453+Pension!D453","v":5766417},{"$f":"Gened!E453+'Specialed '!E453+Pension!E453","v":5871874},105457,655,8803.6900763358772,8964.6931297709925,161.00305343511536,{"$f":"Gened!K453+'Specialed '!K453+Pension!K453","v":5778395},{"$f":"Gened!L453+'Specialed '!L453+Pension!L453","v":5991634},213239,655,8821.9770992366412,9147.5328244274806,325.55572519083944,11544812,11863508,318696,1310,8812.8335877862592,9056.1129770992375,243.27938931297709]
[4161,7,"NEW DISCOVERIES MONTESSORI ACADEMY",{"$f":"Gened!D454+'Specialed '!D454+Pension!D454","v":2480124},{"$f":"Gened!E454+'Specialed '!E454+Pension!E454","v":2512223},32099,191,12984.942408376963,13153,168.0575916230373,{"$f":"Gened!K454+'Specialed '!K454+Pension!K454","v":2725012},{"$f":"Gened!L454+'Specialed '!L454+Pension!L454","v":2798614},73602,220,12386.418181818182,12720.972727272727,334.5545454545445,5205136,5310837,105701,411,12664.564476885645,12921.744525547445,257.18004866180047]
[4162,7,"SOUTHSIDE FAMILY CHARTER SCHOOL",{"$f":"Gened!D455+'Specialed '!D455+Pension!D455","v":1044894},{"$f":"Gened!E455+'Specialed '!E455+Pension!E455","v":1063529},18634,120,8707.4500000000007,8862.7416666666668,155.29166666666606,{"$f":"Gened!K455+'Specialed '!K455+Pension!K455","v":1069957},{"$f":"Gened!L455+'Specialed '!L455+Pension!L455","v":1108425},38468,123,8698.8373983739839,9011.585365853658,312.74796747967412,2114851,2171954,57102,243,8703.0905349794248,8938.0823045267498,234.98765432098764]
[4163,7,"LEARNING FOR LEADERSHIP CHARTER",{"$f":"Gened!D456+'Specialed '!D456+Pension!D456","v":3288741},{"$f":"Gened!E456+'Specialed '!E456+Pension!E456","v":3340206},51465,238,13818.23949579832,14034.478991596639,216.23949579831969,{"$f":"Gened!K456+'Specialed '!K456+Pension!K456","v":3277923},{"$f":"Gened!L456+'Specialed '!L456+Pension!L456","v":3380939},103016,237,13830.898734177215,14265.565400843881,434.66666666666606,6566664,6721145,154481,475,13824.555789473685,14149.778947368421,325.22315789473686]
[4164,7,"LAURA JEFFREY ACADEMY CHARTER",{"$f":"Gened!D457+'Specialed '!D457+Pension!D457","v":1986720},{"$f":"Gened!E457+'Specialed '!E457+Pension!E457","v":2011204},24484,130,15282.461538461539,15470.8,188.33846153846025,{"$f":"Gened!K457+'Specialed '!K457+Pension!K457","v":2004115},{"$f":"Gened!L457+'Specialed '!L457+Pension!L457","v":2053578},49463,130,15416.26923076923,15796.753846153846,380.48461538461561,3990835,4064782,73947,260,15349.365384615385,15633.776923076923,284.41153846153844]
[4166,7,"EAST RANGE ACADEMY OF TECH &SCIENCE",{"$f":"Gened!D458+'Specialed '!D458+Pension!D458","v":1629591},{"$f":"Gened!E458+'Specialed '!E458+Pension!E458","v":1657571},27980,130,12535.315384615385,12750.546153846153,215.23076923076769,{"$f":"Gened!K458+'Specialed '!K458+Pension!K458","v":1548902},{"$f":"Gened!L458+'Specialed '!L458+Pension!L458","v":1602221},53319,115,13468.713043478261,13932.35652173913,463.64347826086851,3178493,3259792,81299,245,12973.440816326531,13305.273469387756,331.83265306122451]
[4167,7,"INTERNATIONAL SPANISH LANGUAGE ACAD",{"$f":"Gened!D459+'Specialed '!D459+Pension!D459","v":2225858},{"$f":"Gened!E459+'Specialed '!E459+Pension!E459","v":2268399},42540,346,{"$f":"D459/G459","v":6433.115606936416},{"$f":"E459/G459","v":6556.0664739884396},{"$f":"I459-H459","v":122.95086705202357},{"$f":"Gened!K459+'Specialed '!K459+Pension!K459","v":2208805},{"$f":"Gened!L459+'Specialed '!L459+Pension!L459","v":2293962},{"$f":"L459-K459","v":85157},348,{"$f":"K459/N459","v":6347.1408045977014},{"$f":"L459/N459","v":6591.8448275862065},{"$f":"P459-O459","v":244.70402298850513},{"$f":"D459+K459","v":4434663},{"$f":"E459+L459","v":4562361},{"$f":"F459+M459","v":127697},694,{"$f":"R459/U459","v":6390.004322766571},{"$f":"S459/U459","v":6574.0072046109508},{"$f":"T459/U459","v":184.0014409221902}]
[4168,7,"GLACIAL HILLS ELEMENTARY",{"$f":"Gened!D460+'Specialed '!D460+Pension!D460","v":1138400},{"$f":"Gened!E460+'Specialed '!E460+Pension!E460","v":1157151},18751,116,9813.7931034482754,9975.439655172413,161.64655172413768,{"$f":"Gened!K460+'Specialed '!K460+Pension!K460","v":1143417},{"$f":"Gened!L460+'Specialed '!L460+Pension!L460","v":1181311},37894,116,9857.0431034482754,10183.715517241379,326.67241379310326,2281817,2338462,56645,232,9835.4181034482754,10079.577586206897,244.1594827586207]
[4169,7,"ELLIOT PARK COMMUNITY SCHOOL",{"$f":"Gened!D461+'Specialed '!D461+Pension!D461","v":3755106},{"$f":"Gened!E461+'Specialed '!E461+Pension!E461","v":3816533},61427,300,12517.02,12721.776666666667,204.75666666666621,{"$f":"Gened!K461+'Specialed '!K461+Pension!K461","v":3769596},{"$f":"Gened!L461+'Specialed '!L461+Pension!L461","v":3893815},124219,300,12565.32,12979.383333333333,414.0633333333335,7524702,7710348,185646,600,12541.17,12850.58,309.41000000000003]
[4170,7,"HIAWATHA LEADERSHIP ACADEMY",{"$f":"Gened!D462+'Specialed '!D462+Pension!D462","v":14569341},{"$f":"Gened!E462+'Specialed '!E462+Pension!E462","v":14842645},273304,1425,10224.09894736842,10415.891228070175,191.79228070175486,{"$f":"Gened!K462+'Specialed '!K462+Pension!K462","v":14965568},{"$f":"Gened!L462+'Specialed '!L462+Pension!L462","v":15532559},566991,1484,10084.614555256065,10466.683962264151,382.06940700808627,29534909,30375204,840295,2909,10152.942248195257,10441.802681333791,288.8604331385356]
[4171,7,"NOBLE ACADEMY",{"$f":"Gened!D463+'Specialed '!D463+Pension!D463","v":7777105},{"$f":"Gened!E463+'Specialed '!E463+Pension!E463","v":7924105},147000,890,8738.3202247191002,8903.4887640449433,165.16853932584308,{"$f":"Gened!K463+'Specialed '!K463+Pension!K463","v":7847394},{"$f":"Gened!L463+'Specialed '!L463+Pension!L463","v":8147282},299888,900,8719.3266666666659,9052.5355555555561,333.20888888889021,15624499,16071387,446888,1790,8728.7703910614528,8978.4284916201123,249.65810055865921]
[4172,7,"CLARKFIELD CHARTER SCHOOL",{"$f":"Gened!D464+'Specialed '!D464+Pension!D464","v":518794},{"$f":"Gened!E464+'Specialed '!E464+Pension!E464","v":527047},8254,51,10172.431372549019,10334.254901960785,161.82352941176578,{"$f":"Gened!K464+'Specialed '!K464+Pension!K464","v":489953},{"$f":"Gened!L464+'Specialed '!L464+Pension!L464","v":505462},15509,44,11135.295454545454,11487.772727272728,352.47727272727388,1008747,1032509,23763,95,10618.38947368421,10868.515789473684,250.13684210526316]
[4173,7,"DUNWOODY ACADEMY",{"$f":"Gened!D465+'Specialed '!D465+Pension!D465","v":0},{"$f":"Gened!E465+'Specialed '!E465+Pension!E465","v":0},0,0,{"$error":"#DIV/0!"},{"$error":"#DIV/0!"},{"$error":"#DIV/0!"},{"$f":"Gened!K465+'Specialed '!K465+Pension!K465","v":0},{"$f":"Gened!L465+'Specialed '!L465+Pension!L465","v":0},0,0,{"$error":"#DIV/0!"},{"$error":"#DIV/0!"},{"$error":"#DIV/0!"},0,0,0,0,{"$error":"#DIV/0!"},{"$error":"#DIV/0!"},{"$error":"#DIV/0!"}]
[4177,7,"MINISINAAKWAANG LEADERSHIP ACADEMY",{"$f":"Gened!D466+'Specialed '!D466+Pension!D466","v":414628},{"$f":"Gened!E466+'Specialed '!E466+Pension!E466","v":420236},5608,31,13375.096774193549,13556,180.90322580645079,{"$f":"Gened!K466+'Specialed '!K466+Pension!K466","v":419607},{"$f":"Gened!L466+'Specialed '!L466+Pension!L466","v":430985},11378,31,13535.709677419354,13902.741935483871,367.03225806451701,834235,851221,16986,62,13455.403225806451,13729.370967741936,273.96774193548384]
[4178,7,"LINCOLN INTERNATIONAL SCHOOL",{"$f":"Gened!D467+'Specialed '!D467+Pension!D467","v":1961266},{"$f":"Gened!E467+'Specialed '!E467+Pension!E467","v":1998209},36944,160,12257.9125,12488.80625,230.89374999999927,{"$f":"Gened!K467+'Specialed '!K467+Pension!K467","v":1964000},{"$f":"Gened!L467+'Specialed '!L467+Pension!L467","v":2038723},74723,160,12275,12742.018749999999,467.01874999999927,3925266,4036932,111667,320,12266.456249999999,12615.4125,348.95937500000002]
[4180,7,"EMILY O. GOODRIDGE-GREY ACCELERATED",{"$f":"Gened!D468+'Specialed '!D468+Pension!D468","v":0},{"$f":"Gened!E468+'Specialed '!E468+Pension!E468","v":0},0,0,{"$error":"#DIV/0!"},{"$error":"#DIV/0!"},{"$error":"#DIV/0!"},{"$f":"Gened!K468+'Specialed '!K468+Pension!K468","v":0},{"$f":"Gened!L468+'Specialed '!L468+Pension!L468","v":0},0,0,{"$error":"#DIV/0!"},{"$error":"#DIV/0!"},{"$error":"#DIV/0!"},0,0,0,0,{"$error":"#DIV/0!"},{"$error":"#DIV/0!"},{"$error":"#DIV/0!"}]
[4181,7,"COMMUNITY SCHOOL OF EXCELLENCE",{"$f":"Gened!D469+'Specialed '!D469+Pension!D469","v":11391129},{"$f":"Gened!E469+'Specialed '!E469+Pension!E469","v":11605458},214329,1070,10645.914953271029,10846.222429906542,200.30747663551301,{"$f":"Gened!K469+'Specialed '!K469+Pension!K469","v":11792244},{"$f":"Gened!L469+'Specialed '!L469+Pension!L469","v":12239266},447022,1120,10528.789285714285,10927.916071428572,399.1267857142866,23183373,23844724,661351,2190,10586.01506849315,10888.001826484018,301.9867579908676]
[4182,7,"QUEST ACADEMY",{"$f":"Gened!D470+'Specialed '!D470+Pension!D470","v":0},{"$f":"Gened!E470+'Specialed '!E470+Pension!E470","v":0},0,0,{"$error":"#DIV/0!"},{"$error":"#DIV/0!"},{"$error":"#DIV/0!"},{"$f":"Gened!K470+'Specialed '!K470+Pension!K470","v":0},{"$f":"Gened!L470+'Specialed '!L470+Pension!L470","v":0},0,0,{"$error":"#DIV/0!"},{"$error":"#DIV/0!"},{"$error":"#DIV/0!"},0,0,0,0,{"$error":"#DIV/0!"},{"$error":"#DIV/0!"},{"$error":"#DIV/0!"}]
[4183,7,"LIONSGATE ACADEMY",{"$f":"Gened!D471+'Specialed '!D471+Pension!D471","v":10015499},{"$f":"Gened!E471+'Specialed '!E471+Pension!E471","v":10067485},51986,197,50840.096446700511,51103.984771573603,263.88832487309264,{"$f":"Gened!K471+'Specialed '!K471+Pension!K471","v":10209080},{"$f":"Gened!L471+'Specialed '!L471+Pension!L471","v":10303142},94062,202,50540,51005.653465346535,465.65346534653509,20224579,20370627,146048,399,50688.167919799496,51054.203007518794,366.03508771929825]
[4184,7,"ASPEN ACADEMY",{"$f":"Gened!D472+'Specialed '!D472+Pension!D472","v":4067947},{"$f":"Gened!E472+'Specialed '!E472+Pension!E472","v":4146216},78269,550,7396.2672727272729,7538.5745454545458,142.3072727272729,{"$f":"Gened!K472+'Specialed '!K472+Pension!K472","v":4668959},{"$f":"Gened!L472+'Specialed '!L472+Pension!L472","v":4849852},180893,634,7364.2886435331229,7649.6088328075712,285.32018927444824,8736906,8996068,259162,1184,7379.1435810810808,7598.030405405405,218.88682432432432]
[4185,7,"DAVINCI ACADEMY",{"$f":"Gened!D473+'Specialed '!D473+Pension!D473","v":3671594},{"$f":"Gened!E473+'Specialed '!E473+Pension!E473","v":3731214},59620,405,9065.6641975308648,9212.8740740740741,147.20987654320925,{"$f":"Gened!K473+'Specialed '!K473+Pension!K473","v":3754550},{"$f":"Gened!L473+'Specialed '!L473+Pension!L473","v":3877618},123068,412,9112.9854368932047,9411.6941747572819,298.70873786407719,7426144,7608832,182688,817,9089.5275397796813,9313.1358629130973,223.60832313341493]
[4186,7,"GLOBAL ACADEMY",{"$f":"Gened!D474+'Specialed '!D474+Pension!D474","v":5387343},{"$f":"Gened!E474+'Specialed '!E474+Pension!E474","v":5480093},92750,432,12470.701388888889,12685.400462962964,214.69907407407482,{"$f":"Gened!K474+'Specialed '!K474+Pension!K474","v":5407638},{"$f":"Gened!L474+'Specialed '!L474+Pension!L474","v":5595152},187514,432,12517.680555555555,12951.740740740741,434.06018518518613,10794981,11075245,280264,864,12494.190972222223,12818.570601851852,324.37962962962962]
[4187,7,"MICHAEL FROME ACADEMY",{"$f":"Gened!D475+'Specialed '!D475+Pension!D475","v":661759},{"$f":"Gened!E475+'Specialed '!E475+Pension!E475","v":673420},11661,91,7272.0769230769229,7400.2197802197807,128.14285714285779,{"$f":"Gened!K475+'Specialed '!K475+Pension!K475","v":731257},{"$f":"Gened!L475+'Specialed '!L475+Pension!L475","v":757421},26164,102,7169.1862745098042,7425.6960784313724,256.50980392156816,1393016,1430841,37825,193,7217.6994818652847,7413.6839378238346,195.98445595854923]
[4188,7,"COLOGNE ACADEMY",{"$f":"Gened!D476+'Specialed '!D476+Pension!D476","v":6088827},{"$f":"Gened!E476+'Specialed '!E476+Pension!E476","v":6183677},94849,641,9498.9500780031194,9646.9219968798752,147.97191887675581,{"$f":"Gened!K476+'Specialed '!K476+Pension!K476","v":6373506},{"$f":"Gened!L476+'Specialed '!L476+Pension!L476","v":6575009},201503,677,9414.336779911373,9711.9778434268828,297.64106351550981,12462333,12758686,296352,1318,9455.4878603945381,9680.3383915022769,224.84977238239756]
[4189,7,"BRIGHT WATER ELEMENTARY",{"$f":"Gened!D477+'Specialed '!D477+Pension!D477","v":1993614},{"$f":"Gened!E477+'Specialed '!E477+Pension!E477","v":2023283},29669,193,10329.60621761658,10483.331606217616,153.72538860103668,{"$f":"Gened!K477+'Specialed '!K477+Pension!K477","v":2157916},{"$f":"Gened!L477+'Specialed '!L477+Pension!L477","v":2223790},65874,217,9944.3133640552987,10247.880184331798,303.56682027649913,4151530,4247073,95543,410,10125.682926829268,10358.714634146341,233.03170731707317]
[4190,7,"RIVERS EDGE ACADEMY",{"$f":"Gened!D478+'Specialed '!D478+Pension!D478","v":1055994},{"$f":"Gened!E478+'Specialed '!E478+Pension!E478","v":1070868},14873,74,14270.18918918919,14471.18918918919,201,{"$f":"Gened!K478+'Specialed '!K478+Pension!K478","v":1054934},{"$f":"Gened!L478+'Specialed '!L478+Pension!L478","v":1084706},29772,73,14451.150684931506,14858.986301369863,407.83561643835674,2110928,2155574,44645,147,14360.054421768707,14663.768707482994,303.70748299319729]
[4191,7,"KIPP MINNESOTA CHARTER SCHOOL",{"$f":"Gened!D479+'Specialed '!D479+Pension!D479","v":4888911},{"$f":"Gened!E479+'Specialed '!E479+Pension!E479","v":4975487},86575,515,9493.0310679611648,9661.1398058252435,168.10873786407865,{"$f":"Gened!K479+'Specialed '!K479+Pension!K479","v":5467042},{"$f":"Gened!L479+'Specialed '!L479+Pension!L479","v":5658884},191842,520,10513.542307692307,10882.469230769231,368.92692307692414,10355953,10634371,278417,1035,10005.751690821256,10274.75458937198,269.00193236714978]
[4192,7,"BEST ACADEMY",{"$f":"Gened!D480+'Specialed '!D480+Pension!D480","v":9780860},{"$f":"Gened!E480+'Specialed '!E480+Pension!E480","v":9947162},166302,880,11114.613636363636,11303.593181818182,188.97954545454559,{"$f":"Gened!K480+'Specialed '!K480+Pension!K480","v":9745840},{"$f":"Gened!L480+'Specialed '!L480+Pension!L480","v":10080156},334316,870,11202.114942528735,11586.386206896552,384.27126436781691,19526700,20027318,500618,1750,11158.114285714286,11444.181714285714,286.06742857142859]
[4193,7,"COLLEGE PREP ELEMENTARY",{"$f":"Gened!D481+'Specialed '!D481+Pension!D481","v":5999188},{"$f":"Gened!E481+'Specialed '!E481+Pension!E481","v":6078202},79014,408,14703.892156862745,14897.553921568628,193.66176470588289,{"$f":"Gened!K481+'Specialed '!K481+Pension!K481","v":6086374},{"$f":"Gened!L481+'Specialed '!L481+Pension!L481","v":6248138},161764,416,14630.70673076923,15019.5625,388.85576923076951,12085562,12326340,240778,824,14666.944174757282,14959.150485436894,292.20631067961165]
[4194,7,"CANNON RIVER STEM SCHOOL",{"$f":"Gened!D482+'Specialed '!D482+Pension!D482","v":3001760},{"$f":"Gened!E482+'Specialed '!E482+Pension!E482","v":3051419},49659,350,8576.4571428571435,8718.34,141.88285714285666,{"$f":"Gened!K482+'Specialed '!K482+Pension!K482","v":3165981},{"$f":"Gened!L482+'Specialed '!L482+Pension!L482","v":3272210},106229,370,8556.7054054054061,8843.8108108108099,287.10540540540387,6167741,6323629,155888,720,8566.3069444444445,8782.8180555555555,216.51111111111112]
[4195,7,"OSHKI OGIMAAG",{"$f":"Gened!D483+'Specialed '!D483+Pension!D483","v":417319},{"$f":"Gened!E483+'Specialed '!E483+Pension!E483","v":423869},6550,32,13041.21875,13245.90625,204.6875,{"$f":"Gened!K483+'Specialed '!K483+Pension!K483","v":398420},{"$f":"Gened!L483+'Specialed '!L483+Pension!L483","v":410839},12419,29,13738.620689655172,14166.862068965518,428.24137931034602,815739,834708,18969,61,13372.77049180328,13683.737704918032,310.96721311475409]
[4198,7,"DISCOVERY WOODS MONTESSORI SCHOOL",{"$f":"Gened!D484+'Specialed '!D484+Pension!D484","v":1114841},{"$f":"Gened!E484+'Specialed '!E484+Pension!E484","v":1132226},17385,101,11038.029702970298,11210.158415841584,172.12871287128655,{"$f":"Gened!K484+'Specialed '!K484+Pension!K484","v":1160081},{"$f":"Gened!L484+'Specialed '!L484+Pension!L484","v":1196737},36656,107,10841.878504672897,11184.457943925234,342.57943925233667,2274922,2328963,54041,208,10937.125,11196.9375,259.8125]
[4199,7,"PARNASSUS",{"$f":"Gened!D485+'Specialed '!D485+Pension!D485","v":8012603},{"$f":"Gened!E485+'Specialed '!E485+Pension!E485","v":8156200},143598,1046,7660.232313575526,7797.514340344168,137.28202676864203,{"$f":"Gened!K485+'Specialed '!K485+Pension!K485","v":8453426},{"$f":"Gened!L485+'Specialed '!L485+Pension!L485","v":8759881},306455,1104,7657.088768115942,7934.67481884058,277.58605072463797,16466029,16916081,450053,2150,7658.618139534884,7867.9446511627903,209.32697674418606]
[4200,7,"STEP ACADEMY",{"$f":"Gened!D486+'Specialed '!D486+Pension!D486","v":2476312},{"$f":"Gened!E486+'Specialed '!E486+Pension!E486","v":2527460},51148,225,11005.831111111111,11233.155555555555,227.32444444444445,{"$f":"Gened!K486+'Specialed '!K486+Pension!K486","v":2555039},{"$f":"Gened!L486+'Specialed '!L486+Pension!L486","v":2661445},106406,235,10872.506382978723,11325.297872340425,452.79148936170168,5031351,5188905,157554,460,10937.71956521739,11280.228260869566,342.50869565217391]
[4201,7,"CORNERSTONE MONTESSORI ELEMENTARY",{"$f":"Gened!D487+'Specialed '!D487+Pension!D487","v":1513760},{"$f":"Gened!E487+'Specialed '!E487+Pension!E487","v":1534905},21145,140,10812.571428571429,10963.607142857143,151.03571428571377,{"$f":"Gened!K487+'Specialed '!K487+Pension!K487","v":1528731},{"$f":"Gened!L487+'Specialed '!L487+Pension!L487","v":1571495},42764,140,10919.507142857143,11224.964285714286,305.45714285714348,3042491,3106400,63909,280,10866.039285714285,11094.285714285714,228.24642857142857]
[4202,7,"MINNESOTA SCHOOL OF SCIENCE",{"$f":"Gened!D488+'Specialed '!D488+Pension!D488","v":0},{"$f":"Gened!E488+'Specialed '!E488+Pension!E488","v":0},0,0,{"$error":"#DIV/0!"},{"$error":"#DIV/0!"},{"$error":"#DIV/0!"},{"$f":"Gened!K488+'Specialed '!K488+Pension!K488","v":0},{"$f":"Gened!L488+'Specialed '!L488+Pension!L488","v":0},0,0,{"$error":"#DIV/0!"},{"$error":"#DIV/0!"},{"$error":"#DIV/0!"},0,0,0,0,{"$error":"#DIV/0!"},{"$error":"#DIV/0!"},{"$error":"#DIV/0!"}]
[4203,7,"MINNEAPOLIS COLLEGE PREPARATORY",{"$f":"Gened!D489+'Specialed '!D489+Pension!D489","v":418765},{"$f":"Gened!E489+'Specialed '!E489+Pension!E489","v":428434},9669,0,{"$error":"#DIV/0!"},{"$error":"#DIV/0!"},{"$error":"#DIV/0!"},{"$f":"Gened!K489+'Specialed '!K489+Pension!K489","v":421189},{"$f":"Gened!L489+'Specialed '!L489+Pension!L489","v":440698},19509,0,{"$error":"#DIV/0!"},{"$error":"#DIV/0!"},{"$error":"#DIV/0!"},839954,869132,29178,0,{"$error":"#DIV/0!"},{"$error":"#DIV/0!"},{"$error":"#DIV/0!"}]
[4204,7,"ROCHESTER STEM ACADEMY",{"$f":"Gened!D490+'Specialed '!D490+Pension!D490","v":1127326},{"$f":"Gened!E490+'Specialed '!E490+Pension!E490","v":1149240},21915,97,11621.917525773197,11847.835051546392,225.91752577319494,{"$f":"Gened!K490+'Specialed '!K490+Pension!K490","v":1128753},{"$f":"Gened!L490+'Specialed '!L490+Pension!L490","v":1173083},44330,97,11636.628865979381,12093.639175257733,457.010309278352,2256079,2322323,66245,194,11629.273195876289,11970.737113402061,341.46907216494844]
[4205,7,"HENNEPIN ELEMENTARY SCHOOL",{"$f":"Gened!D491+'Specialed '!D491+Pension!D491","v":4494256},{"$f":"Gened!E491+'Specialed '!E491+Pension!E491","v":4568158},73902,365,12313.030136986301,12515.501369863014,202.47123287671275,{"$f":"Gened!K491+'Specialed '!K491+Pension!K491","v":4509772},{"$f":"Gened!L491+'Specialed '!L491+Pension!L491","v":4659243},149471,365,12355.539726027397,12765.049315068492,409.50958904109575,9004028,9227401,223373,730,12334.284931506849,12640.275342465753,305.99041095890414]
[4207,7,"VERMILION COUNTRY SCHOOL",{"$f":"Gened!D492+'Specialed '!D492+Pension!D492","v":856141},{"$f":"Gened!E492+'Specialed '!E492+Pension!E492","v":868643},12502,61,14035.098360655738,14240.049180327869,204.95081967213082,{"$f":"Gened!K492+'Specialed '!K492+Pension!K492","v":869434},{"$f":"Gened!L492+'Specialed '!L492+Pension!L492","v":895033},25599,62,14023.129032258064,14436.016129032258,412.8870967741932,1725575,1763676,38101,123,14029.065040650406,14338.829268292682,309.76422764227641]
[4208,7,"NASHA SHKOLA CHARTER SCHOOL",{"$f":"Gened!D493+'Specialed '!D493+Pension!D493","v":1240328},{"$f":"Gened!E493+'Specialed '!E493+Pension!E493","v":1263457},23129,136,9120.0588235294126,9290.125,170.06617647058738,{"$f":"Gened!K493+'Specialed '!K493+Pension!K493","v":1310566},{"$f":"Gened!L493+'Specialed '!L493+Pension!L493","v":1359950},49384,145,9038.3862068965518,9378.9655172413786,340.57931034482681,2550894,2623407,72513,281,9077.9145907473303,9335.96797153025,258.05338078291817]
[4209,7,"THE MASTERY SCHOOL",{"$f":"Gened!D494+'Specialed '!D494+Pension!D494","v":2945162},{"$f":"Gened!E494+'Specialed '!E494+Pension!E494","v":2992564},47402,250,11780.647999999999,11970.255999999999,189.60800000000017,{"$f":"Gened!K494+'Specialed '!K494+Pension!K494","v":2957228},{"$f":"Gened!L494+'Specialed '!L494+Pension!L494","v":3053095},95867,250,11828.912,12212.38,383.46799999999894,5902390,6045659,143269,500,11804.78,12091.317999999999,286.53800000000001]
[4210,7,"UPPER MISSISSIPPI ACADEMY",{"$f":"Gened!D495+'Specialed '!D495+Pension!D495","v":2666389},{"$f":"Gened!E495+'Specialed '!E495+Pension!E495","v":2711785},45396,280,9522.817857142858,9684.9464285714294,162.12857142857138,{"$f":"Gened!K495+'Specialed '!K495+Pension!K495","v":2948802},{"$f":"Gened!L495+'Specialed '!L495+Pension!L495","v":3050908},102106,315,9361.2761904761901,9685.4222222222215,324.14603174603144,5615191,5762693,147502,595,9437.2957983193282,9685.198319327732,247.90252100840337]
[4211,7,"ARCH ACADEMY",{"$f":"Gened!D496+'Specialed '!D496+Pension!D496","v":0},{"$f":"Gened!E496+'Specialed '!E496+Pension!E496","v":0},0,0,{"$error":"#DIV/0!"},{"$error":"#DIV/0!"},{"$error":"#DIV/0!"},{"$f":"Gened!K496+'Specialed '!K496+Pension!K496","v":0},{"$f":"Gened!L496+'Specialed '!L496+Pension!L496","v":0},0,0,{"$error":"#DIV/0!"},{"$error":"#DIV/0!"},{"$error":"#DIV/0!"},0,0,0,0,{"$error":"#DIV/0!"},{"$error":"#DIV/0!"},{"$error":"#DIV/0!"}]
[4212,7,"WEST SIDE SUMMIT",{"$f":"Gened!D497+'Specialed '!D497+Pension!D497","v":2408220},{"$f":"Gened!E497+'Specialed '!E497+Pension!E497","v":2446625},38404,221,10896.923076923076,11070.701357466063,173.77828054298698,{"$f":"Gened!K497+'Specialed '!K497+Pension!K497","v":2690920},{"$f":"Gened!L497+'Specialed '!L497+Pension!L497","v":2779007},88087,260,10349.692307692309,10688.488461538462,338.79615384615317,5099140,5225632,126491,481,10601.122661122661,10864.099792099792,262.975051975052]
[4213,7,"PRODEO ACADEMY",{"$f":"Gened!D498+'Specialed '!D498+Pension!D498","v":2584453},{"$f":"Gened!E498+'Specialed '!E498+Pension!E498","v":2638252},53799,246,10505.90650406504,10724.60162601626,218.69512195121933,{"$f":"Gened!K498+'Specialed '!K498+Pension!K498","v":2550432},{"$f":"Gened!L498+'Specialed '!L498+Pension!L498","v":2649055},98623,246,10367.609756097561,10768.516260162602,400.90650406504028,5134885,5287307,152422,492,10436.758130081302,10746.558943089431,309.80081300813009]
[4214,7,"WEST CONCORD PUBLIC CHARTER SCHOOL",{"$f":"Gened!D499+'Specialed '!D499+Pension!D499","v":86902},{"$f":"Gened!E499+'Specialed '!E499+Pension!E499","v":88409},1507,0,{"$error":"#DIV/0!"},{"$error":"#DIV/0!"},{"$error":"#DIV/0!"},{"$f":"Gened!K499+'Specialed '!K499+Pension!K499","v":88403},{"$f":"Gened!L499+'Specialed '!L499+Pension!L499","v":91426},3023,0,{"$error":"#DIV/0!"},{"$error":"#DIV/0!"},{"$error":"#DIV/0!"},175305,179835,4530,0,{"$error":"#DIV/0!"},{"$error":"#DIV/0!"},{"$error":"#DIV/0!"}]
[4215,7,"SEJONG ACADEMY OF MINNESOTA",{"$f":"Gened!D500+'Specialed '!D500+Pension!D500","v":908646},{"$f":"Gened!E500+'Specialed '!E500+Pension!E500","v":939676},31029,82,11081.048780487805,11459.463414634147,378.414634146342,{"$f":"Gened!K500+'Specialed '!K500+Pension!K500","v":871408},{"$f":"Gened!L500+'Specialed '!L500+Pension!L500","v":908763},37355,86,10132.651162790698,10567.011627906977,434.36046511627865,1780054,1848439,68384,168,10595.559523809523,11002.613095238095,407.04761904761904]
[4216,7,"FREEDOM ACADEMY CHARTER",{"$f":"Gened!D501+'Specialed '!D501+Pension!D501","v":262265},{"$f":"Gened!E501+'Specialed '!E501+Pension!E501","v":269194},6929,0,{"$error":"#DIV/0!"},{"$error":"#DIV/0!"},{"$error":"#DIV/0!"},{"$f":"Gened!K501+'Specialed '!K501+Pension!K501","v":155228},{"$f":"Gened!L501+'Specialed '!L501+Pension!L501","v":164888},9660,0,{"$error":"#DIV/0!"},{"$error":"#DIV/0!"},{"$error":"#DIV/0!"},417493,434082,16589,0,{"$error":"#DIV/0!"},{"$error":"#DIV/0!"},{"$error":"#DIV/0!"}]
[4217,7,"TECHNICAL ACADEMIES OF MINNESOTA",{"$f":"Gened!D502+'Specialed '!D502+Pension!D502","v":1554409},{"$f":"Gened!E502+'Specialed '!E502+Pension!E502","v":1609104},54696,150,10362.726666666667,10727.36,364.63333333333321,{"$f":"Gened!K502+'Specialed '!K502+Pension!K502","v":1609093},{"$f":"Gened!L502+'Specialed '!L502+Pension!L502","v":1702683},93590,150,10727.286666666667,11351.22,623.93333333333248,3163502,3311787,148286,300,10545.006666666666,11039.29,494.28666666666669]
[4218,7,"VENTURE ACADEMY",{"$f":"Gened!D503+'Specialed '!D503+Pension!D503","v":3698047},{"$f":"Gened!E503+'Specialed '!E503+Pension!E503","v":3775859},77813,300,12326.823333333334,12586.196666666667,259.37333333333299,{"$f":"Gened!K503+'Specialed '!K503+Pension!K503","v":3892232},{"$f":"Gened!L503+'Specialed '!L503+Pension!L503","v":4034083},141851,306,12719.712418300654,13183.277777777777,463.56535947712291,7590279,7809942,219664,606,12525.212871287129,12887.69306930693,362.48184818481849]
[4219,7,"NORTHEAST COLLEGE PREP",{"$f":"Gened!D504+'Specialed '!D504+Pension!D504","v":2792645},{"$f":"Gened!E504+'Specialed '!E504+Pension!E504","v":2880624},87979,280,9973.7321428571431,10287.942857142858,314.21071428571486,{"$f":"Gened!K504+'Specialed '!K504+Pension!K504","v":2944481},{"$f":"Gened!L504+'Specialed '!L504+Pension!L504","v":3090720},146239,300,9814.9366666666665,10302.4,487.46333333333314,5737126,5971344,234218,580,9891.5965517241384,10295.420689655173,403.8241379310345]
[4220,7,"AGAMIN HEBREW LANGUAGE SCHOOL",{"$f":"Gened!D505+'Specialed '!D505+Pension!D505","v":1050897},{"$f":"Gened!E505+'Specialed '!E505+Pension!E505","v":1071152},20255,154,6824.0064935064938,6955.5324675324673,131.52597402597348,{"$f":"Gened!K505+'Specialed '!K505+Pension!K505","v":1050878},{"$f":"Gened!L505+'Specialed '!L505+Pension!L505","v":1091855},40977,154,6823.8831168831166,7089.9675324675327,266.08441558441609,2101775,2163007,61232,308,6823.9448051948048,7022.75,198.80519480519482]
[4221,7,"DISCOVERY CHARTER SCHOOL",{"$f":"Gened!D506+'Specialed '!D506+Pension!D506","v":1108033},{"$f":"Gened!E506+'Specialed '!E506+Pension!E506","v":1129127},21094,153,7242.0457516339866,7379.9150326797389,137.86928104575236,{"$f":"Gened!K506+'Specialed '!K506+Pension!K506","v":1108016},{"$f":"Gened!L506+'Specialed '!L506+Pension!L506","v":1150721},42705,153,7241.9346405228762,7521.0522875816996,279.11764705882342,2216049,2279848,63799,306,7241.9901960784309,7450.4836601307188,208.49346405228758]
[4223,7,"SAINT CLOUD MATH AND SCIENCE ACADEM",{"$f":"Gened!D507+'Specialed '!D507+Pension!D507","v":2095466},{"$f":"Gened!E507+'Specialed '!E507+Pension!E507","v":2143318},47852,210,9978.4095238095233,10206.27619047619,227.86666666666679,{"$f":"Gened!K507+'Specialed '!K507+Pension!K507","v":2113990},{"$f":"Gened!L507+'Specialed '!L507+Pension!L507","v":2222197},108207,210,10066.619047619048,10581.890476190476,515.27142857142826,4209456,4365515,156059,420,10022.514285714286,10394.083333333334,371.56904761904764]
[4224,7,"STAR OF THE NORTH ACADEMY CHARTER S",{"$f":"Gened!D508+'Specialed '!D508+Pension!D508","v":1386190},{"$f":"Gened!E508+'Specialed '!E508+Pension!E508","v":1426864},40674,155,8943.1612903225814,9205.5741935483875,262.41290322580608,{"$f":"Gened!K508+'Specialed '!K508+Pension!K508","v":1404826},{"$f":"Gened!L508+'Specialed '!L508+Pension!L508","v":1475327},70501,160,8780.1625000000004,9220.7937500000007,440.63125000000036,2791016,2902191,111175,315,8860.3682539682541,9213.3047619047611,352.93650793650795]
[4225,7,"UNIVERSAL ACADEMY CHARTER SCHOOL",{"$f":"Gened!D509+'Specialed '!D509+Pension!D509","v":3270579},{"$f":"Gened!E509+'Specialed '!E509+Pension!E509","v":3330704},60125,315,10382.790476190476,10573.663492063492,190.8730158730159,{"$f":"Gened!K509+'Specialed '!K509+Pension!K509","v":3446320},{"$f":"Gened!L509+'Specialed '!L509+Pension!L509","v":3588367},142047,340,10136.235294117647,10554.020588235295,417.78529411764794,6716899,6919071,202172,655,10254.807633587787,10563.467175572519,308.65954198473281]
[4226,7,"BDOTE LEARNING CENTER",{"$f":"Gened!D510+'Specialed '!D510+Pension!D510","v":1183389},{"$f":"Gened!E510+'Specialed '!E510+Pension!E510","v":1207000},23612,130,9102.9923076923078,9284.6153846153848,181.62307692307695,{"$f":"Gened!K510+'Specialed '!K510+Pension!K510","v":1344342},{"$f":"Gened!L510+'Specialed '!L510+Pension!L510","v":1392444},48102,140,9602.442857142858,9946.028571428571,343.58571428571304,2527731,2599444,71714,270,9361.9666666666672,9627.5703703703712,265.60740740740738]
[4227,7,"ART AND SCIENCE ACADEMY",{"$f":"Gened!D511+'Specialed '!D511+Pension!D511","v":2445203},{"$f":"Gened!E511+'Specialed '!E511+Pension!E511","v":2482164},36961,255,9589.0313725490196,9733.9764705882353,144.94509803921574,{"$f":"Gened!K511+'Specialed '!K511+Pension!K511","v":2480624},{"$f":"Gened!L511+'Specialed '!L511+Pension!L511","v":2556435},75811,260,9540.8615384615387,9832.4423076923085,291.58076923076987,4925827,5038599,112772,515,9564.7126213592237,9783.6873786407759,218.97475728155339]
[4228,7,"WOODBURY LEADERSHIP ACADEMY",{"$f":"Gened!D512+'Specialed '!D512+Pension!D512","v":2152311},{"$f":"Gened!E512+'Specialed '!E512+Pension!E512","v":2234787},82477,275,7826.5854545454549,8126.4981818181814,299.91272727272644,{"$f":"Gened!K512+'Specialed '!K512+Pension!K512","v":2103752},{"$f":"Gened!L512+'Specialed '!L512+Pension!L512","v":2223706},119954,280,7513.4,7941.8071428571429,428.4071428571433,4256063,4458493,202431,555,7668.5819819819817,8033.3207207207206,364.74054054054056]
[4229,7,"JANE GOODALL ENVIRONMENTAL SCIENCES",{"$f":"Gened!D513+'Specialed '!D513+Pension!D513","v":1312892},{"$f":"Gened!E513+'Specialed '!E513+Pension!E513","v":1337159},24267,155,8470.2709677419352,8626.8322580645163,156.56129032258104,{"$f":"Gened!K513+'Specialed '!K513+Pension!K513","v":1391979},{"$f":"Gened!L513+'Specialed '!L513+Pension!L513","v":1444083},52104,165,8436.2363636363643,8752.0181818181827,315.78181818181838,2704871,2781242,76371,320,8452.7218749999993,8691.3812500000004,238.65937500000001]
[4230,7,"MN EARLY LEARNING ACADEMY",{"$f":"Gened!D514+'Specialed '!D514+Pension!D514","v":2188001},{"$f":"Gened!E514+'Specialed '!E514+Pension!E514","v":2232772},44771,270,8103.7074074074071,8269.5259259259255,165.81851851851843,{"$f":"Gened!K514+'Specialed '!K514+Pension!K514","v":2446896},{"$f":"Gened!L514+'Specialed '!L514+Pension!L514","v":2547320},100424,310,7893.2129032258063,8217.1612903225814,323.94838709677515,4634897,4780092,145195,580,7991.2017241379308,8241.5379310344833,250.33620689655172]
[4231,7,"MINNESOTA MATH AND SCIENCE ACADEMY",{"$f":"Gened!D515+'Specialed '!D515+Pension!D515","v":4732654},{"$f":"Gened!E515+'Specialed '!E515+Pension!E515","v":4823329},90675,433,10929.916859122402,11139.327944572748,209.41108545034513,{"$f":"Gened!K515+'Specialed '!K515+Pension!K515","v":4809513},{"$f":"Gened!L515+'Specialed '!L515+Pension!L515","v":4995800},186287,448,10735.520089285714,11151.339285714286,415.81919642857247,9542167,9819129,276962,881,10831.063564131669,11145.435868331442,314.372304199773]
[4232,7,"SUMMIT CHARTER SCHOOL",{"$f":"Gened!D516+'Specialed '!D516+Pension!D516","v":1085148},{"$f":"Gened!E516+'Specialed '!E516+Pension!E516","v":1105934},20786,111,9776.1081081081084,9963.3693693693695,187.2612612612611,{"$f":"Gened!K516+'Specialed '!K516+Pension!K516","v":1085136},{"$f":"Gened!L516+'Specialed '!L516+Pension!L516","v":1127213},42077,111,9776,10155.072072072073,379.07207207207284,2170284,2233147,62863,222,9776.0540540540533,10059.220720720721,283.16666666666669]
[4233,7,"LEVEL UP ACADEMY",{"$f":"Gened!D517+'Specialed '!D517+Pension!D517","v":1014433},{"$f":"Gened!E517+'Specialed '!E517+Pension!E517","v":1033590},19157,140,7245.95,7382.7857142857147,136.83571428571486,{"$f":"Gened!K517+'Specialed '!K517+Pension!K517","v":991961},{"$f":"Gened!L517+'Specialed '!L517+Pension!L517","v":1029879},37918,135,7347.8592592592595,7628.7333333333336,280.87407407407409,2006394,2063469,57075,275,7295.9781818181818,7503.5236363636368,207.54545454545453]
[4234,7,"MILL CITY SCHOOL",{"$f":"Gened!D518+'Specialed '!D518+Pension!D518","v":0},{"$f":"Gened!E518+'Specialed '!E518+Pension!E518","v":326},326,0,{"$error":"#DIV/0!"},{"$error":"#DIV/0!"},{"$error":"#DIV/0!"},{"$f":"Gened!K518+'Specialed '!K518+Pension!K518","v":0},{"$f":"Gened!L518+'Specialed '!L518+Pension!L518","v":652},652,0,{"$error":"#DIV/0!"},{"$error":"#DIV/0!"},{"$error":"#DIV/0!"},0,978,978,0,{"$error":"#DIV/0!"},{"$error":"#DIV/0!"},{"$error":"#DIV/0!"}]
[4235,7,"FLEX ACADEMY",{"$f":"Gened!D519+'Specialed '!D519+Pension!D519","v":1250137},{"$f":"Gened!E519+'Specialed '!E519+Pension!E519","v":1274932},24796,155,8065.4,8225.3677419354844,159.96774193548481,{"$f":"Gened!K519+'Specialed '!K519+Pension!K519","v":1207151},{"$f":"Gened!L519+'Specialed '!L519+Pension!L519","v":1255712},48561,145,8325.1793103448272,8660.0827586206888,334.90344827586159,2457288,2530644,73357,300,8190.96,8435.48,244.52333333333334]
[4237,7,"METROPOLITAN ED FOR FUTURE EMPLOYMNT",{"$f":"Gened!D520+'Specialed '!D520+Pension!D520","v":1457906},{"$f":"Gened!E520+'Specialed '!E520+Pension!E520","v":1489026},31120,140,10413.614285714286,10635.9,222.28571428571377,{"$f":"Gened!K520+'Specialed '!K520+Pension!K520","v":1451430},{"$f":"Gened!L520+'Specialed '!L520+Pension!L520","v":1514115},62685,140,10367.357142857143,10815.107142857143,447.75,2909336,3003141,93805,280,10390.485714285714,10725.503571428571,335.01785714285717]
[4238,7,"ROCHESTER BEACON ACADEMY",{"$f":"Gened!D521+'Specialed '!D521+Pension!D521","v":859500},{"$f":"Gened!E521+'Specialed '!E521+Pension!E521","v":875046},15546,85,10111.764705882353,10294.658823529411,182.89411764705801,{"$f":"Gened!K521+'Specialed '!K521+Pension!K521","v":809984},{"$f":"Gened!L521+'Specialed '!L521+Pension!L521","v":839307},29323,90,8999.822222222223,9325.6333333333332,325.81111111111022,1669484,1714353,44869,175,9539.908571428572,9796.3028571428567,256.39428571428573]
[4239,7,"TESFA INTERNATIONAL SCHOOL",{"$f":"Gened!D522+'Specialed '!D522+Pension!D522","v":1724640},{"$f":"Gened!E522+'Specialed '!E522+Pension!E522","v":1761300},36661,190,9077.0526315789466,9270,192.9473684210534,{"$f":"Gened!K522+'Specialed '!K522+Pension!K522","v":1789350},{"$f":"Gened!L522+'Specialed '!L522+Pension!L522","v":1865968},76618,200,8946.75,9329.84,383.09000000000015,3513990,3627268,113279,390,9010.2307692307695,9300.6871794871786,290.45897435897433]
[4240,7,"NEW SUMMIT SCHOOL",{"$f":"Gened!D523+'Specialed '!D523+Pension!D523","v":1094849},{"$f":"Gened!E523+'Specialed '!E523+Pension!E523","v":1115340},20491,105,{"$f":"D523/G523","v":10427.133333333333},{"$f":"E523/G523","v":10622.285714285714},{"$f":"I523-H523","v":195.15238095238055},{"$f":"Gened!K523+'Specialed '!K523+Pension!K523","v":1094838},{"$f":"Gened!L523+'Specialed '!L523+Pension!L523","v":1136329},{"$f":"L523-K523","v":41491},105,{"$f":"K523/N523","v":10427.028571428571},{"$f":"L523/N523","v":10822.180952380952},{"$f":"P523-O523","v":395.15238095238055},{"$f":"D523+K523","v":2189687},{"$f":"E523+L523","v":2251669},{"$f":"F523+M523","v":61982},210,{"$f":"R523/U523","v":10427.080952380953},{"$f":"S523/U523","v":10722.233333333334},{"$f":"T523/U523","v":295.15238095238095}]
[4243,7,"North Metro Flex Academy",{"$f":"Gened!D524+'Specialed '!D524+Pension!D524","v":1146884},{"$f":"Gened!E524+'Specialed '!E524+Pension!E524","v":1168548},21664,141,8133.9290780141846,8287.5744680851058,153.64539007092117,{"$f":"Gened!K524+'Specialed '!K524+Pension!K524","v":1146868},{"$f":"Gened!L524+'Specialed '!L524+Pension!L524","v":1190734},43866,141,8133.8156028368794,8444.921985815603,311.10638297872356,2293752,2359282,65530,282,8133.8723404255315,8366.2482269503544,232.3758865248227]
[4248,7,"T.R.U.T.H. Preparatory Academy Char",{"$f":"Gened!D525+'Specialed '!D525+Pension!D525","v":1820572},{"$f":"Gened!E525+'Specialed '!E525+Pension!E525","v":1855914},35342,240,7585.7166666666662,7732.9750000000004,147.25833333333412,{"$f":"Gened!K525+'Specialed '!K525+Pension!K525","v":1820546},{"$f":"Gened!L525+'Specialed '!L525+Pension!L525","v":1892108},71562,240,7585.6083333333336,7883.7833333333338,298.17500000000018,3641118,3748022,106904,480,7585.6625000000004,7808.3791666666666,222.71666666666667]
[4249,7,"Sankofa Underground North Academy",{"$f":"Gened!D526+'Specialed '!D526+Pension!D526","v":535810},{"$f":"Gened!E526+'Specialed '!E526+Pension!E526","v":546102},10292,78,6869.3589743589746,7001.3076923076924,131.94871794871779,{"$f":"Gened!K526+'Specialed '!K526+Pension!K526","v":535801},{"$f":"Gened!L526+'Specialed '!L526+Pension!L526","v":556637},20836,78,6869.2435897435898,7136.3717948717949,267.12820512820508,1071611,1102739,31128,156,6869.3012820512822,7068.8397435897432,199.53846153846155]
[4250,7,"Athlos Academy of Saint Cloud",{"$f":"Gened!D527+'Specialed '!D527+Pension!D527","v":2897498},{"$f":"Gened!E527+'Specialed '!E527+Pension!E527","v":2951564},54066,385,7525.9688311688315,7666.4,140.43116883116818,{"$f":"Gened!K527+'Specialed '!K527+Pension!K527","v":2897458},{"$f":"Gened!L527+'Specialed '!L527+Pension!L527","v":3006931},109473,385,7525.8649350649348,7810.2103896103899,284.34545454545514,5794956,5958495,163539,770,7525.9168831168827,7738.3051948051952,212.38831168831169]
[4998,8,"CROSSWINDS",{"$f":"Gened!D528+'Specialed '!D528+Pension!D528","v":2507586},{"$f":"Gened!E528+'Specialed '!E528+Pension!E528","v":2542009},34423,226,11095.513274336283,11247.827433628319,152.31415929203649,{"$f":"Gened!K528+'Specialed '!K528+Pension!K528","v":2315247},{"$f":"Gened!L528+'Specialed '!L528+Pension!L528","v":2377148},61901,197,11752.522842639593,12066.741116751269,314.21827411167578,4822833,4919157,96324,423,11401.496453900709,11629.212765957447,227.71631205673759]
[4999,7,"MDE CHT EST (FUDGE)",{"$f":"Gened!D529+'Specialed '!D529+Pension!D529","v":4108180},{"$f":"Gened!E529+'Specialed '!E529+Pension!E529","v":4161262},53082,-64,-64190.3125,-65019.71875,-829.40625,{"$f":"Gened!K529+'Specialed '!K529+Pension!K529","v":23425922},{"$f":"Gened!L529+'Specialed '!L529+Pension!L529","v":24247545},821623,2616,8954.863149847095,9268.9392201834871,314.07607033639215,27534102,28408807,874705,2552,10789.224921630093,11131.977664576803,342.75274294670845]
[6000,62,"COOPERATIVE & INTERMED DISTRICTS",{"$f":"Gened!D530+'Specialed '!D530+Pension!D530","v":50020961},{"$f":"Gened!E530+'Specialed '!E530+Pension!E530","v":50818677},797716,0,{"$error":"#DIV/0!"},{"$error":"#DIV/0!"},{"$error":"#DIV/0!"},{"$f":"Gened!K530+'Specialed '!K530+Pension!K530","v":51675953},{"$f":"Gened!L530+'Specialed '!L530+Pension!L530","v":53255548},1579595,0,{"$error":"#DIV/0!"},{"$error":"#DIV/0!"},{"$error":"#DIV/0!"},101696914,104074225,2377311,0,{"$error":"#DIV/0!"},{"$error":"#DIV/0!"},{"$error":"#DIV/0!"}]
["End of worksheet"]

{"sheet":"Gened","index":1,"n_rows":531,"n_cols":24,"rows_kept":531,"cut":false,"hidden":false,"merged":[[4,17,4,23],[5,17,6,19],[5,20,7,20],[5,21,6,23],[2,0,2,23],[3,0,3,23],[4,0,4,2],[5,13,7,13],[5,14,6,16],[4,3,4,9],[4,10,4,16],[5,3,6,5],[5,6,7,6],[5,7,6,9],[5,10,6,12]]}
[null,null,null,null,null,null,null,null,null,null,null,null,null,null,null,null,null,null,null,"2017-02-13"]
["MDE-School Finance"]
["General Education"]
["Governor's Recommendation"]
["District",null,null,"FY 2018",null,null,null,null,null,null,"FY 2019",null,null,null,null,null,null,"Biennium"]
[null,null,null,"Total Revenue",null,null,"Adjusted ADM","Revenue/Adjusted ADM",null,null,"Total Revenue",null,null,"Adjusted ADM","Revenue/Adjusted ADM",null,null,"Total Revenue",null,null,"Adjusted ADM","Revenue/Adjusted ADM"]
[]
["DIST","TYPE","NAME","Current","Governor","Change",null,"Current ","Governor","Change","Current","Governor","Change",null,"Current ","Governor","Change","Current","Governor","Change",null,"Current ","Governor","Change"]
[null,null,"TOTAL",7990723226,8118802684,128079458,858281,9310,9459,149,8093411784,8354957524,261545740,863356,9374,9677,303,{"$f":"SUM(R10:R530)","v":16084135026},{"$f":"SUM(S10:S530)","v":16473760224},389625198,1721641,{"$f":"R9/U9","v":9342.3280614251162},{"$f":"S9/U9","v":9568.6384234576199},{"$f":"T9/U9","v":226.31036203250272}]
[1,1,"AITKIN",9862510,10040435,177925,1147,8599,8754,155,9800623,10158492,357869,1143,8574,8888,314,{"$f":"D10+K10","v":19663133},{"$f":"E10+L10","v":20198927},{"$f":"F10+M10","v":535794},2290,{"$f":"R10/U10","v":8586.52096069869},{"$f":"S10/U10","v":8820.4921397379912},{"$f":"T10/U10","v":233.97117903930132}]
[1.2,3,"MINNEAPOLIS",405674266,411666734,5992468,35791,11334,11502,168,413404054,425752596,12348542,36561,11307,11645,338,{"$f":"D11+K11","v":819078320},837419330,18341010,72352,{"$f":"R11/U11","v":11320.741928350288},{"$f":"S11/U11","v":11574.238860017691},{"$f":"T11/U11","v":253.4969316674038}]
[2,1,"HILL CITY",2966380,3018506,52126,257,11542,11745,203,2896677,2999910,103233,249,11633,12048,415,5863057,6018416,155359,506,11587.069169960474,11894.102766798418,307.03359683794469]
[4,1,"MCGREGOR",4900649,4991939,91290,457,10724,10923,199,4892077,5076523,184446,455,10752,11157,405,9792726,10068462,275736,912,10737.638157894737,11039.980263157895,302.34210526315792]
[6,3,"SOUTH ST. PAUL",32899234,33438849,539615,3641,9036,9184,148,33063655,34161018,1097363,3650,9058,9359,301,65962889,67599867,1636978,7291,9047.166232341242,9271.6865999177062,224.52036757646414]
[11,1,"ANOKA-HENNEPIN",344287523,349604673,5317150,37429,9199,9341,142,346409765,357196770,10787005,37497,9238,9526,288,690697288,706801443,16104155,74926,9218.3926540853645,9433.3267890985771,214.93413501321302]
[12,1,"CENTENNIAL",52278997,53142688,863691,6341,8245,8381,136,52183106,53928268,1745162,6340,8231,8506,275,104462103,107070956,2608853,12681,8237.6865389164886,8443.415818941723,205.7292800252346]
[13,1,"COLUMBIA HEIGHTS",35658646,36260722,602076,3350,10644,10824,180,36224329,37460020,1235691,3409,10626,10989,363,71882975,73720742,1837767,6759,10635.14943038911,10907.048675839622,271.89924545051042]
[14,1,"FRIDLEY",29227527,29724009,496482,3068,9527,9689,162,29395014,30405433,1010419,3080,9544,9873,329,58622541,60129442,1506901,6148,9535.2213728041643,9780.3256343526355,245.10426154847104]
[15,1,"ST. FRANCIS",36022495,36634630,612135,4344,8292,8433,141,35360804,36576905,1216101,4278,8266,8550,284,71383299,73211535,1828236,8622,8279.2042449547662,8491.2473903966602,212.04314544189282]
[16,1,"SPRING LAKE PARK",49816880,50645432,828552,5745,8671,8816,145,50442502,52140727,1698225,5815,8675,8967,292,100259382,102786159,2526777,11560,8672.9569204152249,8891.5362456747407,218.57932525951557]
[22,1,"DETROIT LAKES",26633080,27083187,450107,3024,8807,8956,149,26832687,27750866,918179,3044,8815,9117,302,53465767,54834053,1368286,6068,8811.1020105471325,9036.594100197759,225.49208965062624]
[23,1,"FRAZEE",7853961,7987248,133287,885,8875,9025,150,7762352,8029152,266800,865,8974,9282,308,15616313,16016400,400087,1750,8923.6074285714294,9152.2285714285717,228.62114285714287]
[25,1,"PINE POINT",884236,900161,15925,69,12815,13046,231,890575,923015,32440,70,12723,13186,463,1774811,1823176,48365,139,12768.424460431655,13116.374100719424,347.9496402877698]
[31,1,"BEMIDJI",47438807,48243328,804521,5180,9158,9313,155,47597988,49231965,1633977,5196,9161,9475,314,95036795,97475293,2438498,10376,9159.2901888974557,9394.3034888203547,235.01329992289899]
[32,1,"BLACKDUCK",6443914,6556872,112958,636,10135,10313,178,6278942,6502180,223238,606,10365,10733,368,12722856,13059052,336196,1242,10243.845410628019,10514.534621578099,270.68921095008051]
[36,1,"KELLIHER",3442271,3506951,64680,285,12078,12305,227,3512006,3645596,133590,290,12110,12571,461,6954277,7152547,198270,575,12094.394782608695,12439.212173913043,344.81739130434784]
[38,1,"RED LAKE",18657760,18971297,313537,1611,11581,11776,195,19262822,19914028,651206,1664,11576,11968,392,37920582,38885325,964743,3275,11578.803664122137,11873.381679389313,294.57801526717554]
[47,1,"SAUK RAPIDS",36300331,36921258,620927,4374,8299,8441,142,36326473,37584614,1258141,4375,8303,8591,288,72626804,74505872,1879068,8749,8301.1548748428395,8515.9300491484737,214.77517430563492]
[51,1,"FOLEY",14639655,14898884,259229,1817,8057,8200,143,14388982,14905025,516043,1781,8079,8369,290,29028637,29803909,775272,3598,8067.9924958310175,8283.4655364091159,215.47304057809893]
[75,1,"ST. CLAIR",5572798,5665956,93158,670,8318,8457,139,5462276,5647145,184869,649,8416,8701,285,11035074,11313101,278027,1319,8366.2426080363912,8577.0288097043212,210.78620166793024]
[77,1,"MANKATO",72989101,74206595,1217494,8483,8604,8748,144,72860930,75313953,2453023,8419,8654,8946,292,145850031,149520548,3670517,16902,8629.1581469648554,8846.3228020352617,217.16465507040587]
[81,1,"COMFREY",1640271,1664147,23876,149,11009,11169,160,1638076,1686167,48091,149,10994,11317,323,3278347,3350314,71967,298,11001.164429530201,11242.664429530201,241.5]
[84,1,"SLEEPY EYE",5214310,5302459,88149,555,9395,9554,159,5123362,5298816,175454,540,9488,9813,325,10337672,10601275,263603,1095,9440.7963470319628,9681.5296803652964,240.73333333333332]
[85,1,"SPRINGFIELD",4866767,4948450,81683,545,8930,9080,150,4767818,4929986,162168,534,8928,9232,304,9634585,9878436,243851,1079,8929.1797961075063,9155.1770157553292,225.99721964782205]
[88,1,"NEW ULM",18869256,19160297,291041,2057,9173,9315,142,18905038,19493398,588360,2055,9200,9486,286,37774294,38653695,879401,4112,9186.3555447470826,9400.2176556420236,213.86211089494162]
[91,1,"BARNUM",6500906,6611641,110735,753,8633,8780,147,6478411,6701736,223325,749,8649,8948,299,12979317,13313377,334060,1502,8641.3561917443403,8863.7663115845535,222.41011984021304]
[93,1,"CARLTON",4466524,4534406,67882,460,9710,9857,147,4796416,4931300,134884,452,10612,10910,298,9262940,9465706,202766,912,10156.732456140351,10379.063596491229,222.33114035087721]
[94,1,"CLOQUET",23758684,24172780,414096,2707,8777,8930,153,24208733,25062520,853787,2760,8771,9081,310,47967417,49235300,1267883,5467,8773.9925004572888,9005.9081763307113,231.91567587342234]
[95,1,"CROMWELL",3274857,3331193,56336,310,10564,10746,182,3239060,3351517,112457,310,10449,10811,362,6513917,6682710,168793,620,10506.317741935483,10778.564516129032,272.24677419354839]
[97,1,"MOOSE LAKE",5539014,5635645,96631,665,8329,8475,146,5592911,5790533,197622,671,8335,8630,295,11131925,11426178,294253,1336,8332.2791916167662,8552.5284431137716,220.24925149700599]
[99,1,"ESKO",9663701,9826896,163195,1212,7973,8108,135,9695181,10026689,331508,1212,7999,8273,274,19358882,19853585,494703,2424,7986.3374587458748,8190.4228547854782,204.08539603960395]
[100,1,"WRENSHALL",3118446,3170352,51906,341,9145,9297,152,3172587,3279549,106962,346,9169,9478,309,6291033,6449901,158868,687,9157.2532751091694,9388.5021834061135,231.24890829694323]
[108,1,"NORWOOD",7786600,7918522,131922,948,8214,8353,139,7628749,7890596,261847,928,8221,8503,282,15415349,15809118,393769,1876,8217.1369936034116,8427.0351812366735,209.89818763326227]
[110,1,"WACONIA",32787140,33338226,551086,4090,8016,8151,135,32407160,33511343,1104183,4035,8032,8305,273,65194300,66849569,1655269,8125,8023.913846153846,8227.6392615384611,203.72541538461539]
[111,1,"WATERTOWN-MAYER",13549548,13777989,228441,1676,8084,8221,137,13261197,13713619,452422,1627,8151,8429,278,26810745,27491608,680863,3303,8117.0890099909175,8323.2237359975788,206.1347260066606]
[112,1,"EASTERN CARVER CTY",88589140,89910820,1321680,9667,9164,9301,137,90016018,92734589,2718571,9836,9152,9428,276,178605158,182645409,4040251,19503,9157.8299748756599,9364.9904630056917,207.16048813003127]
[113,1,"WALKER-AKELEY",6774129,6891374,117245,716,9461,9625,164,6701825,6937122,235297,702,9547,9882,335,13475954,13828496,352542,1418,9503.4936530324394,9752.1128349788432,248.61918194640339]
[115,1,"CASS LAKE",12542727,12769683,226956,1086,11549,11758,209,12796740,13263681,466941,1125,11375,11790,415,25339467,26033364,693897,2211,11460.636363636364,11774.474898236092,313.83853459972863]
[116,1,"PILLAGER",9130089,9286795,156706,1072,8517,8663,146,9517253,9847696,330443,1121,8490,8785,295,18647342,19134491,487149,2193,8503.1199270405832,8725.2580939352483,222.13816689466483]
[118,1,"NORTHLAND",4057791,4117596,59805,326,12447,12631,184,4094337,4216434,122097,328,12483,12855,372,8152128,8334030,181902,654,12465.027522935779,12743.165137614678,278.13761467889907]
[129,1,"MONTEVIDEO",13015126,13230377,215251,1454,8951,9099,148,12971044,13405474,434430,1445,8977,9277,300,25986170,26635851,649681,2899,8963.8392549154887,9187.9444636081407,224.10520869265264]
[138,1,"NORTH BRANCH",24896658,25317236,420578,2974,8371,8513,142,24865314,25715501,850187,2982,8338,8624,286,49761972,51032737,1270765,5956,8354.9314976494297,8568.2902955003356,213.35879785090665]
[139,1,"RUSH CITY",7238880,7362558,123678,870,8321,8463,142,7264658,7516035,251377,873,8321,8609,288,14503538,14878593,375055,1743,8321.0200803212847,8536.1979345955242,215.17785427423982]
[146,1,"BARNESVILLE",7694542,7821066,126524,902,8531,8671,140,7631045,7885245,254200,891,8565,8850,285,15325587,15706311,380724,1793,8547.4551031790288,8759.7941996653644,212.33909648633576]
[150,1,"HAWLEY",7161992,7287330,125338,913,7844,7982,138,7275005,7532807,257802,921,7899,8179,280,14436997,14820137,383140,1834,7871.8631406761178,8080.7726281352234,208.90948745910578]
[152,1,"MOORHEAD",56420018,57352172,932154,6391,8828,8974,146,58572815,60482224,1909409,6469,9054,9350,296,114992833,117834396,2841563,12860,8941.8999222395032,9162.8612752721619,220.96135303265942]
[160,70,"MINNESOTA STATE ACADEMIES",247598,253329,5731,0,0,0,0,247598,259201,11603,0,0,0,0,495196,512530,17334,0,{"$error":"#DIV/0!"},{"$error":"#DIV/0!"},{"$error":"#DIV/0!"}]
[160,90,"FARIBAULT TRANSFER",587662,599383,11721,0,0,0,0,587662,611394,23732,0,0,0,0,1175324,1210777,35453,0,{"$error":"#DIV/0!"},{"$error":"#DIV/0!"},{"$error":"#DIV/0!"}]
[162,1,"BAGLEY",9085322,9243562,158240,1004,9051,9209,158,9331357,9660128,328771,1035,9018,9336,318,18416679,18903690,487011,2039,9032.2113781265325,9271.059342815106,238.84796468857283]
[166,1,"COOK COUNTY",5291288,5377186,85898,452,11704,11894,190,5138482,5308035,169553,431,11920,12313,393,10429770,10685221,255451,883,11811.744054360135,12101.043035107588,289.29898074745188]
[173,1,"MOUNTAIN LAKE",5136863,5211725,74862,478,10747,10903,156,5105986,5256571,150585,476,10727,11043,316,10242849,10468296,225447,954,10736.738993710691,10973.056603773584,236.3176100628931]
[177,1,"WINDOM",9967063,10127000,159937,1068,9332,9482,150,10055214,10381691,326477,1077,9336,9639,303,20022277,20508691,486414,2145,9334.3948717948715,9561.1613053613055,226.76643356643356]
[181,1,"BRAINERD",56146048,57109136,963088,6541,8584,8731,147,56474916,58436188,1961272,6571,8595,8893,298,112620964,115545324,2924360,13112,8589.1522269676625,8812.1815131177555,223.02928615009151]
[182,1,"CROSBY",9068978,9227651,158673,1018,8909,9064,155,8912237,9228276,316039,997,8939,9256,317,17981215,18455927,474712,2015,8923.679900744417,9159.2689826302721,235.58908188585607]
[186,1,"PEQUOT LAKES",13551389,13785513,234124,1660,8163,8305,142,13382334,13850755,468421,1631,8205,8492,287,26933723,27636268,702545,3291,8184.0543907626861,8397.5290185353988,213.47462777271346]
[191,1,"BURNSVILLE",90247582,91610293,1362711,8940,10095,10247,152,89845187,92591516,2746329,8902,10093,10401,308,180092769,184201809,4109040,17842,10093.754567873557,10324.056103575833,230.30153570227554]
[192,1,"FARMINGTON",57557668,58466031,908363,6761,8513,8648,135,57212745,59041548,1828803,6688,8555,8828,273,114770413,117507579,2737166,13449,8533.7506877834785,8737.2725853223292,203.52189753885048]
[194,1,"LAKEVILLE",95010213,96433284,1423071,10515,9036,9171,135,92418054,95213411,2795357,10089,9160,9437,277,187428267,191646695,4218428,20604,9096.6932149097265,9301.4315181518159,204.7383032420889]
[195,1,"RANDOLPH",5455221,5547828,92607,676,8070,8207,137,5536254,5726714,190460,684,8094,8372,278,10991475,11274542,283067,1360,8081.9669117647063,8290.1044117647052,208.13749999999999]
[196,1,"ROSEMOUNT-APPLE",251719339,255542416,3823077,27776,9062,9200,138,253668007,261433102,7765095,27855,9107,9385,278,505387346,516975518,11588172,55631,9084.6352932717364,9292.9395121425114,208.3042188707735]
[197,1,"WEST ST. PAUL",47923634,48637548,713914,4893,9794,9940,146,50842127,52293343,1451216,4915,10344,10640,296,98765761,100930891,2165130,9808,10069.91853588907,10290.66996329527,220.75142740619901]
[199,1,"INVER GROVE",34120474,34681722,561248,3869,8819,8964,145,34050758,35183947,1133189,3843,8860,9155,295,68171232,69865669,1694437,7712,8839.630705394191,9059.345046680497,219.71434128630705]
[200,1,"HASTINGS",40202616,40806048,603432,4343,9257,9396,139,40035404,41247784,1212380,4319,9270,9550,280,80238020,82053832,1815812,8662,9263.2209651350731,9472.8506118679288,209.62964673285614]
[203,1,"HAYFIELD",6296477,6395846,99369,689,9139,9283,144,6291942,6492919,200977,689,9132,9424,292,12588419,12888765,300346,1378,9135.2822931785195,9353.2402031930342,217.9579100145138]
[204,1,"KASSON-MANTORVIL",16852837,17136002,283165,2082,8095,8231,136,16975968,17553315,577347,2092,8115,8391,276,{"$f":"D75+K75","v":33828805},34689317,860512,4174,{"$f":"R75/U75","v":8104.6490177287969},{"$f":"S75/U75","v":8310.8090560613327},{"$f":"T75/U75","v":206.16003833253473}]
[206,1,"ALEXANDRIA",34414268,34995207,580939,4128,8337,8478,141,34674547,35859735,1185188,4161,8333,8618,285,69088815,70854942,1766127,8289,8335,8548.0687658342376,213.06876583423815]
[213,1,"OSAKIS",6494314,6611107,116793,813,7988,8132,144,6493779,6730240,236461,810,8017,8309,292,12988093,13341347,353254,1623,8002.5218730745537,8220.1768330252617,217.65495995070856]
[227,1,"CHATFIELD",7782403,7907337,124934,899,8657,8796,139,7752303,8004331,252028,892,8691,8973,282,15534706,15911668,376962,1791,8673.761027359018,8884.2367392518154,210.47571189279731]
[229,1,"LANESBORO",2684953,2731361,46408,305,8803,8955,152,2591391,2681892,90501,295,8784,9091,307,5276344,5413253,136909,600,8793.9066666666658,9022.0883333333331,228.18166666666667]
[238,1,"MABEL-CANTON",2517902,2554090,36188,246,10235,10382,147,2488019,2560497,72478,244,10197,10494,297,5005921,5114587,108666,490,10216.16530612245,10437.932653061225,221.76734693877552]
[239,1,"RUSHFORD-PETERSO",5754364,5846416,92052,637,9034,9178,144,5648141,5830143,182002,625,9037,9328,291,11402505,11676559,274054,1262,9035.265451664025,9252.4239302694132,217.15847860538827]
[241,1,"ALBERT LEA",32805243,33333889,528646,3427,9573,9727,154,33002898,34075478,1072580,3437,9602,9914,312,65808141,67409367,1601226,6864,9587.4331293706291,9820.7119755244748,233.27884615384616]
[242,1,"ALDEN",4420747,4492695,71948,492,8985,9131,146,4422837,4568567,145730,492,8990,9286,296,8843584,9061262,217678,984,8987.3821138211388,9208.5995934959356,221.21747967479675]
[252,1,"CANNON FALLS",9819118,9975747,156629,1129,8697,8836,139,9683562,9996483,312921,1112,8708,8990,282,19502680,19972230,469550,2241,8702.6684515841134,8912.1954484605085,209.52699687639446]
[253,1,"GOODHUE",5349663,5438289,88626,636,8411,8551,140,5332938,5511750,178812,635,8398,8680,282,10682601,10950039,267438,1271,8404.8788355625493,8615.2942564909517,210.41542092840282]
[255,1,"PINE ISLAND",10251182,10425039,173857,1280,8009,8145,136,10289493,10642746,353253,1288,7989,8263,274,20540675,21067785,527110,2568,7998.7052180685359,8203.9661214953267,205.26090342679129]
[256,1,"RED WING",23877459,24262470,385011,2660,8976,9121,145,23665906,24439621,773715,2623,9022,9317,295,47543365,48702091,1158726,5283,8999.3119439712282,9218.6430058678779,219.33106189664963]
[261,1,"ASHBY",2614275,2654506,40231,274,9541,9688,147,2688864,2772632,83768,283,9501,9797,296,5303139,5427138,123999,557,9520.8958707360853,9743.51526032316,222.61938958707361]
[264,1,"HERMAN-NORCROSS",1707530,1730489,22959,118,14471,14665,194,1694451,1740737,46286,116,14607,15006,399,3401981,3471226,69245,234,14538.380341880342,14834.299145299145,295.91880341880341]
[270,1,"HOPKINS",71915250,72929769,1014519,6970,10318,10463,145,72480792,74538010,2057218,6987,10374,10668,294,144396042,147467779,3071737,13957,10345.779322203913,10565.865085620118,220.08576341620693]
[271,1,"BLOOMINGTON",104684879,106248367,1563488,10604,9872,10019,147,104148097,107285873,3137776,10459,9957,10257,300,208832976,213534240,4701264,21063,9914.6833784361206,10137.883492380002,223.20011394388263]
[272,1,"EDEN PRAIRIE",83775759,84961231,1185472,8602,9739,9877,138,82293976,84651765,2357789,8455,9733,10012,279,166069735,169612996,3543261,17057,9736.1631588204255,9943.8937679545052,207.73060913407986]
[273,1,"EDINA",77999964,79139560,1139596,8548,9125,9258,133,78430873,80740966,2310093,8559,9164,9433,269,156430837,159880526,3449689,17107,9144.2588998655519,9345.9125504179574,201.65365055240545]
[276,1,"MINNETONKA",97222682,98620776,1398094,10550,9215,9348,133,98265065,101125511,2860446,10652,9225,9494,269,195487747,199746287,4258540,21202,9220.2503065748515,9421.1058862371483,200.85557966229601]
[277,1,"WESTONKA",21029156,21339230,310074,2298,9151,9286,135,21097409,21726344,628935,2296,9189,9463,274,42126565,43065574,939009,4594,9169.9096647801489,9374.3086634740976,204.39899869394864]
[278,1,"ORONO",27214194,27592894,378700,2810,9685,9820,135,27395455,28162677,767222,2814,9735,10008,273,54609649,55755571,1145922,5624,9710.1082859174967,9913.8639758179233,203.75568990042674]
[279,1,"OSSEO",210951819,214044871,3093052,20654,10214,10364,150,213142334,219434675,6292341,20751,10272,10575,303,424094153,433479546,9385393,41405,10242.583093829247,10469.256031880208,226.67293805096003]
[280,1,"RICHFIELD",43040209,43728953,688744,4183,10288,10453,165,41747236,43100789,1353553,4003,10428,10766,338,84787445,86829742,2042297,8186,10357.616051795749,10607.102614219399,249.48656242365013]
[281,1,"ROBBINSDALE",131701809,133707522,2005713,12927,10188,10343,155,133758503,137882625,4124122,13162,10162,10476,314,265460312,271590147,6129835,26089,10175.181570776957,10410.140174019702,234.95860324274599]
[282,1,"ST. ANTHONY-NEW",16022613,16267155,244542,1778,9012,9149,137,16009067,16503708,494641,1776,9014,9293,279,32031680,32770863,739183,3554,9012.8531232414189,9220.8393359594829,207.98621271806417]
[283,1,"ST. LOUIS PARK",47559368,48220785,661417,4641,10248,10390,142,47632581,48966505,1333924,4611,10330,10619,289,95191949,97187290,1995341,9252,10288.796908776481,10504.462818849979,215.66591007349763]
[284,1,"WAYZATA",107786789,109353293,1566504,11692,9219,9353,134,110292112,113519720,3227608,11920,9253,9523,270,218078901,222873013,4794112,23612,9235.9351600880909,9438.9722598678636,203.037099779773]
[286,1,"BROOKLYN CENTER",24465857,24891617,425760,2405,10173,10350,177,24465857,25327931,862074,2405,10173,10531,358,48931714,50219548,1287834,4810,10172.913513513513,10440.654469854469,267.74095634095636]
[294,1,"HOUSTON",17430370,17728809,298439,2024,8612,8759,147,17412532,18016105,603573,2025,8599,8897,298,34842902,35744914,902012,4049,8605.3104470239559,8828.084465300075,222.77401827611757]
[297,1,"SPRING GROVE",3355439,3404894,49455,348,9642,9784,142,3332368,3431825,99457,346,9631,9919,288,6687807,6836719,148912,694,9636.609510086455,9851.1801152737753,214.5706051873199]
[299,1,"CALEDONIA",5879778,5977263,97485,685,8584,8726,142,5939373,6138857,199484,691,8595,8884,289,11819151,12116120,296969,1376,8589.4992732558148,8805.3197674418607,215.82049418604652]
[300,1,"LACRESCENT",9182992,9338497,155505,1110,8273,8413,140,8948878,9255413,306535,1071,8356,8642,286,18131870,18593910,462040,2181,8313.5580009170098,8525.4057771664375,211.84777624942686]
[306,1,"LAPORTE",2951043,3003956,52913,310,9532,9703,171,2990064,3098586,108522,313,9565,9912,347,5941107,6102542,161435,623,9536.2873194221502,9795.4125200642047,259.12520064205455]
[308,1,"NEVIS",5790687,5889408,98721,625,9262,9420,158,5722703,5920241,197538,616,9287,9608,321,11513390,11809649,296259,1241,9277.51007252216,9516.2360999194207,238.72602739726028]
[309,1,"PARK RAPIDS",14061705,14306649,244944,1577,8919,9074,155,14139692,14638324,498632,1582,8940,9255,315,28201397,28944973,743576,3159,8927.3178220955997,9162.7011712567273,235.38334916112694]
[314,1,"BRAHAM",6703967,6819079,115112,764,8775,8925,150,6681620,6913791,232171,764,8746,9049,303,13385587,13732870,347283,1528,8760.2009162303657,8987.4803664921474,227.27945026178011]
[316,1,"GREENWAY",9359020,9522220,163200,1049,8922,9077,155,9345281,9675209,329928,1048,8917,9232,315,18704301,19197429,493128,2097,8919.5522174535054,9154.7110157367661,235.1587982832618]
[317,1,"DEER RIVER",9144670,9305088,160418,931,9827,9999,172,9115694,9439564,323870,922,9891,10243,352,18260364,18744652,484288,1853,9854.4867781975172,10115.840259039396,261.35348084187802]
[318,1,"GRAND RAPIDS",35729882,36341578,611696,3981,8975,9129,154,35951955,37198639,1246684,4011,8963,9274,311,71681837,73540217,1858380,7992,8969.1988238238246,9201.7288538538542,232.53003003003002]
[319,1,"NASHWAUK-KEEWATI",5471197,5565763,94566,553,9894,10065,171,5373811,5561930,188119,539,9970,10319,349,10845008,11127693,282685,1092,9931.326007326008,10190.195054945056,258.86904761904759]
[323,2,"FRANCONIA",311562,315684,4122,30,10385,10523,138,259166,266252,7086,24,10799,11094,295,570728,581936,11208,54,10569.037037037036,10776.592592592593,207.55555555555554]
[330,1,"HERON LAKE-OKABE",2817802,2859396,41594,248,11369,11537,168,2768007,2850775,82768,243,11398,11739,341,5585809,5710171,124362,491,11376.393075356416,11629.676171079429,253.28309572301427]
[332,1,"MORA",13999069,14241162,242093,1600,8749,8901,152,13794472,14277648,483176,1575,8758,9065,307,27793541,28518810,725269,3175,8753.8711811023622,8982.302362204724,228.43118110236222]
[333,1,"OGILVIE",4187786,4257614,69828,466,8987,9137,150,4257610,4401388,143778,473,9001,9305,304,8445396,8659002,213606,939,8994.0319488817895,9221.5143769968054,227.48242811501598]
[345,1,"NEW LONDON-SPICE",12110418,12316484,206066,1471,8233,8373,140,12199375,12619589,420214,1480,8243,8527,284,24309793,24936073,626280,2951,8237.8153168417484,8450.0416807861748,212.22636394442563]
[347,1,"WILLMAR",40630723,41319094,688371,4184,9710,9875,165,41092082,42497517,1405435,4223,9730,10062,332,81722805,83816611,2093806,8407,9720.8046865707147,9969.8597597240387,249.0550731533246]
[356,1,"LANCASTER",2033330,2055143,21813,144,14120,14272,152,2023361,2067227,43866,144,14051,14356,305,4056691,4122370,65679,288,14085.732638888889,14313.784722222223,228.05208333333334]
[361,1,"INTERNATIONAL FA",9293317,9452264,158947,1068,8702,8850,148,9133709,9450233,316524,1047,8724,9026,302,18427026,18902497,475471,2115,8712.5418439716304,8937.3508274231681,224.80898345153665]
[362,1,"LITTLEFORK-BIG F",3645921,3712901,66980,333,10949,11150,201,3556630,3689039,132409,321,11080,11492,412,7202551,7401940,199389,654,11013.074923547401,11317.951070336392,304.87614678899081]
[363,1,"SOUTH KOOCHICHIN",3394718,3459092,64374,241,14086,14353,267,3451149,3583431,132282,247,13972,14508,536,6845867,7042523,196656,488,14028.415983606557,14431.399590163934,402.98360655737707]
[378,1,"DAWSON",4983570,5064158,80588,543,9178,9326,148,4895941,5056326,160385,530,9238,9540,302,9879511,10120484,240973,1073,9207.3727865796827,9431.9515377446405,224.57875116495805]
[381,1,"LAKE SUPERIOR",12675094,12892243,217149,1360,9320,9480,160,12669322,13108521,439199,1365,9282,9603,321,25344416,26000764,656348,2725,9300.7031192660543,9541.5647706422023,240.8616513761468]
[390,1,"LAKE OF THE WOOD",4945944,5032373,86429,464,10659,10846,187,5068868,5242691,173823,459,11043,11422,379,10014812,10275064,260252,923,10850.283856988082,11132.24702058505,281.96316359696641]
[391,1,"CLEVELAND",4562796,4633035,70239,497,9181,9322,141,4549627,4691427,141800,496,9173,9459,286,9112423,9324462,212039,993,9176.6596173212492,9390.1933534743202,213.53373615307149]
[402,1,"HENDRICKS",1462288,1480951,18663,111,13150,13318,168,1471334,1509411,38077,110,13351,13697,346,2933622,2990362,56740,221,13274.307692307691,13531.049773755656,256.74208144796381]
[403,1,"IVANHOE",1500962,1522512,21550,150,10006,10150,144,1554876,1600070,45194,155,10031,10323,292,3055838,3122582,66744,305,10019.140983606558,10237.973770491802,218.83278688524589]
[404,1,"LAKE BENTON",2103607,2131909,28302,200,10518,10660,142,2014191,2069366,55175,190,10601,10891,290,4117798,4201275,83477,390,10558.456410256411,10772.5,214.04358974358973]
[413,1,"MARSHALL",22157790,22530214,372424,2506,8842,8991,149,22319902,23079073,759171,2523,8847,9147,300,44477692,45609287,1131595,5029,8844.24179757407,9069.2557168423155,225.01391926824419]
[414,1,"MINNEOTA",4130229,4199024,68795,456,9058,9208,150,4106668,4245160,138492,453,9065,9371,306,8236897,8444184,207287,909,9061.4928492849285,9289.5313531353131,228.03850385038504]
[415,1,"LYND",2044363,2075532,31169,194,10527,10688,161,1840465,1898066,57601,164,11209,11559,350,3884828,3973598,88770,358,10851.474860335196,11099.435754189944,247.9608938547486]
[423,1,"HUTCHINSON",24069844,24464390,394546,2760,8721,8864,143,23643943,24429047,785104,2704,8744,9034,290,47713787,48893437,1179650,5464,8732.3914714494877,8948.2864202049786,215.89494875549047]
[424,1,"LESTER PRAIRIE",4106249,4168319,62070,442,9290,9431,141,4143478,4270295,126817,444,9332,9618,286,8249727,8438614,188887,886,9311.2042889390523,9524.3950338600444,213.19074492099324]
[432,1,"MAHNOMEN",7040677,7167968,127291,609,11561,11770,209,7021016,7278263,257247,606,11586,12010,424,14061693,14446231,384538,{"$f":"G138+N138","v":1215},11573.40987654321,11889.902057613168,316.49218106995886]
[435,1,"WAUBUN",6297295,6409445,112150,577,10914,11108,194,6348063,6576915,228852,584,10870,11262,392,{"$f":"D139+K139","v":12645358},12986360,341002,1161,{"$f":"R139/U139","v":10891.781223083548},{"$f":"S139/U139","v":11185.495262704566},{"$f":"T139/U139","v":293.71403962101635}]
[441,1,"MARSHALL CTY CENTRAL",4354497,4425272,70775,387,11252,11435,183,4292719,4433976,141257,381,11267,11638,371,8647216,8859248,212032,768,11259.395833333334,11535.479166666666,276.08333333333331]
[447,1,"GRYGLA",2103905,2141168,37263,154,13662,13904,242,2097927,2172993,75066,156,13448,13929,481,4201832,4314161,112329,310,13554.296774193548,13916.648387096775,362.35161290322583]
[458,1,"TRUMAN",2491126,2524139,33013,219,11375,11526,151,2471602,2538025,66423,216,11443,11750,307,4962728,5062164,99436,435,11408.570114942529,11637.158620689655,228.58850574712645]
[463,1,"EDEN VALLEY",8015296,8152043,136747,962,8332,8474,142,7884387,8157035,272648,938,8406,8696,290,15899683,16309078,409395,1900,8368.2542105263165,8583.725263157894,215.47105263157894]
[465,1,"LITCHFIELD",13215181,13441761,226580,1548,8537,8683,146,13105686,13560683,454997,1526,8588,8886,298,26320867,27002444,681577,3074,8562.4160702667541,8784.1392322706579,221.7231620039037]
[466,1,"DASSEL-COKATO",18457851,18767024,309173,2214,8337,8477,140,18297396,18916946,619550,2193,8344,8626,282,36755247,37683970,928723,4407,8340.1967324710695,8550.9348763331072,210.73814386203767]
[473,1,"ISLE",4544914,4617838,72924,452,10063,10225,162,4537911,4685273,147362,452,10048,10374,326,9082825,9303111,220286,904,10047.372787610619,10291.051991150442,243.67920353982302]
[477,1,"PRINCETON",25850963,26292263,441300,3119,8288,8430,142,25778466,26669350,890884,3104,8305,8592,287,51629429,52961613,1332184,6223,8296.5497348545723,8510.6239755744809,214.07424071991002]
[480,1,"ONAMIA",6733532,6850812,117280,633,10631,10816,185,6715790,6952837,237047,631,10636,11012,376,13449322,13803649,354327,1264,10640.286392405063,10920.60838607595,280.32199367088606]
[482,1,"LITTLE FALLS",20690221,21038031,347810,2306,8972,9123,151,20497067,21194655,697588,2283,8978,9284,306,41187288,42232686,1045398,4589,8975.2207452604052,9203.0259315755065,227.80518631510134]
[484,1,"PIERZ",9351926,9517221,165295,1122,8335,8482,147,9313554,9646882,333328,1115,8353,8652,299,18665480,19164103,498623,2237,8343.9785426911039,8566.8766204738495,222.89807778274474]
[485,1,"ROYALTON",7754997,7887034,132037,937,8276,8417,141,7766542,8034242,267700,938,8280,8565,285,15521539,15921276,399737,1875,8278.1541333333334,8491.3472000000002,213.19306666666665]
[486,1,"SWANVILLE",2948312,2994665,46353,317,9301,9447,146,2908986,3001612,92626,312,9324,9621,297,5857298,5996277,138979,629,9312.0794912559613,9533.0317965023842,220.9523052464229]
[487,1,"UPSALA",3331381,3384836,53455,372,8955,9099,144,3348957,3457759,108802,374,8954,9245,291,6680338,6842595,162257,746,8954.8766756032164,9172.3793565683645,217.50268096514745]
[492,1,"AUSTIN",44460529,45216960,756431,4782,9297,9455,158,44133511,45654984,1521473,4726,9338,9660,322,88594040,90871944,2277904,9508,9317.8418174169128,9557.4194362641992,239.57761884728649]
[495,1,"GRAND MEADOW",3876250,3936626,60376,414,9363,9509,146,3879193,4001049,121856,412,9416,9711,295,7755443,7937675,182232,826,9389.1561743341408,9609.7760290556907,220.61985472154964]
[497,1,"LYLE",2398353,2438998,40645,246,9757,9923,166,2334542,2414790,80248,239,9776,10112,336,4732895,4853788,120893,485,9758.5463917525776,10007.810309278351,249.26391752577319]
[499,1,"LEROY",2846698,2887536,40838,273,10427,10577,150,2818464,2900297,81833,270,10439,10742,303,5665162,5787833,122671,543,10433.079189686925,10658.992633517495,225.91344383057091]
[500,1,"SOUTHLAND",4146454,4206264,59810,407,10188,10335,147,3954707,4070346,115639,386,10245,10545,300,8101161,8276610,175449,793,10215.839848675914,10437.087011349306,221.24716267339218]
[505,1,"FULDA",3584389,3632380,47991,300,11948,12108,160,3476932,3570972,94040,292,11907,12229,322,7061321,7203352,142031,592,11927.907094594595,12167.824324324325,239.91722972972974]
[507,1,"NICOLLET",3467563,3519131,51568,366,9474,9615,141,3444173,3547768,103595,363,9488,9773,285,6911736,7066899,155163,729,9481.1193415637863,9693.9629629629635,212.84362139917695]
[508,1,"ST. PETER",18489441,18795127,305686,2071,8928,9075,147,18467656,19086439,618783,2067,8935,9234,299,36957097,37881566,924469,4138,8931.149589173514,9154.559207346545,223.40961817303045]
[511,1,"ADRIAN",5012121,5092117,79996,549,9130,9275,145,5056716,5220170,163454,551,9177,9474,297,10068837,10312287,243450,1100,9153.4881818181821,9374.806363636364,221.31818181818181]
[514,1,"ELLSWORTH",1433974,1454894,20920,136,10544,10698,154,1431136,1473405,42269,134,10680,10996,316,2865110,2928299,63189,270,10611.518518518518,10845.551851851851,234.03333333333333]
[518,1,"WORTHINGTON",34033703,34590382,556679,3236,10517,10689,172,34785760,35937106,1151346,3316,10490,10837,347,68819463,70527488,1708025,6552,10503.581043956045,10764.26862026862,260.68757631257631]
[531,1,"BYRON",16353723,16634748,281025,2081,7859,7994,135,16722145,17303812,581667,2126,7866,8139,273,33075868,33938560,862692,4207,7862.1031613976702,8067.1642500594244,205.06108866175421]
[533,1,"DOVER-EYOTA",10149341,10313773,164432,1190,8529,8667,138,10143843,10476521,332678,1191,8517,8796,279,20293184,20790294,497110,2381,8522.966820663587,8731.7488450230994,208.7820243595128]
[534,1,"STEWARTVILLE",16875933,17161933,286000,2076,8129,8267,138,16890797,17470402,579605,2072,8152,8432,280,33766730,34632335,865605,4148,8140.484570877531,8349.1646576663461,208.6800867888139]
[535,1,"ROCHESTER",162827501,165364610,2537109,17352,9384,9530,146,163765117,168930029,5164912,17445,9388,9684,296,326592618,334294639,7702021,34797,9385.6544529700841,9606.9959766646552,221.34152369457138]
[542,1,"BATTLE LAKE",3924689,3989585,64896,436,9002,9150,148,3992341,4120482,128141,426,9372,9672,300,7917030,8110067,193037,862,9184.4895591647328,9408.4303944315543,223.94083526682135]
[544,1,"FERGUS FALLS",20580156,20931962,351806,2407,8550,8696,146,20275937,20977334,701397,2387,8494,8788,294,40856093,41909296,1053203,4794,8522.338965373383,8742.030871923238,219.691906549854]
[545,1,"HENNING",3634560,3691306,56746,355,10238,10398,160,3578659,3691904,113245,348,10284,10609,325,7213219,7383210,169991,703,10260.624466571835,10502.432432432432,241.80796586059745]
[547,1,"PARKERS PRAIRIE",5125024,5208063,83039,544,9421,9574,153,5029554,5194454,164900,532,9454,9764,310,10154578,10402517,247939,1076,9437.3401486988841,9667.766728624536,230.42657992565057]
[548,1,"PELICAN RAPIDS",8340610,8482652,142042,897,9300,9459,159,8260616,8545453,284837,884,9347,9669,322,16601226,17028105,426879,1781,9321.2947782144856,9560.9797866367207,239.68500842223469]
[549,1,"PERHAM",12341796,12549775,207979,1406,8778,8926,148,12271788,12690106,418318,1403,8747,9045,298,24613584,25239881,626297,2809,8762.4008543965829,8985.3616945532212,222.96084015663936]
[550,1,"UNDERWOOD",4702367,4786588,84221,557,8442,8594,152,4699885,4870270,170385,559,8408,8712,304,9402252,9656858,254606,1116,8424.9569892473119,8653.0985663082429,228.14157706093189]
[553,1,"NEW YORK MILLS",6455160,6565216,110056,747,8641,8789,148,6422570,6644199,221629,743,8644,8942,298,12877730,13209415,331685,1490,8642.7718120805366,8865.379194630872,222.60738255033556]
[561,1,"GOODRIDGE",2603229,2642493,39264,206,12637,12828,191,2684266,2766063,81797,212,12662,13047,385,5287495,5408556,121061,418,12649.509569377991,12939.129186602871,289.61961722488036]
[564,1,"THIEF RIVER FALL",16540231,16818020,277789,1900,8705,8852,147,16409306,16968037,558731,1900,8636,8931,295,32949537,33786057,836520,3800,8670.9307894736849,8891.0676315789478,220.13684210526316]
[577,1,"WILLOW RIVER",4013271,4080565,67294,420,9555,9716,161,3944134,4078153,134019,408,9667,9995,328,7957405,8158718,201313,828,9610.3925120772947,9853.5241545893714,243.13164251207729]
[578,1,"PINE CITY",14062516,14299098,236582,1588,8855,9004,149,14131849,14608570,476721,1574,8978,9281,303,28194365,28907668,713303,3162,8916.6239721695129,9142.2099936748891,225.58602150537635]
[581,1,"EDGERTON",3897950,3961154,63204,392,9944,10105,161,3980396,4110681,130285,401,9926,10251,325,7878346,8071835,193489,793,9934.8625472887761,10178.858764186632,243.99621689785624]
[592,1,"CLIMAX",2128630,2162385,33755,181,11734,11921,187,2115628,2183484,67856,181,11663,12037,374,4244258,4345869,101611,362,11724.469613259669,12005.162983425414,280.69337016574588]
[593,1,"CROOKSTON",12053943,12248564,194621,1252,9628,9783,155,11885043,12274114,389071,1229,9670,9987,317,23938986,24522678,583692,2481,9648.9262394195885,9884.1910519951634,235.26481257557435]
[595,1,"EAST GRAND FORKS",15821991,16093443,271452,1907,8297,8439,142,15991638,16547072,555434,1931,8282,8569,287,31813629,32640515,826886,3838,8289.1164669098489,8504.5635747785309,215.4471078686816]
[599,1,"FERTILE-BELTRAMI",4676125,4751515,75390,454,10300,10466,166,4641126,4792449,151323,451,10291,10626,335,9317251,9543964,226713,905,10295.30497237569,10545.816574585635,250.51160220994475]
[600,1,"FISHER",2430552,2470130,39578,256,9494,9649,155,2308598,2384775,76177,241,9579,9895,316,4739150,4854905,115755,497,9535.5130784708253,9768.4205231388332,232.90744466800805]
[601,1,"FOSSTON",6335720,6439934,104214,649,9762,9923,161,6288035,6497332,209297,642,9794,10120,326,12623755,12937266,313511,1291,9778.2765298218437,10021.120061967467,242.84353214562356]
[621,1,"MOUNDS VIEW",106245898,107869924,1624026,11511,9230,9371,141,107450407,110775084,3324677,11649,9224,9509,285,213696305,218645008,4948703,23160,9226.9561744386865,9440.6307426597577,213.67456822107081]
[622,1,"NORTH ST. PAUL-M",104743980,106360219,1616239,10398,10073,10229,156,104199358,107455575,3256217,10331,10086,10401,315,208943338,213815794,4872456,20729,10079.759660379179,10314.814704037821,235.05504365864249]
[623,1,"ROSEVILLE",74060192,75193084,1132892,7507,9865,10016,151,74943750,77253450,2309700,7547,9930,10236,306,149003942,152446534,3442592,15054,9897.9634648598385,10126.646339843232,228.68287498339311]
[624,1,"WHITE BEAR LAKE",79059657,80213907,1154250,8376,9439,9577,138,79963116,82313319,2350203,8425,9491,9770,279,159022773,162527226,3504453,16801,9465.077852508779,9673.6638295339562,208.58597702517707]
[625,1,"ST. PAUL",393937604,400313670,6376066,36398,10823,10998,175,392966571,405797330,12830759,36114,10881,11237,356,786904175,806111000,19206825,72512,10852.054487533098,11116.932369814651,264.87788228155341]
[630,1,"RED LAKE FALLS",4043359,4100781,57422,358,11294,11455,161,4013218,4128722,115504,356,11273,11598,325,8056577,8229503,172926,714,11283.721288515406,11525.91456582633,242.19327731092437]
[635,1,"MILROY",586338,593422,7084,43,13636,13801,165,614308,629324,15016,45,13651,13985,334,1200646,1222746,22100,88,13643.704545454546,13894.84090909091,251.13636363636363]
[640,1,"WABASSO",3591602,3648475,56873,376,9552,9703,151,3547678,3661437,113759,370,9588,9896,308,7139280,7309912,170632,746,9570.080428954423,9798.8096514745303,228.72922252010724]
[656,1,"FARIBAULT",38541061,39170592,629531,3805,10128,10293,165,38101202,39358335,1257133,3737,10195,10531,336,76642263,78528927,1886664,7542,10162.060859188545,10412.215194908513,250.15433571996817]
[659,1,"NORTHFIELD",36934432,37479094,544662,3854,9583,9725,142,36283252,37363552,1080300,3731,9725,10014,289,73217684,74842646,1624962,7585,9652.9576796308502,9867.1912986156894,214.2336189848385]
[671,1,"HILLS-BEAVER CRE",3670470,3725185,54715,376,9762,9907,145,3605969,3714929,108960,366,9852,10150,298,7276439,7440114,163675,742,9806.5215633423177,10027.10781671159,220.58625336927224]
[676,1,"BADGER",2065029,2095462,30433,189,10926,11087,161,2027938,2088550,60612,185,10962,11289,327,4092967,4184012,91045,374,10943.762032085562,11187.197860962568,243.43582887700535]
[682,1,"ROSEAU",10147768,10315836,168068,1170,8673,8817,144,9985615,10320817,335202,1147,8706,8998,292,20133383,20636653,503270,2317,8689.4186447993088,8906.6262408286584,217.20759602934831]
[690,1,"WARROAD",8965099,9120049,154950,1023,8764,8915,151,8927857,9240378,312521,1016,8787,9095,308,17892956,18360427,467471,2039,8775.3585090730758,9004.6233447768518,229.26483570377636]
[695,1,"CHISHOLM",6608906,6719138,110232,721,9166,9319,153,6560641,6781995,221354,716,9163,9472,309,13169547,13501133,331586,{"$f":"G202+N202","v":1437},9164.6116910229648,9395.360473208073,230.74878218510787]
[696,1,"ELY",4995637,5077944,82307,528,9461,9617,156,4974919,5140836,165917,526,9458,9773,315,{"$f":"D203+K203","v":9970556},10218780,248224,1054,{"$f":"R203/U203","v":9459.7305502846302},{"$f":"S203/U203","v":9695.2371916508546},{"$f":"T203/U203","v":235.5066413662239}]
[698,1,"FLOODWOOD",2639840,2685701,45861,236,11186,11380,194,2609552,2701346,91794,234,11152,11544,392,5249392,5387047,137655,470,11168.919148936171,11461.802127659574,292.88297872340428]
[700,1,"HERMANTOWN",16632486,16914798,282312,2066,8051,8187,136,16633513,17205079,571566,2064,8059,8336,277,33265999,34119877,853878,4130,8054.7213075060536,8261.471428571429,206.75012106537531]
[701,1,"HIBBING",20291592,20644062,352470,2321,8743,8894,151,20090206,20796897,706691,2296,8750,9058,308,40381798,41440959,1059161,4617,8746.3283517435557,8975.7329434697858,229.40459172622914]
[704,1,"PROCTOR",14723422,14974756,251334,1752,8404,8547,143,14428466,14927540,499074,1709,8443,8735,292,29151888,29902296,750408,3461,8422.966772609072,8639.7850332273902,216.81826061831842]
[706,1,"VIRGINIA",14765233,15019045,253812,1729,8540,8687,147,14993035,15514701,521666,1754,8548,8845,297,29758268,30533746,775478,3483,8543.8610393339077,8766.5076083835775,222.64656904966984]
[707,1,"NETT LAKE",1202460,1223304,20844,105,11452,11651,199,1256589,1300695,44106,109,11528,11933,405,2459049,2523999,64950,214,11490.883177570093,11794.38785046729,303.50467289719626]
[709,1,"DULUTH",72051424,73302710,1251286,8049,8952,9108,156,71575399,74093098,2517699,7984,8965,9281,316,143626823,147395808,3768985,16033,8958.2001496912617,9193.2768664629202,235.07671677165845]
[712,1,"MOUNTAIN IRON-BU",4547646,4625511,77865,478,9514,9677,163,4540274,4697673,157399,475,9558,9890,332,9087920,9323184,235264,953,9536.1175236096533,9782.9842602308509,246.86673662119622]
[716,1,"BELLE PLAINE",13100261,13321887,221626,1618,8097,8234,137,13123776,13573325,449549,1619,8106,8384,278,26224037,26895212,671175,3237,8101.3398208217486,8308.6845844918134,207.34476367006488]
[717,1,"JORDAN",14758082,15006900,248818,1805,8176,8314,138,14886920,15395109,508189,1812,8216,8496,280,29645002,30402009,757007,3617,8196.0193530550187,8405.3107547691452,209.29140171412774]
[719,1,"PRIOR LAKE",71301780,72443766,1141986,8525,8364,8498,134,73199145,75572669,2373524,8775,8342,8612,270,144500925,148016435,3515510,17300,8352.6546242774566,8555.8632947976876,203.20867052023121]
[720,1,"SHAKOPEE",70212329,71390370,1178041,8365,8394,8534,140,71060182,73475431,2415249,8460,8400,8685,285,141272511,144865801,3593290,16825,8396.5831203566122,8610.1516196136708,213.56849925705794]
[721,1,"NEW PRAGUE",33513518,34065886,552368,4072,8230,8366,136,33434294,34549924,1115630,4051,8253,8529,276,66947812,68615810,1667998,8123,8241.7594484796264,8447.1020558906803,205.34260741105504]
[726,1,"BECKER",24399229,24781145,381916,2813,8674,8810,136,24541032,25316849,775817,2822,8696,8971,275,48940261,50097994,1157733,5635,8685.0507542147297,8890.5047027506662,205.45394853593612]
[727,1,"BIG LAKE",26816959,27241514,424555,3075,8721,8859,138,26351259,27195907,844648,3019,8728,9008,280,53168218,54437421,1269203,6094,8724.6829668526425,8932.9538890712174,208.27092221857563]
[728,1,"ELK RIVER",110510136,112262773,1752637,12885,8577,8713,136,109818954,113348010,3529056,12775,8596,8873,277,220329090,225610783,5281693,25660,8586.4805144193306,8792.3142244738901,205.83371005455962]
[738,1,"HOLDINGFORD",8445629,8589723,144094,1023,8256,8397,141,8151149,8433055,281906,982,8301,8588,287,16596778,17022778,426000,2005,8277.6947630922696,8490.1635910224431,212.46882793017457]
[739,1,"KIMBALL",6572551,6677435,104884,743,8846,8987,141,6540785,6752109,211324,738,8863,9149,286,13113336,13429544,316208,1481,8854.3794733288323,9067.8892640108043,213.50979068197165]
[740,1,"MELROSE",11956663,12160764,204101,1341,8916,9068,152,11590709,11991661,400952,1292,8971,9281,310,23547372,24152425,605053,2633,8943.1720470945693,9172.9680972274964,229.79605013292823]
[741,1,"PAYNESVILLE",7827448,7960534,133086,919,8517,8662,145,7739476,8005811,266335,909,8514,8807,293,15566924,15966345,399421,1828,8515.8227571115967,8734.3243982494532,218.50164113785559]
[742,1,"ST. CLOUD",98271123,99962483,1691360,10403,9447,9609,162,99156042,102610976,3454934,10508,9437,9765,328,197427165,202573459,5146294,20911,9441.3067285160923,9687.4113624408201,246.1046339247286]
[743,1,"SAUK CENTRE",9831573,9988418,156845,1070,9188,9335,147,9847517,10164408,316891,1066,9238,9535,297,19679090,20152826,473736,2136,9213.0571161048683,9434.8436329588021,221.7865168539326]
[745,1,"ALBANY",14269032,14510066,241034,1747,8168,8306,138,14308276,14798010,489734,1757,8144,8422,278,28577308,29308076,730768,3504,8155.6244292237443,8364.1769406392687,208.55251141552512]
[748,1,"SARTELL",31456750,31985894,529144,3923,8019,8153,134,31632726,32710103,1077377,3932,8045,8319,274,63089476,64695997,1606521,7855,8031.7601527689367,8236.2822406110754,204.52208784213877]
[750,1,"ROCORI",16921393,17208981,287588,2018,8385,8528,143,16643121,17215669,572548,1985,8384,8673,289,33564514,34424650,860136,4003,8384.8398700974267,8599.7127154634018,214.87284536597551]
[756,1,"BLOOMING PRAIRIE",6285809,6390831,105022,729,8623,8767,144,6457209,6675357,218148,746,8656,8948,292,12743018,13066188,323170,1475,8639.3342372881361,8858.4325423728806,219.09830508474576]
[761,1,"OWATONNA",44891334,45619770,728436,4924,9117,9265,148,45297351,46780525,1483174,4956,9140,9439,299,90188685,92400295,2211610,9880,9128.4094129554651,9352.2565789473683,223.84716599190284]
[763,1,"MEDFORD",7412088,7538978,126890,872,8500,8646,146,7306379,7559531,253152,853,8566,8862,296,14718467,15098509,380042,1725,8532.4446376811593,8752.7588405797105,220.31420289855072]
[768,1,"HANCOCK",3118743,3166907,48164,347,8988,9127,139,3176787,3275899,99112,352,9025,9307,282,6295530,6442806,147276,699,9006.4806866952786,9217.1759656652357,210.69527896995709]
[771,1,"CHOKIO-ALBERTA",1921256,1945291,24035,158,12160,12312,152,1925572,1974249,48677,158,12187,12495,308,3846828,3919540,72712,316,12173.506329113925,12403.60759493671,230.1012658227848]
[775,1,"KERKHOVEN-MURDOC",6226883,6332391,105508,693,8985,9138,153,6380978,6599830,218852,713,8949,9256,307,12607861,12932221,324360,1406,8967.1842105263149,9197.8812233285917,230.69701280227596]
[777,1,"BENSON",8016442,8146270,129828,842,9522,9676,154,8000609,8261980,261371,837,9560,9872,312,16017051,16408250,391199,1679,9539.6372840976765,9772.6325193567591,232.99523525908279]
[786,1,"BERTHA-HEWITT",4110467,4177109,66642,412,9977,10139,162,3827852,3954056,126204,372,10290,10629,339,7938319,8131165,192846,784,10125.406887755102,10371.383928571429,245.97704081632654]
[787,1,"BROWERVILLE",3334551,3390245,55694,354,9420,9577,157,3331338,3444018,112680,354,9411,9729,318,6665889,6834263,168374,708,9415.0974576271183,9652.9138418079092,237.81638418079095]
[801,1,"BROWNS VALLEY",1581826,1607132,25306,147,10761,10933,172,1574671,1625719,51048,146,10785,11135,350,3156497,3232851,76354,293,10773.027303754267,11033.621160409557,260.5938566552901]
[803,1,"WHEATON",4185853,4252321,66468,386,10850,11022,172,4150805,4283980,133175,385,10787,11133,346,8336658,8536301,199643,771,10812.7859922179,11071.726329442283,258.94033722438394]
[811,1,"WABASHA",5131388,5213739,82351,553,9279,9428,149,5112628,5278784,166156,550,9296,9598,302,10244016,10492523,248507,1103,9287.4125113327282,9512.7135086128746,225.30099728014505]
[813,1,"LAKE CITY",10504743,10678221,173478,1229,8547,8689,142,10423232,10771637,348405,1220,8544,8829,285,20927975,21449858,521883,2449,8545.5185790118412,8758.6190281747658,213.10044916292364]
[815,2,"PRINSBURG",0,0,0,0,0,0,0,0,0,0,0,0,0,0,0,0,0,0,{"$error":"#DIV/0!"},{"$error":"#DIV/0!"},{"$error":"#DIV/0!"}]
[818,1,"VERNDALE",4691323,4775893,84570,536,8752,8910,158,4673811,4844399,170588,533,8769,9089,320,9365134,9620292,255158,1069,8760.6492048643595,8999.337698783911,238.68849391955098]
[820,1,"SEBEKA",4797723,4876860,79137,511,9389,9544,155,4543539,4695582,152043,473,9606,9927,321,9341262,9572442,231180,984,9493.1524390243903,9728.0914634146338,234.9390243902439]
[821,1,"MENAHGA",9001525,9155046,153521,1029,8748,8897,149,9142233,9457662,315429,1046,8740,9042,302,18143758,18612708,468950,2075,8743.979759036145,8969.979759036145,226]
[829,1,"WASECA",15757720,16024742,267022,1791,8798,8947,149,15498538,16030396,531858,1759,8811,9113,302,31256258,32055138,798880,3550,8804.5797183098584,9029.6163380281687,225.03661971830985]
[831,1,"FOREST LAKE",54414923,55308388,893465,6365,8549,8689,140,53271819,55043466,1771647,6215,8571,8857,286,107686742,110351854,2665112,12580,8560.1543720190784,8772.0074721780602,211.8531001589825]
[832,1,"MAHTOMEDI",28948600,29392975,444375,3297,8780,8915,135,28937690,29836823,899133,3297,8777,9050,273,57886290,59229798,1343508,6594,8778.630573248407,8982.377616014559,203.74704276615105]
[833,1,"SOUTH WASHINGTON",166768953,169220437,2451484,17903,9315,9452,137,165811358,170744553,4933195,17772,9330,9607,277,332580311,339964990,7384679,35675,9322.5034618079881,9529.502172389628,206.99871058163981]
[834,1,"STILLWATER",76679138,77803137,1123999,8147,9412,9550,138,75540576,77773852,2233276,7975,9472,9752,280,152219714,155576989,3357275,16122,9441.7388661456389,9649.9807095893811,208.24184344374146]
[836,1,"BUTTERFIELD",2611059,2650705,39646,228,11434,11608,174,2606346,2686459,80113,228,11414,11765,351,5217405,5337164,119759,456,11441.677631578947,11704.307017543859,262.62938596491227]
[837,1,"MADELIA",5362442,5445539,83097,522,10273,10432,159,5216291,5380220,163929,504,10350,10675,325,10578733,10825759,247026,1026,10310.655945419103,10551.422027290448,240.76608187134502]
[840,1,"ST. JAMES",9890137,10051817,161680,1042,9495,9651,156,10031705,10363584,331879,1058,9486,9799,313,19921842,20415401,493559,2100,9486.591428571428,9721.6195238095243,235.02809523809523]
[846,1,"BRECKENRIDGE",6213714,6313586,99872,646,9619,9773,154,6231112,6433968,202856,648,9616,9929,313,12444826,12747554,302728,1294,9617.3307573415768,9851.2782071097372,233.94744976816074]
[850,1,"ROTHSAY",2741731,2788500,46769,312,8788,8938,150,2775261,2871118,95857,314,8838,9144,306,5516992,5659618,142626,626,8813.0862619808304,9040.9233226837059,227.83706070287539]
[852,1,"CAMPBELL-TINTAH",1928364,1955612,27248,144,13429,13618,189,1893114,1947387,54273,141,13465,13851,386,3821478,3902999,81521,285,13408.694736842106,13694.733333333334,286.03859649122808]
[857,1,"LEWISTON",6241162,6345816,104654,715,8729,8875,146,6007559,6211036,203477,685,8770,9067,297,12248721,12556852,308131,1400,8749.0864285714288,8969.18,220.09357142857144]
[858,1,"ST. CHARLES",7967907,8103559,135652,947,8414,8557,143,7925234,8197969,272735,951,8334,8620,286,15893141,16301528,408387,1898,8373.6253951527924,8588.7924130663851,215.16701791359327]
[861,1,"WINONA",29774729,30219868,445139,2990,9958,10107,149,31670541,32573926,903385,2999,10560,10862,302,61445270,62793794,1348524,5989,10259.687760894974,10484.854566705628,225.16680581065287]
[876,1,"ANNANDALE",13979937,14216178,236241,1702,8214,8353,139,13911785,14386842,475057,1682,8271,8553,282,27891722,28603020,711298,3384,8242.2346335697403,8452.4290780141837,210.19444444444446]
[877,1,"BUFFALO",46280138,47059466,779328,5613,8245,8384,139,45532181,47083614,1551433,5499,8280,8562,282,91812319,94143080,2330761,11112,8262.4477141828647,8472.1994240460772,209.75170986321095]
[879,1,"DELANO",20745033,21077901,332868,2468,8406,8540,134,20799870,21474002,674132,2468,8428,8701,273,41544903,42551903,1007000,4936,8416.7145461912478,8620.7258914100494,204.01134521880064]
[881,1,"MAPLE LAKE",6880212,6996481,116269,830,8289,8429,140,6793400,7025640,232240,819,8295,8578,283,13673612,14022121,348509,1649,8292.0630685263804,8503.4087325651908,211.34566403881141]
[882,1,"MONTICELLO",35203266,35763979,560713,4057,8677,8815,138,35155581,36288711,1133130,4027,8730,9011,281,70358847,72052690,1693843,8084,8703.4694458189024,8912.9997525977233,209.53030677882236]
[883,1,"ROCKFORD",13903472,14139044,235572,1695,8203,8342,139,13978691,14458245,479554,1700,8223,8505,282,27882163,28597289,715126,3395,8212.7136966126654,8423.354639175257,210.64094256259204]
[885,1,"ST. MICHAEL-ALBE",50047753,50888612,840859,6291,7955,8089,134,50730200,52455858,1725658,6369,7965,8236,271,100777953,103344470,2566517,{"$f":"G266+N266","v":12660},7960.3438388625591,8163.0703001579777,202.72646129541863]
[891,1,"CANBY",5084569,5164722,80153,501,10149,10309,160,5028142,5188910,160768,492,10220,10547,327,{"$f":"D267+K267","v":10112711},10353632,240921,993,{"$f":"R267/U267","v":10183.998992950654},{"$f":"S267/U267","v":10426.618328298087},{"$f":"T267/U267","v":242.61933534743201}]
[911,1,"CAMBRIDGE-ISANTI",42450997,43162478,711481,5001,8489,8631,142,42269020,43702715,1433695,4975,8496,8784,288,84720017,86865193,2145176,9976,8492.3834202085,8707.4171010425016,215.03368083400161]
[912,1,"MILACA",15608085,15877183,269098,1792,8710,8860,150,15514687,16056436,541749,1784,8697,9000,303,31122772,31933619,810847,3576,8703.2360178970921,8929.9829418344525,226.74692393736018]
[914,1,"ULEN-HITTERDAL",2952054,2994013,41959,274,10774,10927,153,2898314,2981426,83112,269,10774,11083,309,5850368,5975439,125071,543,10774.158379373848,11004.491712707182,230.33333333333334]
[2071,1,"LAKE CRYSTAL-WEL",7484430,7611858,127428,907,8252,8392,140,7549894,7810144,260250,914,8260,8545,285,15034324,15422002,387678,1821,8256.0812740252604,8468.9741900054923,212.89291598023064]
[2125,1,"TRITON",10252873,10429032,176159,1200,8544,8691,147,10304629,10663102,358473,1204,8559,8856,297,20557502,21092134,534632,2404,8551.3735440931778,8773.7662229617308,222.39267886855242]
[2134,1,"UNITED SOUTH CENTRAL",6938371,7044548,106177,691,10041,10195,154,6889885,7102502,212617,681,10117,10430,313,13828256,14147050,318794,1372,10078.903790087463,10311.260932944606,232.35714285714286]
[2135,1,"MAPLE RIVER",8291122,8428971,137849,945,8774,8920,146,8078855,8350807,271952,914,8839,9137,298,16369977,16779778,409801,1859,8805.7972027972028,9026.2388380849916,220.44163528778913]
[2137,1,"KINGSLAND",5352646,5440891,88245,622,8606,8747,141,5456600,5638860,182260,633,8620,8908,288,10809246,11079751,270505,1255,8612.9450199203184,8828.4868525896418,215.5418326693227]
[2142,1,"ST. LOUIS COUNTY",20321255,20614079,292824,1839,11051,11211,160,20245734,20836154,590420,1815,11156,11481,325,40566989,41450233,883244,3654,11102.076902025177,11343.796661193213,241.71975916803504]
[2143,1,"WATERVILLE-ELYSIAN-MORRISTOWN",7423530,7534139,110609,771,9628,9772,144,7433624,7657607,223983,771,9642,9932,290,14857154,15191746,334592,1542,9634.9896238651108,9851.9753566796371,216.98573281452659]
[2144,1,"CHISAGO LAKES AREA",28584978,29057198,472220,3375,8470,8610,140,28133249,29074006,940757,3325,8461,8744,283,56718227,58131204,1412977,6700,8465.407014925373,8676.2991044776118,210.89208955223882]
[2149,1,"MINNEWASKA",10424626,10598816,174190,1193,8738,8884,146,10422706,10775349,352643,1192,8744,9040,296,20847332,21374165,526833,2385,8741.0197064989516,8961.9140461215939,220.8943396226415]
[2154,1,"EVELETH-GILBERT",8198630,8338706,140076,940,8722,8871,149,8301139,8587867,286728,955,8692,8993,301,16499769,16926573,426804,1895,8707.0021108179426,8932.2284960422166,225.2263852242744]
[2155,1,"WADENA-DEER CREEK",9322223,9479351,157128,1032,9033,9185,152,9218504,9533607,315103,1013,9100,9411,311,18540727,19012958,472231,2045,9066.3701711491449,9297.2899755501221,230.91980440097799]
[2159,1,"BUFFALO LAKE-HECTOR",5485351,5570480,85129,556,9866,10019,153,5495708,5668325,172617,556,9884,10195,311,10981059,11238805,257746,1112,9875.053057553956,10106.839028776978,231.78597122302159]
[2164,1,"DILWORTH-GLYNDON",13997653,14236080,238427,1690,8283,8424,141,14346048,14840585,494537,1733,8278,8564,286,28343701,29076665,732964,3423,8280.368390300906,8494.4975167981302,214.12912649722466]
[2165,1,"HINCKLEY-FINLAYS",9045931,9206047,160116,972,9307,9471,164,8869703,9188192,318489,941,9426,9764,338,17915634,18394239,478605,1913,9365.2033455305809,9615.3889179299531,250.18557239937272]
[2167,1,"LAKEVIEW",5576447,5670385,93938,642,8686,8832,146,5478890,5665724,186834,629,8710,9008,298,11055337,11336109,280772,1271,8698.1408339889858,8919.0472069236821,220.90637293469709]
[2168,1,"NRHEG",7853718,7988335,134617,927,8472,8617,145,7712156,7980150,267994,904,8531,8828,297,15565874,15968485,402611,1831,8501.2965592572364,8721.1824139814307,219.88585472419442]
[2169,1,"MURRAY COUNTY",6739504,6845476,105972,726,9283,9429,146,6740357,6954916,214559,726,9284,9580,296,13479861,13800392,320531,1452,9283.6508264462809,9504.4022038567491,220.75137741046831]
[2170,1,"STAPLES-MOTLEY",10571966,10751929,179963,1130,9356,9515,159,10521959,10884005,362046,1125,9353,9675,322,21093925,21635934,542009,2255,9354.2904656319297,9594.6492239467843,240.35875831485586]
[2171,1,"KITTSON CENTRAL",3305088,3347230,42142,249,13273,13443,170,3190768,3273458,82690,239,13350,13696,346,6495856,6620688,124832,488,13311.180327868853,13566.983606557376,255.80327868852459]
[2172,1,"KENYON-WANAMINGO",7008375,7123673,115298,789,8883,9029,146,6883387,7112366,228979,774,8893,9189,296,13891762,14236039,344277,1563,8887.8835572616754,9108.150351887396,220.26679462571977]
[2174,1,"PINE RIVER-BACKU",9003143,9160745,157602,974,9247,9408,161,9161590,9486303,324713,993,9229,9556,327,18164733,18647048,482315,1967,9234.7397051347234,9479.9430604982208,245.20335536349771]
[2176,1,"WARREN-ALVARADO-",5660782,5743556,82774,462,12240,12419,179,5719931,5889282,169351,467,12236,12598,362,11380713,11632838,252125,929,12250.498385360603,12521.892357373519,271.39397201291712]
[2180,1,"MACCRAY",6904591,7009674,105083,673,10259,10416,157,6835987,7046434,210447,661,10342,10660,318,13740578,14056108,315530,1334,10300.283358320839,10536.812593703149,236.52923538230885]
[2184,1,"LUVERNE",10586302,10757415,171113,1194,8866,9010,144,10532126,10876633,344507,1187,8873,9163,290,21118428,21634048,515620,2381,8869.5623687526258,9086.1184376312467,216.55606887862243]
[2190,1,"YELLOW MEDICINE EAST",7555439,7672435,116996,753,10034,10189,155,7413228,7646131,232903,729,10169,10489,320,14968667,15318566,349899,1482,10100.315114709852,10336.414304993252,236.09919028340082]
[2198,1,"FILLMORE CENTRAL",5788483,5881293,92810,627,9232,9380,148,5633796,5816729,182933,606,9297,9599,302,11422279,11698022,275743,1233,9263.8110300081098,9487.4468775344685,223.63584752635848]
[2215,1,"NORMAN COUNTY EAST",3393892,3444433,50541,283,12010,12188,178,3427737,3530874,103137,287,11960,12320,360,6821629,6975307,153678,570,11967.770175438596,12237.380701754386,269.61052631578946]
[2310,1,"SIBLEY EAST",10465997,10642171,176174,1182,8854,9004,150,10346306,10699172,352866,1159,8927,9231,304,20812303,21341343,529040,2341,8890.3472874839808,9116.3361811191789,225.98889363519862]
[2311,1,"CLEARBROOK-GONVICK",4267851,4338239,70388,422,10113,10280,167,4225639,4366767,141128,417,10133,10472,339,8493490,8705006,211516,839,10123.349225268177,10375.45411203814,252.10488676996425]
[2342,1,"WEST CENTRAL AREA",7588246,7698304,110058,719,10554,10707,153,7601673,7824313,222640,721,10543,10852,309,15189919,15522617,332698,1440,10548.554861111112,10779.59513888889,231.04027777777779]
[2358,1,"TRI-COUNTY",2814896,2855741,40845,191,14725,14939,214,2792340,2873838,81498,194,14382,14801,419,5607236,5729579,122343,385,14564.24935064935,14882.023376623376,317.77402597402596]
[2364,1,"BELGRADE-BROOTEN-ELR",5570427,5661193,90766,590,9441,9595,154,5407917,5586501,178584,565,9572,9888,316,10978344,11247694,269350,1155,9505.0597402597396,9738.2632034632043,233.2034632034632]
[2365,1,"G.F.W.",7291643,7411379,119736,780,9348,9502,154,7196882,7436262,239380,763,9432,9746,314,14488525,14847641,359116,1543,9389.8412184057033,9622.5800388852876,232.73882047958523]
[2396,1,"A.C.G.C.",7155022,7269009,113987,752,9515,9666,151,7052696,7280182,227486,737,9569,9878,309,14207718,14549191,341473,1489,9541.7850906648764,9771.1155137676287,229.33042310275351]
[2397,1,"LESUEUR-HENDERSO",8729464,8874019,144555,975,8953,9102,149,8593862,8882052,288190,964,8915,9214,299,17323326,17756071,432745,1939,8934.1547189272824,9157.3341928829286,223.17947395564724]
[2448,1,"MARTIN COUNTY",7028836,7140012,111176,730,9629,9781,152,6896389,7117582,221193,710,9713,10025,312,13925225,14257594,332369,1440,9670.2951388888887,9901.1069444444438,230.81180555555557]
[2527,1,"NORMAN CTY WEST",2672045,2713500,41455,235,11370,11547,177,2643206,2726280,83074,231,11442,11802,360,5315251,5439780,124529,466,11406.118025751073,11673.347639484979,267.22961373390558]
[2534,1,"BIRD ISLAND-OLIVIA-LAKE LILLIAN",6155640,6260268,104628,687,8960,9112,152,6138947,6350240,211293,683,8988,9298,310,12294587,12610508,315921,1370,8974.1510948905106,9204.7503649635037,230.59927007299271]
[2536,1,"GRANADA HUNTLEY-",2976858,3013932,37074,247,12052,12202,150,2946520,3020743,74223,246,11978,12279,301,5923378,6034675,111297,493,12014.965517241379,12240.720081135903,225.75456389452333]
[2580,1,"EAST CENTRAL",7024415,7146073,121658,720,9756,9925,169,6897292,7139458,242166,696,9910,10258,348,13921707,14285531,363824,1416,9831.7139830508477,10088.651836158193,256.93785310734461]
[2609,1,"WIN-E-MAC",4163835,4231249,67414,422,9867,10027,160,4133728,4269303,135575,418,9889,10214,325,8297563,8500552,202989,840,9878.0511904761897,10119.704761904763,241.65357142857144]
[2683,1,"GREENBUSH-MIDDLE RIV",4397706,4471142,73436,380,11573,11766,193,4373177,4521085,147908,379,11539,11929,390,8770883,8992227,221344,759,11555.840579710144,11847.466403162056,291.62582345191043]
[2687,1,"HOWARD LAKE-WAVERLY-WINSTED",9526026,9688185,162159,1161,8205,8345,140,9692654,10026006,333352,1178,8228,8511,283,19218680,19714191,495511,2339,8216.6224882428396,8428.4698589140662,211.84737067122703]
[2689,1,"PIPESTONE-JASPER",10645174,10820397,175223,1145,9297,9450,153,10650017,11004971,354954,1143,9318,9628,310,21295191,21825368,530177,2288,9307.3387237762236,9539.0594405594402,231.72071678321677]
[2711,1,"MESABI EAST",8149138,8290082,140944,923,8831,8984,153,8132233,8417257,285024,921,8832,9142,310,16281371,16707339,425968,1844,8829.3768980477216,9060.3790672451196,231.00216919739697]
[2752,1,"FAIRMONT AREA SCHOOLS",15844339,16107892,263553,1718,9223,9376,153,16840023,17371503,531480,1706,9871,10183,312,32684362,33479395,795033,3424,9545.6664719626169,9777.8606892523367,232.19421728971963]
[2753,1,"LONG PRAIRIE-GREY EA",8992074,9137597,145523,888,10126,10290,164,9050919,9346853,295934,893,10135,10467,332,18042993,18484450,441457,1781,10130.821448624369,10378.691746209994,247.87029758562605]
[2754,1,"CEDAR MOUNTAIN",4476734,4551838,75104,493,9081,9233,152,4394629,4544010,149381,480,9155,9467,312,8871363,9095848,224485,973,9117.5364850976366,9348.250770811921,230.71428571428572]
[2759,1,"EAGLE BEND-CLARISSA",2205395,2239532,34137,226,9758,9909,151,2212121,2281242,69121,226,9788,10094,306,4417516,4520774,103258,452,9773.2654867256642,10001.712389380531,228.44690265486724]
[2769,1,"MORRIS AREA PUBLIC SCHOOLS",8240731,8377479,136748,965,8540,8681,141,8390910,8672334,281424,979,8571,8858,287,16631641,17049813,418172,1944,8555.3708847736634,8770.4799382716046,215.1090534979424]
[2805,1,"ZUMBROTA-MAZEPPA",10008488,10165393,156905,1136,8810,8948,138,9968834,10285328,316494,1128,8838,9118,280,19977322,20450721,473399,2264,8823.9054770318016,9033.0039752650173,209.09849823321554]
[2835,1,"JANESVILLE-WALDO",5698931,5782073,83142,558,10213,10362,149,5395603,5553908,158305,535,10085,10381,296,11094534,11335981,241447,1093,10150.534309240622,10371.437328453796,220.90301921317476]
[2853,1,"LAC QUI PARLE",7306954,7425464,118510,749,9756,9914,158,7277765,7516910,239145,743,9795,10117,322,14584719,14942374,357655,1492,9775.280831099195,10014.995978552279,239.71514745308312]
[2854,1,"ADA-BORUP",4742967,4824231,81264,483,9820,9988,168,4568908,4727082,158174,470,9721,10058,337,9311875,9551313,239438,953,9771.1175236096533,10022.364113326337,251.24658971668416]
[2856,1,"STEPHEN-ARGYLE",3515907,3570457,54550,299,11759,11941,182,3449311,3557878,108567,291,11853,12226,373,6965218,7128335,163117,590,11805.454237288135,12081.923728813559,276.46949152542373]
[2859,1,"GLENCOE-SILVER LAKE",13725538,13954956,229418,1566,8765,8911,146,13853554,14322338,468784,1579,8774,9071,297,27579092,28277294,698202,3145,8769.1866454689989,8991.1904610492838,222.00381558028616]
[2860,1,"BLUE EARTH-DELAVAN-ELMORE",9878176,10048705,170529,1135,8703,8853,150,9769978,10111747,341769,1117,8747,9053,306,19648154,20160452,512298,2252,8724.7575488454713,8952.243339253997,227.48579040852576]
[2884,1,"RED ROCK CENTRAL",4104883,4166876,61993,379,10826,10989,163,3979320,4101261,121941,364,10927,11262,335,8084203,8268137,183934,743,10880.488559892328,11128.044414535667,247.55585464333782]
[2886,1,"GLENVILLE-EMMONS",3439568,3488650,49082,338,10176,10321,145,3459816,3559754,99938,340,10176,10470,294,6899384,7048404,149020,678,10176.082595870206,10395.87610619469,219.79351032448378]
[2888,1,"CLINTON-GRACEVILLE-BEARDSLEY",3579612,3638947,59335,336,10641,10817,176,3586272,3706594,120322,337,10629,10986,357,7165884,7345541,179657,{"$f":"G330+N330","v":673},10647.673105497772,10914.622585438336,266.94947994056463]
[2889,1,"LAKE PARK-AUDUBON",6350404,6456002,105598,727,8735,8880,145,6410254,6626155,215901,737,8698,8991,293,{"$f":"D331+K331","v":12760658},13082157,321499,1464,{"$f":"R331/U331","v":8716.2964480874325},{"$f":"S331/U331","v":8935.8995901639337},{"$f":"T331/U331","v":219.60314207650273}]
[2890,1,"RENVILLE CTY WEST",5690358,5773669,83311,509,11188,11352,164,5605435,5771881,166446,496,11310,11646,336,11295793,11545550,249757,1005,11239.595024875622,11488.109452736318,248.51442786069651]
[2895,1,"JACKSON COUNTY CENTRAL",10366995,10539120,172125,1175,8823,8969,146,10687573,11035327,347754,1170,9135,9432,297,21054568,21574447,519879,2345,8978.4938166311294,9200.1906183368865,221.69680170575694]
[2897,1,"REDWOOD AREA SCHOOLS",10053745,10220942,167197,1112,9041,9191,150,9972591,10308628,336037,1099,9074,9380,306,20026336,20529570,503234,2211,9057.5920398009948,9285.1967435549523,227.60470375395749]
[2898,1,"WESTBROOK-WALNUT GROVE",4300718,4370879,70161,383,11217,11400,183,4202525,4341434,138909,374,11225,11596,371,8503243,8712313,209070,757,11232.817701453105,11509,276.18229854689565]
[2899,1,"PLAINVIEW-ELGIN-MILLVILLE",12038897,12244696,205799,1454,8280,8421,141,12126539,12546152,419613,1464,8283,8570,287,24165436,24790848,625412,2918,8281.506511309115,8495.8355037697056,214.32899246058943]
[2902,1,"RTR",5733571,5830674,97103,609,9415,9574,159,5833951,6033866,199915,624,9349,9670,321,11567522,11864540,297018,1233,9381.6074614760746,9622.4979724249806,240.8905109489051]
[2903,1,"ORTONVILLE",4666756,4746849,80093,486,9602,9767,165,4641123,4802331,161208,481,9649,9984,335,9307879,9549180,241301,967,9625.5211995863501,9875.0568769389865,249.53567735263701]
[2904,1,"TRACY-BALATON",7063916,7181584,117668,733,9637,9798,161,7647572,7886007,238435,730,10476,10803,327,14711488,15067591,356103,1463,10055.699248120301,10299.105263157895,243.40601503759399]
[2905,1,"TRI-CITY UNITED",16308846,16587892,279046,1942,8398,8542,144,16859074,17442413,583339,2006,8404,8695,291,33167920,34030305,862385,3948,8401.1955420466056,8619.6314589665653,218.43591691995948]
[2906,1,"RED LAKE COUNTY CENTRAL PUBLIC SCHOOLS",4296306,4364684,68378,388,11073,11249,176,4319361,4458509,139148,391,11047,11403,356,8615667,8823193,207526,779,11059.906290115532,11326.306803594352,266.40051347881899]
[2907,1,"ROUND LAKE-BREWSTER PUBLIC SCHOOLS",3204023,3253452,49429,305,10505,10667,162,3457644,3565157,107513,334,10352,10674,322,6661667,6818609,156942,639,10425.143974960876,10670.749608763694,245.6056338028169]
[2908,1,"BRANDON-EVANSVILLE PUBLIC SCHOOLS",4392041,4463192,71151,476,9227,9376,149,4470807,4617440,146633,484,9237,9540,303,8862848,9080632,217784,960,9232.1333333333332,9458.9916666666668,226.85833333333332]
[3000,1,"NEW REFERENDUM GROWTH",88175,88175,0,0,0,0,0,22723900,22723900,0,0,0,0,0,22812075,22812075,0,0,{"$error":"#DIV/0!"},{"$error":"#DIV/0!"},{"$error":"#DIV/0!"}]
[3999,1,"MDE DST EST (FUDGE)",22028369,22278592,250223,792,27825,28141,316,53238963,54910783,1671820,2794,19055,19653,598,75267332,77189375,1922043,3586,20989.216954824318,21525.202175125487,535.98522030117124]
[4000,7,"CITY ACADEMY",1222313,1246121,23808,110,11112,11328,216,763982,795096,31114,30,25466,26503,1037,1986295,2041217,54922,140,14187.821428571429,14580.121428571429,392.3]
[4001,7,"BLUFFVIEW MONTESSORI",1407318,1433209,25891,204,6899,7026,127,1413468,1466129,52661,205,6895,7152,257,2820786,2899338,78552,409,6896.7872860635698,7088.8459657701715,192.05867970660148]
[4003,7,"NEW HEIGHTS SCHOOL, INC.",1055896,1076033,20137,136,7764,7912,148,1083117,1124921,41804,139,7792,8093,301,2139013,2200954,61941,275,7778.2290909090907,8003.4690909090905,225.24]
[4004,7,"CEDAR RIVERSIDE COMMUNITY SCHO",1775606,1808358,32752,176,10089,10275,186,1842221,1910948,68727,185,9958,10329,371,3617827,3719306,101479,361,10021.681440443213,10302.786703601108,281.10526315789474]
[4005,7,"METRO DEAF CHARTER SCHOOL",416746,425091,8345,35,11907,12145,238,410954,427636,16682,33,12453,12959,506,827700,852727,25027,68,12172.058823529413,12540.10294117647,368.04411764705884]
[4007,7,"MINNESOTA NEW COUNTRY SCHOOL",1292648,1316179,23531,151,8561,8716,155,1125046,1166125,41079,139,8094,8389,295,2417694,2482304,64610,290,8336.8758620689659,8559.6689655172413,222.79310344827587]
[4008,7,"PACT CHARTER SCHOOL",4658013,4742362,84349,640,7278,7410,132,4576167,4743831,167664,628,7287,7554,267,9234180,9486193,252013,1268,7282.4763406940065,7481.2247634069399,198.74842271293375]
[4011,7,"NEW VISIONS CHARTER SCHOOL",9044137,9208566,164429,1105,8185,8334,149,9018932,9350980,332048,1100,8199,8501,302,18063069,18559546,496477,2205,8191.8680272108841,8417.0276643990928,225.15963718820862]
[4015,7,"COMMUNITY OF PEACE ACADEMY",7809270,7957034,147764,768,10171,10363,192,7809179,8108370,299191,768,10171,10561,390,15618449,16065404,446955,1536,10168.261067708334,10459.247395833334,290.986328125]
[4016,7,"WORLD LEARNER CHARTER SCHOOL",1467646,1494364,26718,218,6732,6855,123,1428229,1480861,52632,211,6769,7018,249,2895875,2975225,79350,429,6750.2913752913755,6935.2564102564102,184.96503496503496]
[4017,7,"MINNESOTA TRANSITIONS CHARTER",25128326,25594668,466342,2820,8911,9076,165,23227578,24102356,874778,2481,9362,9715,353,48355904,49697024,1341120,5301,9122.0343331446893,9375.0281079041688,252.99377475947935]
[4018,7,"ACHIEVE LANGUAGE ACADEMY",4217724,4293852,76128,444,9499,9671,172,4266089,4422005,155916,450,9480,9827,347,8483813,8715857,232044,894,9489.7237136465319,9749.2807606263978,259.55704697986579]
[4020,7,"DULUTH PUBLIC SCHOOLS ACADEMY",10466898,10664121,197223,1408,7434,7574,140,13046323,13543493,497170,1729,7546,7833,287,23513221,24207614,694393,3137,7495.4481989161623,7716.8039528211666,221.35575390500478]
[4025,7,"CYBER VILLAGE ACADEMY",1457374,1484147,26773,154,9463,9637,174,1181407,1224656,43249,142,8320,8624,304,2638781,2708803,70022,296,8914.8006756756749,9151.3614864864867,236.56081081081081]
[4026,7,"E.C.H.O. CHARTER SCHOOL",887301,903707,16406,95,9340,9513,173,827257,858155,30898,88,9401,9752,351,1714558,1761862,47304,183,9369.1693989071046,9627.6612021857927,258.49180327868851]
[4027,7,"HIGHER GROUND ACADEMY",7873267,8023215,149948,760,10360,10557,197,7873178,8176794,303616,760,10359,10759,400,15746445,16200009,453564,1520,10359.503289473685,10657.900657894737,298.39736842105265]
[4029,7,"NEW SPIRIT SCHOOLS",4284730,4364997,80267,394,10879,11083,204,4138449,4295068,156619,393,10534,10933,399,8423179,8660065,236886,787,10702.895806861499,11003.894536213469,300.99872935196953]
[4030,7,"ODYSSEY CHARTER SCHOOL",3371676,3437282,65606,360,9366,9548,182,3443946,3579538,135592,370,9308,9674,366,6815622,7016820,201198,730,9336.4684931506854,9612.0821917808225,275.61369863013698]
[4031,7,"JENNINGS EXPERIENTIAL HIGH SCH",887063,904069,17006,86,10315,10512,197,801117,832345,31228,71,11283,11723,440,1688180,1736414,48234,157,10752.738853503184,11059.96178343949,307.22292993630572]
[4032,7,"HARVEST PREP SCHOOL/SEED ACADE",3619197,3689598,70401,430,8417,8580,163,3683839,3828845,145006,440,8372,8702,330,7303036,7518443,215407,870,8394.2942528735639,8641.8885057471271,247.59425287356322]
[4035,7,"CONCORDIA CREATIVE LEARNING AC",3075123,3130849,55726,350,8786,8945,159,3075085,3187919,112834,350,8786,9108,322,6150208,6318768,168560,700,8786.011428571428,9026.8114285714291,240.8]
[4036,7,"FACE TO FACE ACADEMY",646085,658779,12694,48,13460,13725,265,599186,622987,23801,48,12483,12979,496,1245271,1281766,36495,96,12971.572916666666,13351.729166666666,380.15625]
[4038,7,"SOJOURNER TRUTH ACADEMY",4200005,4282062,82057,444,9459,9644,185,4320365,4491041,170676,460,9392,9763,371,8520370,8773103,252733,904,9425.1880530973449,9704.7599557522117,279.57190265486724]
[4039,7,"HIGH SCHOOL FOR RECORDING ARTS",3367637,3432445,64808,315,10691,10897,206,3406964,3539665,132701,320,10647,11061,414,6774601,6972110,197509,635,10668.662992125985,10979.700787401574,311.03779527559055]
[4042,7,"TWIN CITIES ACADEMY",0,0,0,0,0,0,0,0,0,0,0,0,0,0,0,0,0,0,{"$error":"#DIV/0!"},{"$error":"#DIV/0!"},{"$error":"#DIV/0!"}]
[4043,7,"MATH & SCIENCE ACADEMY",3530193,3594603,64410,477,7401,7536,135,3998177,4146334,148157,540,7404,7678,274,7528370,7740937,212567,1017,7402.5270403146505,7611.5408062930182,209.01376597836776]
[4045,7,"LAKES AREA CHARTER SCHOOL",0,0,0,0,0,0,0,0,0,0,0,0,0,0,0,0,0,0,{"$error":"#DIV/0!"},{"$error":"#DIV/0!"},{"$error":"#DIV/0!"}]
[4049,7,"COON RAPIDS LEARNING CENTER",1550724,1578948,28224,180,8615,8772,157,1550701,1607849,57148,180,8615,8932,317,3101425,3186797,85372,360,8615.0694444444453,8852.2138888888894,237.14444444444445]
[4050,7,"LAFAYETTE PUBLIC CHARTER SCHOO",781748,796696,14948,96,8143,8299,156,841300,873831,32531,104,8089,8402,313,1623048,1670527,47479,200,8115.24,8352.6350000000002,237.39500000000001]
[4053,7,"NORTH LAKES ACADEMY",3132767,3190455,57688,417,7513,7651,138,3137671,3254665,116994,420,7471,7749,278,6270438,6445120,174682,837,7491.5627240143367,7700.2628434886501,208.70011947431303]
[4054,7,"LACRESCENT MONTESSORI ACADEMY",559101,569583,10482,76,7357,7495,138,581397,603466,22069,78,7454,7737,283,1140498,1173049,32551,154,7405.8311688311687,7617.2012987012986,211.37012987012986]
[4055,7,"NERSTRAND CHARTER SCHOOL",988761,1006474,17713,150,6592,6710,118,979748,1015279,35531,148,6620,6860,240,1968509,2021753,53244,298,6605.7348993288588,6784.4060402684563,178.67114093959731]
[4056,7,"ROCHESTER OFF-CAMPUS CHARTER H",952642,970602,17960,108,8821,8987,166,968229,1005186,36957,110,8802,9138,336,1920871,1975788,54917,218,8811.3348623853217,9063.2477064220184,251.91284403669724]
[4057,7,"EL COLEGIO CHARTER SCHOOL",1164323,1186701,22378,110,10585,10788,203,1125470,1169301,43831,105,10719,11136,417,2289793,2356002,66209,215,10650.2,10958.148837209303,307.94883720930233]
[4058,7,"SCHOOLCRAFT LEARNING COMMUNITY",1418412,1444852,26440,187,7585,7726,141,1422441,1476121,53680,185,7689,7979,290,2840853,2920973,80120,372,7636.7016129032254,7852.0779569892475,215.3763440860215]
[4059,7,"CROSSLAKE COMMUNITY CHARTER SC",1233663,1257010,23347,150,8224,8380,156,1109050,1151316,42266,147,7545,7832,287,2342713,2408326,65613,297,7887.9225589225589,8108.8417508417506,220.91919191919192]
[4064,7,"RIVERWAY LEARNING COMMUNITY CH",910636,928152,17516,106,8591,8756,165,925096,961116,36020,108,8566,8899,333,1835732,1889268,53536,214,8578.1869158878508,8828.3551401869154,250.16822429906543]
[4066,7,"RIVERBEND ACADEMY",607626,619142,11516,65,9348,9525,177,547370,568342,20972,60,9123,9472,349,1154996,1187484,32488,125,9239.9680000000008,9499.8719999999994,259.904]
[4067,7,"AURORA CHARTER SCHOOL",4079626,4156437,76811,385,10596,10796,200,4061175,4216028,154853,382,10631,11037,406,8140801,8372465,231664,767,10613.821382007824,10915.860495436767,302.03911342894395]
[4068,7,"EXCELL ACADEMY CHARTER",5124240,5221049,96809,568,9022,9192,170,5399774,5606129,206355,608,8881,9221,340,10524014,10827178,303164,1176,8948.9914965986391,9206.7840136054419,257.79251700680271]
[4070,7,"HOPE COMMUNITY ACADEMY",5079712,5169326,89614,520,9769,9941,172,5175201,5359850,184649,530,9765,10113,348,10254913,10529176,274263,1050,9766.5838095238087,10027.786666666667,261.20285714285717]
[4073,7,"ACADEMIA CESAR CHAVEZ CHARTER",4982891,5073881,90990,527,9455,9628,173,5060528,5247717,187189,540,9371,9718,347,10043419,10321598,278179,1067,9412.7638238050604,9673.4751640112463,260.71134020618558]
[4074,7,"AGRICULTURAL FOOD SCIENCE ACAD",3739410,3808990,69580,465,8042,8191,149,3519739,3652436,132697,425,8282,8594,312,7259149,7461426,202277,890,8156.3471910112357,8383.6247191011244,227.27752808988765]
[4075,7,"AVALON SCHOOL",1651876,1681944,30068,200,8259,8410,151,1470297,1524293,53996,173,8499,8811,312,3122173,3206237,84064,373,8370.4369973190351,8595.8096514745303,225.37265415549598]
[4077,7,"TWIN CITIES INTERNATIONAL ELEM",6057667,6168705,111038,581,10426,10617,191,6008451,6231501,223050,571,10523,10913,390,12066118,12400206,334088,1152,10474.060763888889,10764.067708333334,290.00694444444446]
[4078,7,"MN INTERNATIONAL MIDDLE CHARTE",5053417,5145392,91975,458,11034,11234,200,5201431,5392930,191499,476,10927,11330,403,10254848,10538322,283474,934,10979.494646680942,11283,303.5053533190578]
[4079,7,"FRIENDSHIP ACDMY OF FINE ARTS",1340104,1366889,26785,145,9242,9427,185,1352472,1407176,54704,147,9200,9573,373,2692576,2774065,81489,292,9221.1506849315065,9500.2226027397264,279.07191780821915]
[4080,7,"PILLAGER AREA CHARTER SCHOOL",446263,454770,8507,43,10378,10576,198,450280,467639,17359,44,10234,10628,394,896543,922409,25866,87,10305.091954022988,10602.402298850575,297.31034482758622]
[4081,7,"COVENANT ACADEMY OF MN. CHTR.",514427,523641,9214,55,9353,9521,168,529277,548498,19221,57,9286,9623,337,1043704,1072139,28435,{"$f":"G394+N394","v":112},9318.7857142857138,9572.6696428571431,253.88392857142858]
[4082,7,"BLUESKY CHARTER SCHOOL",4102656,4178357,75701,490,8373,8527,154,3930782,4077651,146869,460,8545,8864,319,{"$f":"D395+K395","v":8033438},8256008,222570,950,{"$f":"R395/U395","v":8456.2505263157891},{"$f":"S395/U395","v":8690.5347368421044},{"$f":"T395/U395","v":234.2842105263158}]
[4083,7,"RIDGEWAY COMMUNITY SCHOOL",628324,639936,11612,97,6478,6597,119,613081,636024,22943,94,6522,6766,244,1241405,1275960,34555,191,6499.5026178010476,6680.4188481675392,180.91623036649216]
[4084,7,"NORTH SHORE COMMUNITY SCHOOL",2468749,2514923,46174,340,7261,7397,136,2538028,2634158,96130,350,7252,7526,274,5006777,5149081,142304,690,7256.1985507246372,7462.4362318840576,206.23768115942028]
[4085,7,"HARBOR CITY INTERNATIONAL CHAR",1678020,1709568,31548,200,8390,8548,158,1677961,1741840,63879,200,8390,8709,319,3355981,3451408,95427,400,8389.9524999999994,8628.52,238.5675]
[4086,7,"WOODSON INSTITUTE FOR EXCELLEN",0,0,0,0,0,0,0,0,0,0,0,0,0,0,0,0,0,0,{"$error":"#DIV/0!"},{"$error":"#DIV/0!"},{"$error":"#DIV/0!"}]
[4087,7,"SAGE ACADEMY CHARTER SCHOOL",777720,792196,14476,80,9722,9902,180,777710,807019,29309,80,9721,10088,367,1555430,1599215,43785,160,9721.4375,9995.09375,273.65625]
[4088,7,"URBAN ACADEMY CHARTER SCHOOL",3020451,3079178,58727,316,9558,9744,186,3020416,3139326,118910,316,9558,9935,377,6040867,6218504,177637,632,9558.3338607594942,9839.4050632911385,281.07120253164555]
[4089,7,"NEW CITY SCHOOL",1968885,2005506,36621,288,6836,6964,128,2399129,2489607,90478,356,6739,6993,254,4368014,4495113,127099,644,6782.630434782609,6979.989130434783,197.35869565217391]
[4090,7,"PRAIRIE CREEK COMMUNITY SCHOOL",1160080,1181182,21102,180,6445,6562,117,1160060,1202787,42727,180,6445,6682,237,2320140,2383969,63829,360,6444.833333333333,6622.1361111111109,177.30277777777778]
[4091,7,"ARTECH",936052,953136,17084,123,7610,7749,139,943465,978338,34873,124,7609,7890,281,1879517,1931474,51957,247,7609.3805668016194,7819.7327935222675,210.35222672064776]
[4092,7,"WATERSHED HIGH SCHOOL",548737,559157,10420,64,8574,8737,163,548727,569829,21102,64,8574,8904,330,1097464,1128986,31522,128,8573.9375,8820.203125,246.265625]
[4093,7,"NEW CENTURY CHARTER SCHOOL",1165610,1187304,21694,130,8966,9133,167,1106998,1148737,41739,120,9225,9573,348,2272608,2336041,63433,250,9090.4320000000007,9344.1640000000007,253.732]
[4095,7,"TRIO WOLF CREEK DISTANCE LEARN",1546076,1574408,28332,200,7730,7872,142,1546050,1603418,57368,200,7730,8017,287,3092126,3177826,85700,400,7730.3149999999996,7944.5649999999996,214.25]
[4097,7,"PARTNERSHIP ACADEMY, INC.",2966890,3020284,53394,291,10195,10379,184,2992644,3101696,109052,295,10145,10514,369,5959534,6121980,162446,586,10169.85324232082,10447.064846416382,277.21160409556313]
[4098,7,"NOVA CLASSICAL ACADEMY",6725741,6848448,122707,958,7021,7149,128,6979342,7237448,258106,991,7043,7303,260,13705083,14085896,380813,1949,7031.8537711646995,7227.2426885582354,195.38891739353514]
[4100,7,"GREAT EXPECTATIONS",691541,704634,13093,102,6780,6908,128,716296,743745,27449,106,6758,7016,258,1407837,1448379,40542,208,6768.4471153846152,6963.3605769230771,194.91346153846155]
[4102,7,"MINNESOTA INTERNSHIP CENTER",5365752,5469437,103685,550,9756,9944,188,5365680,5575623,209943,550,9756,10137,381,10731432,11045060,313628,1100,9755.8472727272729,10040.963636363636,285.11636363636364]
[4103,7,"HMONG ACADEMY",15663544,15956835,293291,1625,9639,9820,181,16341229,16959691,618462,1725,9473,9832,359,32004773,32916526,911753,3350,9553.6635820895517,9825.8286567164178,272.16507462686565]
[4104,7,"LIBERTY HIGH SCHOOL",2761915,2814746,52831,280,9864,10053,189,1789850,1860501,70651,110,16271,16914,643,4551765,4675247,123482,390,11671.192307692309,11987.812820512821,316.62051282051283]
[4105,7,"GREAT RIVER SCHOOL",3246547,3305779,59232,425,7639,7778,139,3137644,3253520,115876,406,7728,8014,286,6384191,6559299,175108,831,7682.5403128760527,7893.2599277978343,210.71961492178099]
[4106,7,"TREKNORTH HIGH SCHOOL",2055068,2093158,38090,235,8745,8907,162,2028089,2104215,76126,230,8818,9149,331,4083157,4197373,114216,465,8780.9827956989247,9026.608602150538,245.6258064516129]
[4107,7,"VOYAGEURS EXPEDITIONARY",1132195,1153416,21221,112,10109,10298,189,1132181,1175150,42969,112,10109,10492,383,2264376,2328566,64190,224,10108.821428571429,10395.383928571429,286.5625]
[4109,7,"SOBRIETY HIGH",0,0,0,0,0,0,0,0,0,0,0,0,0,0,0,0,0,0,{"$error":"#DIV/0!"},{"$error":"#DIV/0!"},{"$error":"#DIV/0!"}]
[4110,7,"MAIN STREET SCHOOL PERFORMING",2933580,2988102,54522,365,8037,8187,150,3011146,3124496,113350,375,8030,8332,302,5944726,6112598,167872,740,8033.4135135135139,8260.2675675675673,226.85405405405405]
[4111,7,"AUGSBURG ACADEMY FOR HEALTH CA",1279867,1305129,25262,120,10666,10876,210,1279853,1331004,51151,120,10665,11092,427,2559720,2636133,76413,240,10665.5,10983.887500000001,318.38749999999999]
[4112,7,"ST PAUL CONSERVATORY PERFORMIN",4799712,4887905,88193,595,8067,8215,148,4993827,5179783,185956,620,8055,8354,299,9793539,10067688,274149,1215,8060.5259259259255,8286.1629629629624,225.63703703703703]
[4113,7,"FRASER ACADEMY",781455,795878,14423,105,7442,7580,138,794389,824085,29696,107,7424,7702,278,1575844,1619963,44119,212,7433.2264150943392,7641.3349056603774,208.10849056603774]
[4115,7,"MINNEAPOLIS ACADEMY CHARTER SC",368574,377105,8531,0,0,0,0,368574,385847,17273,0,0,0,0,737148,762952,25804,0,{"$error":"#DIV/0!"},{"$error":"#DIV/0!"},{"$error":"#DIV/0!"}]
[4116,7,"LAKES INTERNATIONAL LANGUAGE A",7608623,7748561,139938,1151,6610,6732,122,9642015,10002413,360398,1433,6729,6980,251,17250638,17750974,500336,2584,6675.9434984520121,6869.5719814241484,193.62848297213623]
[4118,7,"KALEIDOSCOPE CHARTER SCHOOL",4565880,4648302,82422,663,6887,7011,124,4786175,4961417,175242,691,6926,7180,254,9352055,9609719,257664,1354,6906.9830132939442,7097.2813884785819,190.2983751846381]
[4119,7,"RIVER HEIGHTS CHARTER SCHOOL",937044,954806,17762,93,10076,10267,191,609237,632624,23387,55,11077,11502,425,1546281,1587430,41149,148,10447.844594594595,10725.878378378378,278.0337837837838]
[4120,7,"ST. CROIX PREPARATORY ACADEMY",7870284,8016107,145823,1150,6844,6971,127,7938236,8236077,297841,1159,6849,7106,257,15808520,16252184,443664,2309,6846.4789952360325,7038.624512776094,192.14551754006064]
[4121,7,"UBAH MEDICAL ACADEMY CHARTER S",4286568,4370668,84100,400,10716,10927,211,4286516,4456802,170286,400,10716,11142,426,8573084,8827470,254386,800,10716.355,11034.3375,317.98250000000002]
[4122,7,"EAGLE RIDGE ACADEMY CHARTER SC",9760740,9941985,181245,1386,7042,7173,131,10437261,10829980,392719,1477,7067,7332,265,20198001,20771965,573964,2863,7054.8379322389101,7255.3143555710794,200.47642333216905]
[4123,7,"DAKOTA AREA COMMUNITY CHARTER",0,0,0,0,0,0,0,0,0,0,0,0,0,0,0,0,0,0,{"$error":"#DIV/0!"},{"$error":"#DIV/0!"},{"$error":"#DIV/0!"}]
[4124,7,"BEACON ACADEMY",2906917,2960128,53211,412,7056,7185,129,2891610,2998784,107174,408,7087,7350,263,5798527,5958912,160385,820,7071.3743902439028,7266.9658536585366,195.59146341463415]
[4126,7,"PRAIRIE SEEDS ACADEMY",7254906,7395314,140408,766,9471,9654,183,7333384,7620632,287248,778,9426,9795,369,14588290,15015946,427656,1544,9448.3743523316061,9725.353626943006,276.97927461139898]
[4127,7,"TEAM ACADEMY",984382,1002956,18574,118,8342,8500,158,996750,1034828,38078,120,8306,8624,318,1981132,2037784,56652,238,8324.0840336134461,8562.1176470588234,238.03361344537817]
[4131,7,"LIGHTHOUSE ACADEMY OF NATIONS",3196868,3258517,61649,300,10656,10862,206,3196829,3321656,124827,300,10656,11072,416,6393697,6580173,186476,600,10656.161666666667,10966.955,310.79333333333335]
[4132,7,"TWIN CITIES ACADEMY HIGH SCHOOL",5188454,5283766,95312,620,8368,8522,154,5247341,5442525,195184,630,8329,8639,310,10435795,10726291,290496,1250,8348.6360000000004,8581.0328000000009,232.39680000000001]
[4133,7,"BEACON PREPARATORY SCHOOL",0,0,0,0,0,0,0,0,0,0,0,0,0,0,0,0,0,0,{"$error":"#DIV/0!"},{"$error":"#DIV/0!"},{"$error":"#DIV/0!"}]
[4135,7,"ADAM ABDULLE ACADEMY",3500666,3567649,66983,350,10002,10193,191,3500609,3636235,135626,350,10002,10389,387,7001275,7203884,202609,700,10001.821428571429,10291.262857142858,289.44142857142856]
[4137,7,"SWAN RIVER MONTESSORI CHARTER",977023,994750,17727,150,6513,6632,119,961716,996987,35271,150,6411,6647,236,1938739,1991737,52998,300,6462.4633333333331,6639.123333333333,176.66]
[4138,7,"MILROY AREA CHARTER SCHOOL",317451,323452,6001,49,6479,6601,122,312953,324940,11987,48,6520,6770,250,630404,648392,17988,97,6499.0103092783502,6684.4536082474224,185.44329896907217]
[4139,7,"LOVEWORKS ACADEMY FOR ARTS",2639318,2690800,51482,306,8625,8793,168,2627821,2731634,103813,302,8701,9045,344,5267139,5422434,155295,608,8663.0575657894733,8918.47697368421,255.41940789473685]
[4140,7,"YINGHUA ACADEMY",5068262,5161644,93382,748,6776,6901,125,5623646,5833840,210194,829,6784,7037,253,10691908,10995484,303576,1577,6779.9036144578313,6972.4058338617624,192.50221940393152]
[4141,7,"PAIDEIA ACADEMY CHARTER SCHOOL",49996,50828,832,0,0,0,0,49996,51680,1684,0,0,0,0,99992,102508,2516,0,{"$error":"#DIV/0!"},{"$error":"#DIV/0!"},{"$error":"#DIV/0!"}]
[4142,7,"STRIDE ACADEMY CHARTER SCHOOL",5312199,5410042,97843,722,7358,7493,135,5381468,5582208,200740,732,7352,7626,274,10693667,10992250,298583,1454,7354.6540577716642,7560.0068775790924,205.35281980742778]
[4143,7,"NEW MILLENNIUM ACADEMY CHARTER",6028471,6140537,112066,660,9134,9304,170,6267941,6503958,236017,695,9019,9358,339,12296412,12644495,348083,1355,9074.8428044280445,9331.7306273062732,256.8878228782288]
[4144,7,"GREEN ISLE COMMUNITY SCHOOL",408747,416262,7515,60,6812,6938,126,431197,447244,16047,65,6634,6881,247,839944,863506,23562,125,6719.5519999999997,6908.0479999999998,188.49600000000001]
[4145,7,"BIRCH GROVE COMMUNITY SCHOOL",236018,240537,4519,30,7867,8018,151,264229,274457,10228,34,7771,8072,301,500247,514994,14747,64,7816.359375,8046.78125,230.421875]
[4146,7,"NORTHERN LIGHTS COMMUNITY SCHO",955247,973788,18541,90,10614,10820,206,874103,908546,34443,80,10926,11357,431,1829350,1882334,52984,170,10760.882352941177,11072.552941176471,311.67058823529413]
[4150,7,"MINNESOTA ONLINE HIGH SCHOOL",1267478,1290809,23331,158,8022,8170,148,1267456,1314694,47238,158,8022,8321,299,2534934,2605503,70569,316,8021.9430379746836,8245.2626582278481,223.31962025316454]
[4151,7,"EDVISIONS OFF CAMPUS SCHOOL",946492,964042,17550,115,8230,8383,153,928714,963587,34873,112,8292,8603,311,1875206,1927629,52423,227,8260.8193832599118,8491.7577092511019,230.93832599118943]
[4152,7,"TWIN CITIES GERMAN IMMERSION C",3779499,3848708,69209,554,6822,6947,125,4061560,4212423,150863,594,6838,7092,254,7841059,8061131,220072,1148,6830.1907665505223,7021.8911149825781,191.70034843205576]
[4153,7,"DUGSI ACADEMY",3721251,3791044,69793,387,9616,9796,180,3801486,3945855,144369,398,9551,9914,363,7522737,7736899,214162,785,9583.1044585987256,9855.9222929936313,272.81783439490448]
[4155,7,"NAYTAUWAUSH COMMUNITY SCHOOL",967040,985943,18903,108,8954,9129,175,967028,1005304,38276,108,8954,9308,354,1934068,1991247,57179,216,8954.0185185185182,9218.7361111111113,264.71759259259261]
[4159,7,"SEVEN HILLS CLASSICAL ACADEMY",6257905,6374460,116555,916,6832,6959,127,6741049,6995257,254208,989,6816,7073,257,12998954,13369717,370763,1905,6823.5979002624672,7018.2241469816272,194.62624671916009]
[4160,7,"SPECTRUM HIGH SCHOOL",5187016,5280836,93820,655,7919,8062,143,5186897,5376862,189965,655,7919,8209,290,10373913,10657698,283785,1310,7919.0175572519083,8135.6473282442748,216.62977099236642]
[4161,7,"NEW DISCOVERIES MONTESSORI ACADEMY",1509621,1538082,28461,191,7896,8044,148,1738422,1804757,66335,220,7895,8196,301,3248043,3342839,94796,411,7902.7810218978102,8133.428223844282,230.64720194647202]
[4162,7,"SOUTHSIDE FAMILY CHARTER SCHOOL",875603,891806,16203,120,7297,7432,135,896641,930247,33606,123,7290,7563,273,1772244,1822053,49809,243,7293.1851851851852,7498.1604938271603,204.97530864197532]
[4163,7,"LEARNING FOR LEADERSHIP CHARTER",2426099,2472518,46419,238,10194,10389,195,2399127,2492051,92924,237,10123,10515,392,4825226,4964569,139343,475,10158.37052631579,10451.724210526316,293.3536842105263]
[4164,7,"LAURA JEFFREY ACADEMY CHARTER",1072127,1092024,19897,130,8247,8400,153,1072112,1112400,40288,130,8247,8557,310,2144239,2204424,60185,260,8247.0730769230777,8478.5538461538454,231.48076923076923]
[4166,7,"EAST RANGE ACADEMY OF TECH &SCIENCE",1317479,1342777,25298,130,10134,10329,195,1228946,1276861,47915,115,10686,11103,417,2546425,2619638,73213,{"$f":"G458+N458","v":245},10393.571428571429,10692.4,298.82857142857142]
[4167,7,"INTERNATIONAL SPANISH LANGUAGE ACAD",2053216,2091531,38315,346,5934,6045,111,2032430,2109137,76707,348,5840,6061,221,{"$f":"D459+K459","v":4085646},4200668,115022,694,{"$f":"R459/U459","v":5887.0979827089341},{"$f":"S459/U459","v":6052.8357348703166},{"$f":"T459/U459","v":165.7377521613833}]
[4168,7,"GLACIAL HILLS ELEMENTARY",867682,883693,16011,116,7480,7618,138,867669,900088,32419,116,7480,7759,279,1735351,1783781,48430,232,7479.9612068965516,7688.7112068965516,208.75]
[4169,7,"ELLIOT PARK COMMUNITY SCHOOL",2830798,2885837,55039,300,9436,9619,183,2830766,2942211,111445,300,9436,9807,371,5661564,5828048,166484,600,9435.94,9713.4133333333339,277.47333333333336]
[4170,7,"HIAWATHA LEADERSHIP ACADEMY",13455008,13704122,249114,1425,9442,9617,175,13829141,14347769,518628,1484,9319,9668,349,27284149,28051891,767742,2909,9379.2193193537296,9643.1388793399801,263.91955998624957]
[4171,7,"NOBLE ACADEMY",7507992,7646320,138328,890,8436,8591,155,7572633,7855179,282546,900,8414,8728,314,15080625,15501499,420874,1790,8424.9301675977658,8660.0553072625698,235.12513966480446]
[4172,7,"CLARKFIELD CHARTER SCHOOL",375927,382816,6889,51,7371,7506,135,344479,357259,12780,44,7829,8120,291,720406,740075,19669,95,7583.2210526315794,7790.2631578947367,207.04210526315791]
[4173,7,"DUNWOODY ACADEMY",0,0,0,0,0,0,0,0,0,0,0,0,0,0,0,0,0,0,{"$error":"#DIV/0!"},{"$error":"#DIV/0!"},{"$error":"#DIV/0!"}]
[4177,7,"MINISINAAKWAANG LEADERSHIP ACADEMY",239979,244453,4474,31,7741,7886,145,241345,250455,9110,31,7785,8079,294,481324,494908,13584,62,7763.2903225806449,7982.3870967741932,219.09677419354838]
[4178,7,"LINCOLN INTERNATIONAL SCHOOL",1827473,1861259,33786,160,11422,11633,211,1827451,1895859,68408,160,11422,11849,427,3654924,3757118,102194,320,11421.637500000001,11740.99375,319.35624999999999]
[4180,7,"EMILY O. GOODRIDGE-GREY ACCELERATED",0,0,0,0,0,0,0,0,0,0,0,0,0,0,0,0,0,0,{"$error":"#DIV/0!"},{"$error":"#DIV/0!"},{"$error":"#DIV/0!"}]
[4181,7,"COMMUNITY SCHOOL OF EXCELLENCE",10669455,10864703,195248,1070,9971,10154,183,11055962,11464834,408872,1120,9871,10236,365,21725417,22329537,604120,2190,9920.2817351598169,10196.135616438356,275.85388127853884]
[4182,7,"QUEST ACADEMY",0,0,0,0,0,0,0,0,0,0,0,0,0,0,0,0,0,0,{"$error":"#DIV/0!"},{"$error":"#DIV/0!"},{"$error":"#DIV/0!"}]
[4183,7,"LIONSGATE ACADEMY",1576639,1605790,29151,197,8003,8151,148,1615451,1675954,60503,202,7997,8297,300,3192090,3281744,89654,399,8000.2255639097748,8224.9223057644103,224.6967418546366]
[4184,7,"ASPEN ACADEMY",3772293,3841195,68902,550,6859,6984,125,4366932,4529096,162164,634,6888,7144,256,8139225,8370291,231066,1184,6874.3454391891892,7069.5025337837842,195.15709459459458]
[4185,7,"DAVINCI ACADEMY",2852063,2903767,51704,405,7042,7170,128,2919302,3026552,107250,412,7086,7346,260,5771365,5930319,158954,817,7064.094247246022,7258.6523867809055,194.55813953488371]
[4186,7,"GLOBAL ACADEMY",4366260,4447733,81473,432,10107,10296,189,4366211,4531175,164964,432,10107,10489,382,8732471,8978908,246437,864,10107.02662037037,10392.25462962963,285.22800925925924]
[4187,7,"MICHAEL FROME ACADEMY",596487,607049,10562,91,6555,6671,116,664571,688538,23967,102,6515,6750,235,1261058,1295587,34529,193,6533.979274611399,6712.8860103626939,178.90673575129534]
[4188,7,"COLOGNE ACADEMY",4491423,4574119,82696,641,7007,7136,129,4748698,4925938,177240,677,7014,7276,262,9240121,9500057,259936,1318,7010.7139605462826,7207.9339908952961,197.22003034901365]
[4189,7,"BRIGHT WATER ELEMENTARY",1411822,1438238,26416,193,7315,7452,137,1566705,1626097,59392,217,7220,7494,274,2978527,3064335,85808,410,7264.7,7473.9878048780483,209.28780487804877]
[4190,7,"RIVERS EDGE ACADEMY",713713,726737,13024,74,9645,9821,176,705936,732010,26074,73,9670,10028,358,1419649,1458747,39098,147,9657.4761904761908,9923.4489795918362,265.97278911564626]
[4191,7,"KIPP MINNESOTA CHARTER SCHOOL",4165160,4245507,80347,515,8088,8244,156,4203938,4368102,164164,520,8084,8400,316,8369098,8613609,244511,1035,8086.0850241545895,8322.3275362318836,236.24251207729469]
[4192,7,"BEST ACADEMY",8278703,8435795,157092,880,9408,9586,178,8221311,8537255,315944,870,9450,9813,363,16500014,16973050,473036,1750,9428.5794285714292,9698.8857142857141,270.30628571428571]
[4193,7,"COLLEGE PREP ELEMENTARY",3929075,4000651,71576,408,9630,9806,176,3980825,4127720,146895,416,9569,9922,353,7909900,8128371,218471,824,9599.3932038834955,9864.5279126213591,265.13470873786406]
[4194,7,"CANNON RIVER STEM SCHOOL",2456753,2500824,44071,350,7019,7145,126,2610132,2705185,95053,370,7054,7311,257,5066885,5206009,139124,720,7037.3402777777774,7230.5680555555555,193.22777777777779]
[4195,7,"OSHKI OGIMAAG",277554,282994,5440,32,8674,8844,170,256335,266536,10201,29,8839,9191,352,533889,549530,15641,61,8752.2786885245896,9008.6885245901631,256.40983606557376]
[4198,7,"DISCOVERY WOODS MONTESSORI SCHOOL",803726,819118,15392,101,7958,8110,152,843239,875908,32669,107,7881,8186,305,1646965,1695026,48061,208,7918.1009615384619,8149.1634615384619,231.0625]
[4199,7,"PARNASSUS",7112678,7242882,130204,1046,6800,6924,124,7536194,7815874,279680,1104,6826,7080,254,14648872,15058756,409884,2150,6813.4288372093024,7004.0725581395345,190.64372093023255]
[4200,7,"STEP ACADEMY",2427217,2473986,46769,225,10788,10995,207,2504866,2602515,97649,235,10659,11075,416,4932083,5076501,144418,460,10721.919565217391,11035.871739130434,313.95217391304345]
[4201,7,"CORNERSTONE MONTESSORI ELEMENTARY",1041284,1060338,19054,140,7438,7574,136,1046992,1085573,38581,140,7479,7754,275,2088276,2145911,57635,280,7458.1285714285714,7663.9678571428567,205.83928571428572]
[4202,7,"MINNESOTA SCHOOL OF SCIENCE",0,0,0,0,0,0,0,0,0,0,0,0,0,0,0,0,0,0,{"$error":"#DIV/0!"},{"$error":"#DIV/0!"},{"$error":"#DIV/0!"}]
[4203,7,"MINNEAPOLIS COLLEGE PREPARATORY",297996,304893,6897,0,0,0,0,297996,311961,13965,0,0,0,0,595992,616854,20862,0,{"$error":"#DIV/0!"},{"$error":"#DIV/0!"},{"$error":"#DIV/0!"}]
[4204,7,"ROCHESTER STEM ACADEMY",1057900,1078211,20311,97,10906,11116,210,1057883,1099009,41126,97,10906,11330,424,2115783,2177220,61437,194,10906.09793814433,11222.783505154639,316.68556701030928]
[4205,7,"HENNEPIN ELEMENTARY SCHOOL",3629478,3696953,67475,365,9944,10129,185,3629436,3766061,136625,365,9944,10318,374,7258914,7463014,204100,730,9943.7178082191786,10223.306849315068,279.58904109589042]
[4207,7,"VERMILION COUNTRY SCHOOL",592581,603938,11357,61,9714,9901,187,600896,624209,23313,62,9692,10068,376,1193477,1228147,34670,123,9703.0650406504064,9984.9349593495936,281.869918699187]
[4208,7,"NASHA SHKOLA CHARTER SCHOOL",1166690,1187589,20899,136,8579,8732,153,1235320,1280243,44923,145,8519,8829,310,2402010,2467832,65822,281,8548.0782918149471,8782.3202846975091,234.24199288256227]
[4209,7,"THE MASTERY SCHOOL",2225876,2269533,43657,250,8904,9078,174,2225848,2314243,88395,250,8903,9257,354,4451724,4583776,132052,500,8903.4480000000003,9167.5519999999997,264.10399999999998]
[4210,7,"UPPER MISSISSIPPI ACADEMY",2129781,2169187,39406,280,7606,7747,141,2401621,2491746,90125,315,7624,7910,286,4531402,4660933,129531,595,7615.801680672269,7833.5008403361344,217.69915966386554]
[4211,7,"ARCH ACADEMY",0,0,0,0,0,0,0,0,0,0,0,0,0,0,0,0,0,0,{"$error":"#DIV/0!"},{"$error":"#DIV/0!"},{"$error":"#DIV/0!"}]
[4212,7,"WEST SIDE SUMMIT",1909171,1945102,35931,221,8639,8801,162,2183844,2267030,83186,260,8399,8719,320,4093015,4212132,119117,481,8509.3866943866942,8757.0311850311846,247.64449064449065]
[4213,7,"PRODEO ACADEMY",2287368,2332304,44936,246,9313,9496,183,2253363,2342970,89607,246,9175,9540,365,4540731,4675274,134543,492,9229.128048780487,9502.5894308943098,273.46138211382112]
[4214,7,"WEST CONCORD PUBLIC CHARTER SCHOOL",14900,15245,345,0,0,0,0,14900,15598,698,0,0,0,0,29800,30843,1043,0,{"$error":"#DIV/0!"},{"$error":"#DIV/0!"},{"$error":"#DIV/0!"}]
[4215,7,"SEJONG ACADEMY OF MINNESOTA",858656,874566,15910,82,10471,10665,194,821417,852042,30625,86,9551,9907,356,1680073,1726608,46535,168,10000.434523809523,10277.428571428571,276.99404761904759]
[4216,7,"FREEDOM ACADEMY CHARTER",262265,267892,5627,0,0,0,0,155228,162284,7056,0,0,0,0,417493,430176,12683,0,{"$error":"#DIV/0!"},{"$error":"#DIV/0!"},{"$error":"#DIV/0!"}]
[4217,7,"TECHNICAL ACADEMIES OF MINNESOTA",1300186,1324230,24044,150,8668,8828,160,1300166,1348850,48684,150,8668,8992,324,2600352,2673080,72728,300,8667.84,8910.2666666666664,242.42666666666668]
[4218,7,"VENTURE ACADEMY",2812978,2867061,54083,300,9377,9557,180,2877900,2989968,112068,306,9405,9771,366,5690878,5857029,166151,606,9390.8877887788785,9665.0643564356433,274.17656765676566]
[4219,7,"NORTHEAST COLLEGE PREP",2474860,2521517,46657,280,8839,9005,166,2604292,2703683,99391,300,8681,9012,331,5079152,5225200,146048,580,8757.1586206896554,9008.9655172413786,251.80689655172415]
[4220,7,"AGAMIN HEBREW LANGUAGE SCHOOL",1010648,1029441,18793,154,6563,6685,122,1010629,1048682,38053,154,6563,6810,247,2021277,2078123,56846,308,6562.5876623376626,6747.1525974025972,184.56493506493507]
[4221,7,"DISCOVERY CHARTER SCHOOL",1108033,1128906,20873,153,7242,7378,136,1108016,1150278,42262,153,7242,7518,276,2216049,2279184,63135,306,7241.9901960784309,7448.3137254901958,206.3235294117647]
[4223,7,"SAINT CLOUD MATH AND SCIENCE ACADEM",1915242,1951047,35805,210,9120,9291,171,1915218,1987716,72498,210,9120,9465,345,3830460,3938763,108303,420,9120.1428571428569,9378.0071428571428,257.8642857142857]
[4224,7,"STAR OF THE NORTH ACADEMY CHARTER S",1373944,1399210,25266,155,8864,9027,163,1393043,1444895,51852,160,8707,9031,324,2766987,2844105,77118,315,8784.0857142857149,9028.9047619047615,244.81904761904761]
[4225,7,"UNIVERSAL ACADEMY CHARTER SCHOOL",2995537,3052897,57360,315,9510,9692,182,3157331,3279627,122296,340,9286,9646,360,6152868,6332524,179656,655,9393.6916030534358,9667.9755725190844,274.28396946564885]
[4226,7,"BDOTE LEARNING CENTER",1008110,1027609,19499,130,7755,7905,150,1072826,1114769,41943,140,7663,7963,300,2080936,2142378,61442,270,7707.1703703703706,7934.7333333333336,227.56296296296296]
[4227,7,"ART AND SCIENCE ACADEMY",1753874,1786033,32159,255,6878,7004,126,1782756,1848964,66208,260,6857,7111,254,3536630,3634997,98367,515,6867.2427184466023,7058.2466019417479,191.00388349514563]
[4228,7,"WOODBURY LEADERSHIP ACADEMY",1893847,1928490,34643,275,6887,7013,126,1856882,1925432,68550,280,6632,6877,245,3750729,3853922,103193,555,6758.0702702702702,6944.0036036036036,185.93333333333334]
[4229,7,"JANE GOODALL ENVIRONMENTAL SCIENCES",1219014,1241599,22585,155,7865,8010,145,1298101,1346841,48740,165,7867,8163,296,2517115,2588440,71325,320,7865.984375,8088.875,222.890625]
[4230,7,"MN EARLY LEARNING ACADEMY",2177651,2219644,41993,270,8065,8221,156,2436546,2531415,94869,310,7860,8166,306,4614197,4751059,136862,580,7955.5120689655168,8191.4810344827583,235.96896551724137]
[4231,7,"MINNESOTA MATH AND SCIENCE ACADEMY",4562556,4646569,84013,433,10537,10731,194,4637596,4810559,172963,448,10352,10738,386,9200152,9457128,256976,881,10442.851305334847,10734.538024971624,291.68671963677639]
[4232,7,"SUMMIT CHARTER SCHOOL",1085148,1105643,20495,111,9776,9961,185,1085136,1126632,41496,111,9776,10150,374,2170284,2232275,61991,222,9776.0540540540533,10055.292792792792,279.23873873873873]
[4233,7,"LEVEL UP ACADEMY",940269,957917,17648,140,6716,6842,126,917797,952697,34900,135,6798,7057,259,1858066,1910614,52548,275,6756.6036363636367,6947.687272727273,191.08363636363637]
[4234,7,"MILL CITY SCHOOL",0,0,0,0,0,0,0,0,0,0,0,0,0,0,0,0,0,0,{"$error":"#DIV/0!"},{"$error":"#DIV/0!"},{"$error":"#DIV/0!"}]
[4235,7,"FLEX ACADEMY",1217313,1240452,23139,155,7854,8003,149,1174327,1219575,45248,145,8099,8411,312,2391640,2460027,68387,300,7972.1333333333332,8200.09,227.95666666666668]
[4237,7,"METROPOLITAN ED FOR FUTURE EMPLOYMNT",1446477,1474920,28443,140,10332,10535,203,1440001,1497331,57330,140,10286,10695,409,2886478,2972251,85773,280,10308.85,10615.182142857142,306.33214285714286]
[4238,7,"ROCHESTER BEACON ACADEMY",729366,742842,13476,85,8581,8739,158,679850,705033,25183,90,7554,7834,280,1409216,1447875,38659,175,8052.6628571428573,8273.5714285714294,220.90857142857143]
[4239,7,"TESFA INTERNATIONAL SCHOOL",1724640,1758429,33789,190,9077,9255,178,1789350,1860225,70875,200,8947,9301,354,3513990,3618654,104664,{"$f":"G522+N522","v":390},9010.2307692307695,9278.6,268.3692307692308]
[4240,7,"NEW SUMMIT SCHOOL",1094849,1115340,20491,105,10427,10622,195,1094838,1136329,41491,105,10427,10822,395,{"$f":"D523+K523","v":2189687},2251669,61982,210,{"$f":"R523/U523","v":10427.080952380953},{"$f":"S523/U523","v":10722.233333333334},{"$f":"T523/U523","v":295.15238095238095}]
[4243,7,"North Metro Flex Academy",1146884,1168548,21664,141,8134,8288,154,1146868,1190734,43866,141,8134,8445,311,2293752,2359282,65530,282,8133.8723404255315,8366.2482269503544,232.3758865248227]
[4248,7,"T.R.U.T.H. Preparatory Academy Char",1820572,1855914,35342,240,7586,7733,147,1820546,1892108,71562,240,7586,7884,298,3641118,3748022,106904,480,7585.6625000000004,7808.3791666666666,222.71666666666667]
[4249,7,"Sankofa Underground North Academy",535810,546004,10194,78,6869,7000,131,535801,556440,20639,78,6869,7134,265,1071611,1102444,30833,156,6869.3012820512822,7066.9487179487178,197.64743589743588]
[4250,7,"Athlos Academy of Saint Cloud",2897498,2951564,54066,385,7526,7666,140,2897458,3006931,109473,385,7526,7810,284,5794956,5958495,163539,770,7525.9168831168827,7738.3051948051952,212.38831168831169]
[4998,8,"CROSSWINDS",1900298,1934945,34647,226,8408,8562,154,1694567,1756872,62305,197,8602,8918,316,3594865,3691817,96952,423,8498.4988179669035,8727.6997635933803,229.20094562647753]
[4999,7,"MDE CHT EST (FUDGE)",4107921,4161003,53082,-64,0,0,0,23425659,24247282,821623,2616,8955,9269,314,27533580,28408285,874705,2552,10789.020376175549,11131.773119122257,342.75274294670845]
[6000,62,"COOPERATIVE & INTERMED DISTRICTS",5972519,6110751,138232,0,0,0,0,5972519,6252410,279891,0,0,0,0,11945038,12363161,418123,0,{"$error":"#DIV/0!"},{"$error":"#DIV/0!"},{"$error":"#DIV/0!"}]
["End of Worksheet"]

{"sheet":"Specialed ","index":2,"n_rows":531,"n_cols":24,"rows_kept":531,"cut":false,"hidden":false,"merged":[[4,17,4,23],[5,17,6,19],[5,20,7,20],[5,21,6,23],[2,0,2,23],[3,0,3,23],[5,13,7,13],[5,14,6,16],[4,0,6,2],[4,3,4,9],[4,10,4,16],[5,3,6,5],[5,6,7,6],[5,7,6,9],[5,10,6,12]]}
[]
["MDE-School Finance",null,null,null,null,null,null,null,null,null,null,null,null,null,null,null,null,null,null,"2017-02-13"]
["Special Education"]
["Governor's Recommendation"]
["District",null,null,"FY 2018",null,null,null,null,null,null,"FY 2019",null,null,null,null,null,null,"Biennium"]
[null,null,null,"Total Revenue",null,null,"Adjusted ADM","Revenue/Adjusted ADM",null,null,"Total Revenue",null,null,"Adjusted ADM","Revenue/Adjusted ADM",null,null,"Total Revenue",null,null,"Adjusted ADM","Revenue/Adjusted ADM"]
[]
["DIST","TYPE","NAME","Current","Governor","Change",null,"Current ","Governor","Change","Current","Governor","Change",null,"Current ","Governor","Change","Current","Governor","Change",null,"Current ","Governor","Change"]
[null,null,"TOTAL",1219032138,1240274913,21242775,858281,1420,1445,25,1292366650,1313960046,21593396,863356,1497,1522,25,{"$f":"SUM(R10:R530)","v":2511398808},{"$f":"SUM(S10:S530)","v":2554234977},42836173,1721641,{"$f":"R9/U9","v":1458.7238617110072},{"$f":"S9/U9","v":1483.6048729090444},{"$f":"T9/U9","v":24.881013521401965}]
[1,1,"AITKIN",1126845,1150719,23874,1147,982,1003,21,1163965,1187063,23099,1143,1018,1039,21,{"$f":"D10+K10","v":2290810},{"$f":"E10+L10","v":2337782},{"$f":"F10+M10","v":46973},2290,{"$f":"R10/U10","v":1000.353711790393},{"$f":"S10/U10","v":1020.8655021834061},{"$f":"T10/U10","v":20.512227074235806}]
[1.2,3,"MINNEAPOLIS",69739483,70845272,1105789,35791,1949,1979,30,75915732,77157503,1241771,36561,2076,2110,34,{"$f":"D11+K11","v":145655215},148002775,2347560,72352,{"$f":"R11/U11","v":2013.1470450022114},{"$f":"S11/U11","v":2045.593418288368},{"$f":"T11/U11","v":32.446373286156565}]
[2,1,"HILL CITY",451568,451469,-99,257,1757,1757,0,458668,457629,-1039,249,1842,1838,-4,910236,909098,-1138,506,1798.8853754940712,1796.6363636363637,-2.2490118577075098]
[4,1,"MCGREGOR",388678,402701,14023,457,850,881,31,421005,436359,15354,455,925,959,34,809683,839060,29377,912,887.81030701754389,920.02192982456143,32.211622807017541]
[6,3,"SOUTH ST. PAUL",4466803,4577086,110284,3641,1227,1257,30,4816585,4938171,121585,3650,1320,1353,33,9283388,9515257,231869,7291,1273.2667672472912,1305.0688520093265,31.802084762035385]
[11,1,"ANOKA-HENNEPIN",55315768,56410656,1094889,37429,1478,1507,29,58787961,59742831,954870,37497,1568,1593,25,114103729,116153487,2049759,74926,1522.8856338253743,1550.2427328297254,27.357112350852841]
[12,1,"CENTENNIAL",13110540,13308131,197591,6341,2068,2099,31,13959115,14176319,217204,6340,2202,2236,34,27069655,27484450,414795,12681,2134.6624871855533,2167.3724469679046,32.709959782351547]
[13,1,"COLUMBIA HEIGHTS",3900750,3997434,96685,3350,1164,1193,29,4270342,4378549,108207,3409,1253,1284,31,8171092,8375983,204892,6759,1208.9202544755142,1239.2340582926468,30.31395176801302]
[14,1,"FRIDLEY",5866368,5960133,93765,3068,1912,1943,31,6283835,6387434,103599,3080,2040,2074,34,12150203,12347567,197364,6148,1976.2854586857516,2008.3876057254392,32.102147039687701]
[15,1,"ST. FRANCIS",8312540,8434291,121752,4344,1914,1942,28,8564675,8682176,117501,4278,2002,2029,27,16877215,17116467,239253,8622,1957.4594061702621,1985.2084203201114,27.749130132219904]
[16,1,"SPRING LAKE PARK",5008048,5183175,175127,5745,872,902,30,5508593,5703519,194926,5815,947,981,34,10516641,10886694,370053,11560,909.7440311418685,941.75553633217999,32.011505190311418]
[22,1,"DETROIT LAKES",4584951,4630455,45504,3024,1516,1531,15,4873520,4912428,38909,3044,1601,1614,13,9458471,9542883,84413,6068,1558.7460448253132,1572.6570533948582,13.911173368490442]
[23,1,"FRAZEE",1131419,1144008,12588,885,1278,1293,15,1188787,1201002,12215,865,1374,1388,14,2320206,2345010,24803,1750,1325.8320000000001,1340.0057142857142,14.173142857142857]
[25,1,"PINE POINT",111114,114689,3574,69,1610,1662,52,122587,125605,3018,70,1751,1794,43,233701,240294,6592,139,1681.3021582733813,1728.7338129496402,47.424460431654673]
[31,1,"BEMIDJI",8929107,9090426,161319,5180,1724,1755,31,9567247,9745159,177912,5196,1841,1876,35,18496354,18835585,339231,10376,1782.6092906707788,1815.3031033153432,32.693812644564382]
[32,1,"BLACKDUCK",1216469,1229446,12977,636,1913,1934,21,1276858,1297367,20510,606,2108,2142,34,2493327,2526813,33487,1242,2007.5096618357488,2034.4710144927535,26.962157809983896]
[36,1,"KELLIHER",386307,393109,6802,285,1355,1379,24,426488,433170,6682,290,1471,1494,23,812795,826279,13484,575,1413.5565217391304,1437.0069565217391,23.450434782608696]
[38,1,"RED LAKE",2392280,2440463,48183,1611,1485,1515,30,2646538,2701288,54750,1664,1590,1623,33,5038818,5141751,102933,3275,1538.5703816793894,1570.0003053435114,31.429923664122139]
[47,1,"SAUK RAPIDS",5217448,5281661,64212,4374,1193,1208,15,5535135,5597743,62608,4375,1265,1279,14,10752583,10879404,126820,8749,1229.0070865241742,1243.5025717224826,14.495370899531375]
[51,1,"FOLEY",1982057,2006432,24375,1817,1091,1104,13,2049726,2071756,22029,1781,1151,1163,12,4031783,4078188,46404,3598,1120.5622568093386,1133.4596998332406,12.897165091717621]
[75,1,"ST. CLAIR",633979,636613,2635,670,946,950,4,653621,656986,3365,649,1007,1012,5,1287600,1293599,6000,1319,976.19408642911299,980.74222896133438,4.5489006823351019]
[77,1,"MANKATO",11147622,11221081,73459,8483,1314,1323,9,11978507,12004301,25794,8419,1423,1426,3,23126129,23225382,99253,16902,1368.248077150633,1374.1203407880723,5.8722636374393566]
[81,1,"COMFREY",208499,210472,1974,149,1399,1413,14,211340,213106,1766,149,1418,1430,12,419839,423578,3740,298,1408.8557046979865,1421.4026845637584,12.550335570469798]
[84,1,"SLEEPY EYE",586844,599487,12643,555,1057,1080,23,620339,633200,12861,540,1149,1173,24,1207183,1232687,25504,1095,1102.4502283105023,1125.7415525114154,23.291324200913241]
[85,1,"SPRINGFIELD",455647,463334,7687,545,836,850,14,467953,476826,8873,534,876,893,17,923600,940160,16560,1079,855.97775718257651,871.32530120481931,15.347544022242817]
[88,1,"NEW ULM",2668411,2729787,61376,2057,1297,1327,30,2860678,2928066,67388,2055,1392,1425,33,5529089,5657853,128764,4112,1344.6228112840467,1375.9370136186772,31.314202334630352]
[91,1,"BARNUM",1052322,1061226,8904,753,1398,1409,11,1087107,1094832,7725,749,1451,1462,11,2139429,2156058,16629,1502,1424.3868175765647,1435.4580559254327,11.071238348868176]
[93,1,"CARLTON",422689,431755,9066,460,919,939,20,428471,438584,10114,452,948,970,22,851160,870339,19180,912,933.28947368421052,954.31907894736844,21.030701754385966]
[94,1,"CLOQUET",2909984,2967796,57812,2707,1075,1096,21,3091200,3146996,55795,2760,1120,1140,20,6001184,6114792,113607,5467,1097.7106274007683,1118.491311505396,20.780501188951892]
[95,1,"CROMWELL",292083,296884,4800,310,942,958,16,284611,289091,4480,310,918,933,15,576694,585975,9280,620,930.15161290322578,945.12096774193549,14.96774193548387]
[97,1,"MOOSE LAKE",776980,786029,9048,665,1168,1182,14,815086,823988,8902,671,1215,1228,13,1592066,1610017,17950,1336,1191.6661676646706,1205.1025449101796,13.43562874251497]
[99,1,"ESKO",801532,818940,17408,1212,661,676,15,845562,861392,15830,1212,698,711,13,1647094,1680332,33238,2424,679.49422442244224,693.20627062706274,13.712046204620462]
[100,1,"WRENSHALL",271824,277272,5448,341,797,813,16,287827,293933,6106,346,832,850,18,559651,571205,11554,687,814.63027656477436,831.44832605531292,16.818049490538574]
[108,1,"NORWOOD",526103,557101,30998,948,555,588,33,580254,611005,30751,928,625,658,33,1106357,1168106,61749,1876,589.74253731343288,622.65778251599147,32.915245202558637]
[110,1,"WACONIA",4367036,4477767,110731,4090,1068,1095,27,4707035,4814427,107392,4035,1167,1193,26,9074071,9292194,218123,8125,1116.8087384615385,1143.6546461538462,26.845907692307691]
[111,1,"WATERTOWN-MAYER",2055313,2083861,28547,1676,1226,1243,17,2153877,2185397,31520,1627,1324,1343,19,4209190,4269258,60067,3303,1274.3536179231003,1292.5395095367846,18.185588858613382]
[112,1,"EASTERN CARVER CTY",10533105,10676661,143556,9667,1090,1104,14,11324316,11463192,138876,9836,1151,1165,14,21857421,22139853,282432,19503,1120.7209660052299,1135.2024303953237,14.481464390093832]
[113,1,"WALKER-AKELEY",995904,1006891,10987,716,1391,1406,15,1034219,1044685,10466,702,1473,1488,15,2030123,2051576,21453,1418,1431.6805359661496,1446.8095909732017,15.129055007052186]
[115,1,"CASS LAKE",1645635,1678165,32530,1086,1515,1545,30,1823837,1860882,37045,1125,1621,1654,33,3469472,3539047,69575,2211,1569.1867933061963,1600.6544549977386,31.46766169154229]
[116,1,"PILLAGER",1507688,1527154,19466,1072,1406,1425,19,1646694,1666628,19934,1121,1469,1487,18,3154382,3193782,39400,2193,1438.3866849065207,1456.3529411764705,17.966256269949842]
[118,1,"NORTHLAND",500667,509521,8854,326,1536,1563,27,537462,546300,8838,328,1639,1666,27,1038129,1055821,17692,654,1587.3532110091744,1614.4051987767584,27.051987767584098]
[129,1,"MONTEVIDEO",1890797,1930970,40174,1454,1300,1328,28,1999422,2032499,33077,1445,1384,1407,23,3890219,3963469,73251,2899,1341.9175577785443,1367.1848913418421,25.267678509830976]
[138,1,"NORTH BRANCH",3891958,3982281,90323,2974,1309,1339,30,4117979,4182318,64339,2982,1381,1403,22,8009937,8164599,154662,5956,1344.8517461383478,1370.8191739422432,25.96742780389523]
[139,1,"RUSH CITY",722764,745920,23156,870,831,857,26,768359,790400,22041,873,880,905,25,1491123,1536320,45197,1743,855.4922547332186,881.42283419391856,25.930579460699942]
[146,1,"BARNESVILLE",641131,655039,13908,902,711,726,15,675948,690651,14703,891,759,775,16,1317079,1345690,28611,1793,734.56720580033459,750.52426101505853,15.957055214723926]
[150,1,"HAWLEY",594804,608596,13792,913,651,667,16,626990,640247,13257,921,681,695,14,1221794,1248843,27049,1834,666.19083969465646,680.9394765539804,14.748636859323883]
[152,1,"MOORHEAD",10982216,11253719,271503,6391,1718,1761,43,11800329,12000034,199704,6469,1824,1855,31,22782545,23253753,471207,12860,1771.582037325039,1808.2234059097977,36.641290824261276]
[160,70,"MINNESOTA STATE ACADEMIES",2492688,2492688,0,0,0,0,0,2554840,2554840,0,0,0,0,0,5047528,5047528,0,0,{"$error":"#DIV/0!"},{"$error":"#DIV/0!"},{"$error":"#DIV/0!"}]
[160,90,"FARIBAULT TRANSFER",2492688,2492688,0,0,0,0,0,2554840,2554840,0,0,0,0,0,5047528,5047528,0,0,{"$error":"#DIV/0!"},{"$error":"#DIV/0!"},{"$error":"#DIV/0!"}]
[162,1,"BAGLEY",1553665,1568500,14835,1004,1548,1563,15,1636642,1649753,13111,1035,1582,1594,12,3190307,3218253,27946,2039,1564.6429622363903,1578.3487003433056,13.705738106915154]
[166,1,"COOK COUNTY",272294,286082,13788,452,602,633,31,286432,300883,14451,431,664,698,34,558726,586965,28239,883,632.75877689694221,664.73952434881085,31.980747451868631]
[173,1,"MOUNTAIN LAKE",496650,504111,7461,478,1039,1055,16,518762,525497,6735,476,1090,1104,14,1015412,1029608,14196,954,1064.3731656184486,1079.2536687631027,14.880503144654089]
[177,1,"WINDOM",1399687,1415332,15645,1068,1311,1325,14,1492262,1506572,14310,1077,1386,1399,13,2891949,2921904,29955,2145,1348.2279720279721,1362.193006993007,13.965034965034965]
[181,1,"BRAINERD",13137066,13338395,201329,6541,2008,2039,31,14062090,14284528,222438,6571,2140,2174,34,27199156,27622923,423767,13112,2074.3712629652227,2106.690283709579,32.319020744356315]
[182,1,"CROSBY",1480911,1511793,30882,1018,1455,1485,30,1554525,1587798,33273,997,1559,1593,34,3035436,3099591,64155,2015,1506.4198511166253,1538.2585607940446,31.838709677419356]
[186,1,"PEQUOT LAKES",1599038,1624050,25012,1660,963,978,15,1632091,1655194,23103,1631,1001,1015,14,3231129,3279244,48115,3291,981.80765724703735,996.42783348526279,14.620176238225463]
[191,1,"BURNSVILLE",13697937,13970427,272490,8940,1532,1563,31,14598397,14896754,298357,8902,1640,1673,33,28296334,28867181,570847,17842,1585.9395807644883,1617.9341441542429,31.994563389754511]
[192,1,"FARMINGTON",6256706,6467671,210964,6761,925,957,32,6760484,6944893,184409,6688,1011,1038,27,13017190,13412564,395373,13449,967.89278013235185,997.29080229013312,29.397947802810616]
[194,1,"LAKEVILLE",13256980,13578484,321504,10515,1261,1291,30,13673350,14012534,339184,10089,1355,1389,34,26930330,27591018,660688,20604,1307.0437779072024,1339.1097845078625,32.066006600660067]
[195,1,"RANDOLPH",383087,390522,7436,676,567,578,11,410485,418552,8067,684,600,612,12,793572,809074,15503,1360,583.50882352941176,594.90735294117644,11.399264705882352]
[196,1,"ROSEMOUNT-APPLE",45454442,46448915,994472,27776,1636,1672,36,48394462,49567207,1172744,27855,1737,1779,42,93848904,96016122,2167216,55631,1686.989340475634,1725.9463608419767,38.956984415164207]
[197,1,"WEST ST. PAUL",7706761,7806033,99272,4893,1575,1595,20,8159587,8247862,88275,4915,1660,1678,18,15866348,16053895,187547,9808,1617.6945350734095,1636.8163743882544,19.121839314845026]
[199,1,"INVER GROVE",4391602,4509131,117529,3869,1135,1165,30,4702300,4818736,116435,3843,1224,1254,30,9093902,9327867,233964,7712,1179.1885373443984,1209.5263226141078,30.337655601659751]
[200,1,"HASTINGS",4877184,5009293,132110,4343,1123,1153,30,5228374,5372822,144447,4319,1211,1244,33,10105558,10382115,276557,8662,1166.6541214500116,1198.5817363195567,31.927614869545138]
[203,1,"HAYFIELD",782158,792928,10769,689,1135,1151,16,818041,828745,10704,689,1187,1203,16,1600199,1621673,21473,1378,1161.2474600870828,1176.8309143686502,15.582728592162555]
[204,1,"KASSON-MANTORVIL",1317361,1346258,28897,2082,633,647,14,1400432,1428745,28312,2092,669,683,14,{"$f":"D75+K75","v":2717793},2775003,57209,4174,{"$f":"R75/U75","v":651.12434115955921},{"$f":"S75/U75","v":664.83061811212269},{"$f":"T75/U75","v":13.706037374221371}]
[206,1,"ALEXANDRIA",6333917,6522550,188634,4128,1534,1580,46,6761471,6917022,155551,4161,1625,1662,37,13095388,13439572,344185,8289,1579.8513692845941,1621.3743515502474,41.523102907467731]
[213,1,"OSAKIS",1032573,1041460,8887,813,1270,1281,11,1078907,1087401,8494,810,1332,1342,10,2111480,2128861,17381,1623,1300.9735058533579,1311.6826863832409,10.709180529882932]
[227,1,"CHATFIELD",659565,683801,24236,899,734,761,27,692900,716727,23827,892,777,804,27,1352465,1400528,48063,1791,755.14517029592412,781.98101619207148,26.835845896147404]
[229,1,"LANESBORO",346329,349827,3498,305,1136,1147,11,341004,344122,3118,295,1156,1167,11,687333,693949,6616,600,1145.5550000000001,1156.5816666666667,11.026666666666667]
[238,1,"MABEL-CANTON",168557,176004,7446,246,685,715,30,183071,191180,8109,244,750,784,34,351628,367184,15555,490,717.60816326530608,749.35510204081629,31.744897959183675]
[239,1,"RUSHFORD-PETERSO",788966,807488,18522,637,1239,1268,29,796890,815090,18200,625,1275,1304,29,1585856,1622578,36722,1262,1256.621236133122,1285.7194928684628,29.09825673534073]
[241,1,"ALBERT LEA",7238453,7343832,105379,3427,2112,2143,31,7732306,7848586,116281,3437,2250,2284,34,14970759,15192418,221660,6864,2181.054632867133,2213.3476107226106,32.293123543123542]
[242,1,"ALDEN",568866,580571,11705,492,1156,1180,24,601438,613672,12234,492,1222,1247,25,1170304,1194243,23939,984,1189.3333333333333,1213.6615853658536,24.328252032520325]
[252,1,"CANNON FALLS",886837,906998,20161,1129,786,803,17,935557,958083,22525,1112,841,862,21,1822394,1865081,42686,2241,813.20571173583221,832.25390450691657,19.047746541722447]
[253,1,"GOODHUE",248981,259819,10839,636,391,409,18,265175,276811,11636,635,418,436,18,514156,536630,22475,1271,404.52871754523994,422.21085759244687,17.682926829268293]
[255,1,"PINE ISLAND",873954,891888,17933,1280,683,697,14,929784,947521,17737,1288,722,736,14,1803738,1839409,35670,2568,702.39018691588785,716.28076323987534,13.890186915887851]
[256,1,"RED WING",3836015,3914111,78096,2660,1442,1471,29,4052500,4137223,84723,2623,1545,1577,32,7888515,8051334,162819,5283,1493.1885292447473,1524.007950028393,30.819420783645654]
[261,1,"ASHBY",200991,203865,2875,274,734,744,10,218471,221256,2785,283,772,782,10,419462,425121,5660,557,753.07360861759423,763.23339317773787,10.161579892280072]
[264,1,"HERMAN-NORCROSS",67605,69550,1945,118,573,589,16,71329,73330,2002,116,615,632,17,138934,142880,3947,234,593.73504273504273,610.59829059829065,16.867521367521366]
[270,1,"HOPKINS",9269649,9451392,181744,6970,1330,1356,26,9970236,10135519,165283,6987,1427,1451,24,19239885,19586911,347027,13957,1378.5114996059326,1403.3754388478899,24.864010890592535]
[271,1,"BLOOMINGTON",17577147,17900554,323406,10604,1658,1688,30,18527587,18878349,350761,10459,1771,1805,34,36104734,36778903,674167,21063,1714.1306556520913,1746.1379195746094,32.007168969282631]
[272,1,"EDEN PRAIRIE",10727331,10882162,154831,8602,1247,1265,18,11110073,11245796,135723,8455,1314,1330,16,21837404,22127958,290554,17057,1280.2605381954622,1297.2948349651169,17.034296769654688]
[273,1,"EDINA",10499022,10751310,252288,8548,1228,1258,30,11170731,11417018,246288,8559,1305,1334,29,21669753,22168328,498576,17107,1266.7184778160986,1295.8629800666395,29.144560706143682]
[276,1,"MINNETONKA",12218620,12343365,124744,10550,1158,1170,12,13033544,13153910,120366,10652,1224,1235,11,25252164,25497275,245110,21202,1191.0274502405434,1202.5881992264881,11.560701820582963]
[277,1,"WESTONKA",2534821,2603831,69010,2298,1103,1133,30,2730659,2806474,75814,2296,1189,1222,33,5265480,5410305,144824,4594,1146.1645624727905,1177.6893774488462,31.524597300827168]
[278,1,"ORONO",2896509,2937489,40979,2810,1031,1045,14,3059315,3098738,39423,2814,1087,1101,14,5955824,6036227,80402,5624,1059.0014224751067,1073.2978307254623,14.296230440967284]
[279,1,"OSSEO",26976957,27602111,625154,20654,1306,1336,30,29103265,29793868,690603,20751,1403,1436,33,56080222,57395979,1315757,41405,1354.4311556575292,1386.2088878154811,31.777732157951938]
[280,1,"RICHFIELD",5393456,5518972,125516,4183,1289,1319,30,5538600,5670572,131972,4003,1383,1416,33,10932056,11189544,257488,8186,1335.4576105546055,1366.9122892743708,31.454678719765454]
[281,1,"ROBBINSDALE",14784748,15172219,387471,12927,1144,1174,30,16207966,16641593,433627,13162,1231,1264,33,30992714,31813812,821098,26089,1187.9609797232549,1219.4339376748821,31.472957951627123]
[282,1,"ST. ANTHONY-NEW",1671360,1724399,53038,1778,940,970,30,1773116,1827441,54324,1776,998,1029,31,3444476,3551840,107362,3554,969.18289251547549,999.39223410241982,30.208778840742823]
[283,1,"ST. LOUIS PARK",4728126,4814415,86289,4641,1019,1037,18,5089342,5173122,83780,4611,1104,1122,18,9817468,9987537,170069,9252,1061.1184608733247,1079.5003242542152,18.381863380890618]
[284,1,"WAYZATA",10655840,10924645,268805,11692,911,934,23,11717332,11992179,274848,11920,983,1006,23,22373172,22916824,543653,23612,947.53396578011177,970.55836015585294,23.02443672708792]
[286,1,"BROOKLYN CENTER",2202429,2275120,72692,2405,916,946,30,2388368,2468293,79925,2405,993,1026,33,4590797,4743413,152617,4810,954.42765072765076,986.15654885654885,31.729106029106028]
[294,1,"HOUSTON",1891493,1906264,14772,2024,935,942,7,1971607,1985987,14380,2025,974,981,7,3863100,3892251,29152,4049,954.08742899481354,961.28698444060262,7.1998024203507036]
[297,1,"SPRING GROVE",316698,324206,7509,348,910,932,22,333944,342225,8281,346,965,989,24,650642,666431,15790,694,937.5244956772334,960.27521613832857,22.752161383285301]
[299,1,"CALEDONIA",762657,788977,26320,685,1113,1152,39,821613,850397,28784,691,1189,1231,42,1584270,1639374,55104,1376,1151.359011627907,1191.4055232558139,40.046511627906973]
[300,1,"LACRESCENT",2108247,2142278,34031,1110,1899,1930,31,2168816,2204921,36105,1071,2025,2059,34,4277063,4347199,70136,2181,1961.055937643283,1993.2136634571298,32.157725813846859]
[306,1,"LAPORTE",494422,496361,1940,310,1597,1603,6,529571,530922,1352,313,1694,1698,4,1023993,1027283,3292,623,1643.6484751203852,1648.9293739967898,5.2841091492776888]
[308,1,"NEVIS",487454,495175,7721,625,780,792,12,506110,513301,7192,616,821,833,12,993564,1008476,14913,1241,800.6156325543916,812.63174858984689,12.016921837228042]
[309,1,"PARK RAPIDS",1542163,1590006,47843,1577,978,1008,30,1674680,1727461,52782,1582,1059,1092,33,3216843,3317467,100625,3159,1018.3105413105413,1050.1636593858816,31.853434631212409]
[314,1,"BRAHAM",298857,326229,27372,764,391,427,36,314095,344929,30834,764,411,451,40,612952,671158,58206,1528,401.14659685863876,439.23952879581151,38.092931937172771]
[316,1,"GREENWAY",2422997,2454453,31456,1049,2310,2340,30,2573712,2608282,34570,1048,2456,2489,33,4996709,5062735,66026,2097,2382.7892226990939,2414.2751549833097,31.485932284215547]
[317,1,"DEER RIVER",1734749,1750624,15875,931,1864,1881,17,1830308,1841583,11275,922,1986,1998,12,3565057,3592207,27150,1853,1923.9379384781435,1938.5898542903401,14.651915812196439]
[318,1,"GRAND RAPIDS",4267101,4360173,93072,3981,1072,1095,23,4549361,4634800,85439,4011,1134,1156,22,8816462,8994973,178511,7992,1103.1609109109108,1125.4971221221222,22.336211211211211]
[319,1,"NASHWAUK-KEEWATI",962118,969840,7722,553,1740,1754,14,984104,991649,7545,539,1826,1840,14,1946222,1961489,15267,1092,1782.2545787545787,1796.235347985348,13.98076923076923]
[323,2,"FRANCONIA",-52809,-52198,611,30,-1760,-1740,20,-43444,-42910,534,24,-1810,-1788,22,-96253,-95108,1145,54,-1782.462962962963,-1761.2592592592594,21.203703703703702]
[330,1,"HERON LAKE-OKABE",370358,374861,4503,248,1494,1513,19,382331,383751,1419,243,1574,1580,6,752689,758612,5922,491,1532.9714867617108,1545.0346232179227,12.061099796334013]
[332,1,"MORA",1391936,1442419,50482,1600,870,902,32,1448128,1496571,48443,1575,919,950,31,2840064,2938990,98925,3175,894.50834645669295,925.66614173228345,31.15748031496063]
[333,1,"OGILVIE",398954,408497,9543,466,856,877,21,430231,440628,10397,473,910,932,22,829185,849125,19940,939,883.05111821086257,904.2864749733759,21.235356762513312]
[345,1,"NEW LONDON-SPICE",1792765,1812549,19784,1471,1219,1232,13,1878030,1896415,18385,1480,1269,1281,12,3670795,3708964,38169,2951,1243.9156218231108,1256.8498813961369,12.934259573026093]
[347,1,"WILLMAR",6508351,6625298,116947,4184,1555,1583,28,6969739,7075051,105312,4223,1650,1675,25,13478090,13700349,222259,8407,1603.1985250386583,1629.6358986558821,26.437373617223741]
[356,1,"LANCASTER",139815,144604,4789,144,971,1004,33,149065,153870,4805,144,1035,1069,34,288880,298474,9594,288,1003.0555555555555,1036.3680555555557,33.3125]
[361,1,"INTERNATIONAL FA",743640,776201,32562,1068,696,727,31,798769,832674,33905,1047,763,795,32,1542409,1608875,66467,2115,729.27139479905441,760.6973995271868,31.42647754137116]
[362,1,"LITTLEFORK-BIG F",537701,537701,0,333,1615,1615,0,543247,543247,0,321,1692,1692,0,1080948,1080948,0,654,1652.8256880733945,1652.8256880733945,0]
[363,1,"SOUTH KOOCHICHIN",502370,502370,0,241,2085,2085,0,539521,539521,0,247,2184,2184,0,1041891,1041891,0,488,2135.0225409836066,2135.0225409836066,0]
[378,1,"DAWSON",688777,696334,7557,543,1268,1282,14,715619,722446,6827,530,1350,1363,13,1404396,1418780,14384,1073,1308.8499534016776,1322.255358807083,13.405405405405405]
[381,1,"LAKE SUPERIOR",1304837,1338300,33463,1360,959,984,25,1350396,1382655,32259,1365,989,1013,24,2655233,2720955,65722,2725,974.39743119266052,998.51559633027523,24.118165137614678]
[390,1,"LAKE OF THE WOOD",564132,577350,13218,464,1216,1244,28,597493,608444,10951,459,1302,1326,24,1161625,1185794,24169,923,1258.5319609967498,1284.7172264355363,26.185265438786566]
[391,1,"CLEVELAND",224546,229315,4769,497,452,461,9,238110,243571,5462,496,480,491,11,462656,472886,10231,993,465.91742195367573,476.21953675730111,10.303121852970795]
[402,1,"HENDRICKS",180157,184695,4539,111,1620,1661,41,195579,199335,3756,110,1775,1809,34,375736,384030,8295,221,1700.1628959276018,1737.6923076923076,37.533936651583709]
[403,1,"IVANHOE",24357,27328,2971,150,162,182,20,29714,33089,3374,155,192,213,21,54071,60417,6345,305,177.28196721311474,198.08852459016393,20.803278688524589]
[404,1,"LAKE BENTON",175820,180055,4235,200,879,900,21,179894,184327,4433,190,947,970,23,355714,364382,8668,390,912.08717948717947,934.31282051282051,22.225641025641025]
[413,1,"MARSHALL",3371324,3408314,36990,2506,1345,1360,15,3612723,3647933,35210,2523,1432,1446,14,6984047,7056247,72200,5029,1388.754623185524,1403.1113541459536,14.356730960429509]
[414,1,"MINNEOTA",586079,591366,5287,456,1285,1297,12,610645,615209,4564,453,1348,1358,10,1196724,1206575,9851,909,1316.5280528052806,1327.3652365236524,10.837183718371838]
[415,1,"LYND",202873,202873,0,194,1045,1045,0,179774,182073,2300,164,1095,1109,14,382647,384946,2300,358,1068.8463687150838,1075.2681564245811,6.4245810055865924]
[423,1,"HUTCHINSON",3541246,3581278,40032,2760,1283,1298,15,3728815,3820613,91798,2704,1379,1413,34,7270061,7401891,131830,5464,1330.5382503660321,1354.6652635431917,24.12701317715959]
[424,1,"LESTER PRAIRIE",164222,177654,13432,442,372,402,30,187597,202431,14833,444,423,456,33,351819,380085,28265,886,397.08690744920995,428.98984198645599,31.901805869074494]
[432,1,"MAHNOMEN",147932,166134,18202,609,243,273,30,173993,193905,19912,606,287,320,33,321925,360039,38114,{"$f":"G138+N138","v":1215},264.9588477366255,296.32839506172837,31.369547325102882]
[435,1,"WAUBUN",723646,742778,19132,577,1254,1287,33,763369,781560,18191,584,1307,1338,31,{"$f":"D139+K139","v":1487015},1524338,37323,1161,{"$f":"R139/U139","v":1280.8053402239448},{"$f":"S139/U139","v":1312.9526270456504},{"$f":"T139/U139","v":32.147286821705428}]
[441,1,"MARSHALL CTY CENTRAL",488243,498104,9861,387,1262,1287,25,499317,508639,9322,381,1311,1335,24,987560,1006743,19183,768,1285.8854166666667,1310.86328125,24.977864583333332]
[447,1,"GRYGLA",231979,233144,1165,154,1506,1514,8,245557,245557,0,156,1574,1574,0,477536,478701,1165,310,1540.4387096774194,1544.1967741935484,3.7580645161290325]
[458,1,"TRUMAN",102262,108795,6532,219,467,497,30,112865,119956,7091,216,523,555,32,215127,228751,13623,435,494.54482758620691,525.864367816092,31.317241379310346]
[463,1,"EDEN VALLEY",879045,889791,10746,962,914,925,11,919789,929895,10106,938,981,991,10,1798834,1819686,20852,1900,946.75473684210522,957.72947368421057,10.974736842105264]
[465,1,"LITCHFIELD",1820688,1847922,27235,1548,1176,1194,18,1900916,1931907,30991,1526,1246,1266,20,3721604,3779829,58226,3074,1210.6714378659726,1229.6125569290825,18.941444372153544]
[466,1,"DASSEL-COKATO",2410216,2437127,26910,2214,1089,1101,12,2500229,2523999,23770,2193,1140,1151,11,4910445,4961126,50680,4407,1114.2375765827094,1125.737690038575,11.499886544134332]
[473,1,"ISLE",470665,487728,17063,452,1042,1080,38,498996,516593,17598,452,1105,1144,39,969661,1004321,34661,904,1072.6338495575221,1110.9745575221239,38.341814159292035]
[477,1,"PRINCETON",3109012,3159381,50369,3119,997,1013,16,3281086,3328677,47591,3104,1057,1072,15,6390098,6488058,97960,6223,1026.851679254379,1042.5932829824844,15.741603728105416]
[480,1,"ONAMIA",1803412,1823990,20578,633,2847,2880,33,1907746,1930305,22558,631,3021,3057,36,3711158,3754295,43136,1264,2936.0427215189875,2970.1700949367087,34.12658227848101]
[482,1,"LITTLE FALLS",2674417,2718998,44581,2306,1160,1179,19,2781314,2816483,35169,2283,1218,1234,16,5455731,5535481,79750,4589,1188.8714316844628,1206.2499455219001,17.37851383743735]
[484,1,"PIERZ",1266268,1288498,22231,1122,1129,1148,19,1324538,1347139,22601,1115,1188,1208,20,2590806,2635637,44832,2237,1158.1609298167189,1178.2016092981671,20.041126508717031]
[485,1,"ROYALTON",884665,895518,10853,937,944,956,12,933242,944819,11577,938,995,1007,12,1817907,1840337,22430,1875,969.55039999999997,981.51306666666665,11.962666666666667]
[486,1,"SWANVILLE",330434,336338,5904,317,1042,1061,19,341474,346501,5027,312,1094,1111,17,671908,682839,10931,629,1068.2162162162163,1085.5945945945946,17.378378378378379]
[487,1,"UPSALA",216409,227685,11276,372,582,612,30,240392,252854,12462,374,643,676,33,456801,480539,23738,746,612.33378016085794,644.15415549597856,31.820375335120644]
[492,1,"AUSTIN",7258764,7371811,113047,4782,1518,1541,23,7718949,7803731,84781,4726,1633,1651,18,14977713,15175542,197828,9508,1575.2748212031972,1596.0814051325199,20.806478754732858]
[495,1,"GRAND MEADOW",524082,527474,3392,414,1266,1274,8,549574,552791,3217,412,1334,1342,8,1073656,1080265,6609,826,1299.8256658595642,1307.8268765133173,8.0012106537530272]
[497,1,"LYLE",355182,355182,0,246,1445,1445,0,363174,365618,2444,239,1521,1531,10,718356,720800,2444,485,1481.1463917525773,1486.1855670103093,5.0391752577319586]
[499,1,"LEROY",486759,489315,2556,273,1783,1792,9,509108,511722,2613,270,1886,1895,9,995867,1001037,5169,543,1834.0092081031307,1843.5303867403316,9.5193370165745854]
[500,1,"SOUTHLAND",698056,700614,2559,407,1715,1721,6,692747,696172,3425,386,1795,1804,9,1390803,1396786,5984,793,1753.8499369482977,1761.3947036569987,7.5460277427490539]
[505,1,"FULDA",437586,452135,14549,300,1459,1507,48,431596,446510,14914,292,1478,1529,51,869182,898645,29463,592,1468.2128378378379,1517.981418918919,49.768581081081081]
[507,1,"NICOLLET",351830,359050,7220,366,961,981,20,362298,369386,7088,363,998,1018,20,714128,728436,14308,729,979.59945130315498,999.22633744855966,19.626886145404665]
[508,1,"ST. PETER",2463008,2499462,36453,2071,1189,1207,18,2625191,2660480,35290,2067,1270,1287,17,5088199,5159942,71743,4138,1229.6275978733688,1246.9652005799903,17.337602706621556]
[511,1,"ADRIAN",688309,688309,0,549,1254,1254,0,724049,724049,0,551,1314,1314,0,1412358,1412358,0,1100,1283.9618181818182,1283.9618181818182,0]
[514,1,"ELLSWORTH",240965,243183,2218,136,1772,1788,16,252442,254837,2394,134,1884,1902,18,493407,498020,4612,270,1827.4333333333334,1844.5185185185185,17.081481481481482]
[518,1,"WORTHINGTON",4253212,4313974,60762,3236,1314,1333,19,4570919,4625871,54952,3316,1378,1395,17,8824131,8939845,115714,6552,1346.7843406593406,1364.4452075702075,17.660866910866911]
[531,1,"BYRON",1570889,1594265,23376,2081,755,766,11,1710780,1734073,23293,2126,805,816,11,3281669,3328338,46669,4207,780.04967910625146,791.14285714285711,11.093178036605657]
[533,1,"DOVER-EYOTA",1026991,1046312,19321,1190,863,879,16,1070879,1090795,19916,1191,899,916,17,2097870,2137107,39237,2381,881.08777824443507,897.5669886602268,16.479210415791684]
[534,1,"STEWARTVILLE",2052691,2091597,38907,2076,989,1008,19,2196603,2234389,37787,2072,1060,1078,18,4249294,4325986,76694,4148,1024.4199614271938,1042.9088717454194,18.489392478302797]
[535,1,"ROCHESTER",26967278,27498415,531138,17352,1554,1585,31,28857173,29305933,448760,17445,1654,1680,26,55824451,56804348,979898,34797,1604.2891915969767,1632.4495789866942,28.160416127827112]
[542,1,"BATTLE LAKE",165825,175454,9630,436,380,402,22,166687,176959,10272,426,391,415,24,332512,352413,19902,862,385.74477958236656,408.83178654292345,23.08816705336427]
[544,1,"FERGUS FALLS",1662532,1721780,59248,2407,691,715,24,1715365,1776906,61541,2387,719,744,25,3377897,3498686,120789,4794,704.60930329578639,729.80517313308303,25.19586983729662]
[545,1,"HENNING",165326,169268,3943,355,466,477,11,180896,190159,9263,348,520,546,26,346222,359427,13206,703,492.49217638691323,511.27596017069703,18.785206258890469]
[547,1,"PARKERS PRAIRIE",736806,743168,6363,544,1354,1366,12,750884,757002,6118,532,1411,1423,12,1487690,1500170,12481,1076,1382.6115241635687,1394.2100371747213,11.599442379182156]
[548,1,"PELICAN RAPIDS",536559,554235,17676,897,598,618,20,567291,585238,17948,884,642,662,20,1103850,1139473,35624,1781,619.79225154407641,639.79393599101627,20.002245929253228]
[549,1,"PERHAM",1402653,1423164,20511,1406,998,1012,14,1476234,1496436,20201,1403,1052,1067,15,2878887,2919600,40712,2809,1024.8796724813101,1039.37344250623,14.493414026343894]
[550,1,"UNDERWOOD",390893,397622,6729,557,702,714,12,407675,413974,6298,559,729,741,12,798568,811596,13027,1116,715.56272401433694,727.23655913978496,11.672939068100359]
[553,1,"NEW YORK MILLS",643875,654782,10907,747,862,877,15,670200,680800,10600,743,902,916,14,1314075,1335582,21507,1490,881.92953020134223,896.36375838926176,14.434228187919462]
[561,1,"GOODRIDGE",235365,240113,4748,206,1143,1166,23,246654,251212,4559,212,1163,1185,22,482019,491325,9307,418,1153.1555023923445,1175.4186602870814,22.26555023923445]
[564,1,"THIEF RIVER FALL",1611430,1643051,31621,1900,848,865,17,1649031,1677771,28741,1900,868,883,15,3260461,3320822,60362,3800,858.01605263157899,873.90052631578942,15.884736842105264]
[577,1,"WILLOW RIVER",385159,392636,7478,420,917,935,18,399174,407261,8086,408,978,998,20,784333,799897,15564,828,947.26207729468604,966.0591787439613,18.797101449275363]
[578,1,"PINE CITY",3538682,3593011,54329,1588,2228,2263,35,3741364,3791416,50052,1574,2377,2409,32,7280046,7384427,104381,3162,2302.3548387096776,2335.3659076533841,33.011068943706512]
[581,1,"EDGERTON",825621,825621,0,392,2106,2106,0,887584,887584,0,401,2213,2213,0,1713205,1713205,0,793,2160.4098360655739,2160.4098360655739,0]
[592,1,"CLIMAX",215896,215896,0,181,1190,1190,0,226315,226315,0,181,1248,1248,0,442211,442211,0,362,1221.5773480662983,1221.5773480662983,0]
[593,1,"CROOKSTON",1702235,1741079,38844,1252,1360,1391,31,1791159,1833028,41869,1229,1457,1491,34,3493394,3574107,80713,2481,1408.0588472390166,1440.5912938331319,32.532446594115278]
[595,1,"EAST GRAND FORKS",1910965,1941874,30909,1907,1002,1018,16,2044543,2067185,22642,1931,1059,1071,12,3955508,4009059,53551,3838,1030.616988014591,1044.5698280354352,13.952840020844191]
[599,1,"FERTILE-BELTRAMI",455969,465134,9164,454,1004,1025,21,465881,472896,7015,451,1033,1049,16,921850,938030,16179,905,1018.6187845303867,1036.4972375690609,17.877348066298342]
[600,1,"FISHER",309595,312113,2518,256,1209,1219,10,308842,310990,2148,241,1282,1290,8,618437,623103,4666,497,1244.3400402414486,1253.7283702213281,9.3883299798792752]
[601,1,"FOSSTON",810229,819810,9581,649,1248,1263,15,845101,853944,8843,642,1316,1330,14,1655330,1673754,18424,1291,1282.2075910147173,1296.4786986831914,14.271107668474052]
[621,1,"MOUNDS VIEW",24007497,24494162,486666,11511,2086,2128,42,25672558,26152344,479786,11649,2204,2245,41,49680055,50646506,966452,23160,2145.0800949913646,2186.8094127806562,41.729360967184803]
[622,1,"NORTH ST. PAUL-M",16928433,17238004,309571,10398,1628,1658,30,17982937,18321350,338413,10331,1741,1773,32,34911370,35559354,647984,20729,1684.1801341116311,1715.4399150947947,31.259780983163683]
[623,1,"ROSEVILLE",10492018,10720502,228484,7507,1398,1428,30,11318751,11571507,252755,7547,1500,1533,33,21810769,22292009,481239,15054,1448.8354590142155,1480.8030423807627,31.967516939019529]
[624,1,"WHITE BEAR LAKE",11883242,12137656,254413,8376,1419,1449,30,12804218,13085424,281206,8425,1520,1553,33,24687460,25223080,535619,16801,1469.4042021308255,1501.2844473543241,31.880185703231952]
[625,1,"ST. PAUL",61448452,62562171,1113719,36398,1688,1719,31,65164836,66380440,1215605,36114,1804,1838,34,126613288,128942611,2329324,72512,1746.1011694616063,1778.2244456090027,32.12328993821712]
[630,1,"RED LAKE FALLS",415713,425836,10122,358,1161,1189,28,437434,445672,8238,356,1229,1252,23,853147,871508,18360,714,1194.8837535014006,1220.5994397759105,25.714285714285715]
[635,1,"MILROY",-18814,-18814,0,43,-438,-438,0,-20700,-20700,0,45,-460,-460,0,-39514,-39514,0,88,-449.02272727272725,-449.02272727272725,0]
[640,1,"WABASSO",283724,289110,5386,376,755,769,14,295073,300943,5870,370,797,813,16,578797,590053,11256,746,775.86729222520103,790.95576407506701,15.088471849865952]
[656,1,"FARIBAULT",5671026,5773961,102935,3805,1490,1517,27,5964362,6055216,90854,3737,1596,1620,24,11635388,11829177,193789,7542,1542.7456907981968,1568.4403341288782,25.694643330681515]
[659,1,"NORTHFIELD",5414670,5533757,119087,3854,1405,1436,31,5621825,5748585,126759,3731,1507,1541,34,11036495,11282342,245846,7585,1455.0421885299934,1487.4544495715227,32.412129202373102]
[671,1,"HILLS-BEAVER CRE",315515,321837,6322,376,839,856,17,331142,337388,6246,366,905,922,17,646657,659225,12568,742,871.50539083557953,888.44339622641508,16.938005390835581]
[676,1,"BADGER",125031,127473,2442,189,662,674,12,131967,136518,4552,185,713,738,25,256998,263991,6994,374,687.1604278074866,705.85828877005349,18.700534759358288]
[682,1,"ROSEAU",1232830,1273380,40550,1170,1054,1088,34,1296792,1333766,36974,1147,1131,1163,32,2529622,2607146,77524,2317,1091.7660768234787,1125.2248597324126,33.458782908933969]
[690,1,"WARROAD",1182973,1199591,16618,1023,1156,1173,17,1264810,1279630,14820,1016,1245,1259,14,2447783,2479221,31438,2039,1200.4820990681708,1215.9004413928396,15.418342324668956]
[695,1,"CHISHOLM",597208,613908,16701,721,828,851,23,617078,633465,16387,716,862,885,23,1214286,1247373,33088,{"$f":"G202+N202","v":1437},845.01461377870567,868.03966597077249,23.025748086290882]
[696,1,"ELY",684848,701800,16952,528,1297,1329,32,715204,729673,14469,526,1360,1387,27,{"$f":"D203+K203","v":1400052},1431473,31421,1054,{"$f":"R203/U203","v":1328.3225806451612},{"$f":"S203/U203","v":1358.1337760910817},{"$f":"T203/U203","v":29.811195445920305}]
[698,1,"FLOODWOOD",438138,438138,0,236,1857,1857,0,461968,464431,2464,234,1974,1985,11,900106,902569,2464,470,1915.1191489361702,1920.3595744680852,5.2425531914893613]
[700,1,"HERMANTOWN",2271297,2314344,43047,2066,1099,1120,21,2372584,2414124,41539,2064,1150,1170,20,4643881,4728468,84586,4130,1124.426392251816,1144.9075060532687,20.480871670702179]
[701,1,"HIBBING",2356580,2398547,41967,2321,1015,1033,18,2447080,2488109,41029,2296,1066,1084,18,4803660,4886656,82996,4617,1040.428849902534,1058.4050249079489,17.97617500541477]
[704,1,"PROCTOR",1933853,1970640,36787,1752,1104,1125,21,1996536,2034021,37486,1709,1168,1190,22,3930389,4004661,74273,3461,1135.6223634787634,1157.0820572088992,21.459982663969949]
[706,1,"VIRGINIA",2055076,2083239,28163,1729,1189,1205,16,2202443,2232574,30132,1754,1256,1273,17,4257519,4315813,58295,3483,1222.3712316968131,1239.1079529141546,16.737008326155614]
[707,1,"NETT LAKE",54934,57252,2317,105,523,545,22,62593,65245,2653,109,574,599,25,117527,122497,4970,214,549.19158878504675,572.41588785046724,23.22429906542056]
[709,1,"DULUTH",13273140,13524957,251817,8049,1649,1680,31,14079637,14354328,274690,7984,1764,1798,34,27352777,27879285,526507,16033,1706.0298758809954,1738.8688954032309,32.838957150876318]
[712,1,"MOUNTAIN IRON-BU",1305382,1311817,6435,478,2731,2744,13,1356338,1364870,8532,475,2855,2873,18,2661720,2676687,14967,953,2792.9905561385099,2808.6956977964323,15.705141657922351]
[716,1,"BELLE PLAINE",1299099,1344595,45496,1618,803,831,28,1393337,1443526,50189,1619,861,892,31,2692436,2788121,95685,3237,831.76892184121095,861.32869941303682,29.559777571825766]
[717,1,"JORDAN",1687817,1729257,41440,1805,935,958,23,1806376,1839728,33352,1812,997,1015,18,3494193,3568985,74792,3617,966.04727674868673,986.72518661874483,20.677909870058059]
[719,1,"PRIOR LAKE",8985115,9240606,255491,8525,1054,1084,30,9993051,10253978,260927,8775,1139,1169,30,18978166,19494584,516418,17300,1097.0038150289017,1126.8545664739884,29.850751445086704]
[720,1,"SHAKOPEE",9254226,9565082,310856,8365,1106,1143,37,10026511,10336326,309815,8460,1185,1222,37,19280737,19901408,620671,16825,1145.9576225854382,1182.8474294205053,36.889806835066864]
[721,1,"NEW PRAGUE",3156583,3299950,143367,4072,775,810,35,3354910,3495955,141045,4051,828,863,35,6511493,6795905,284412,8123,801.61184291517907,836.62501538840331,35.013172473224181]
[726,1,"BECKER",2932344,3048954,116610,2813,1042,1084,42,3112237,3234380,122143,2822,1103,1146,43,6044581,6283334,238753,5635,1072.6851818988464,1115.0548358473825,42.369653948535934]
[727,1,"BIG LAKE",2823686,3003284,179598,3075,918,977,59,2945987,3126176,180189,3019,976,1036,60,5769673,6129460,359787,6094,946.77929110600587,1005.8188382015097,59.039547095503771]
[728,1,"ELK RIVER",18186997,18580003,393006,12885,1411,1442,31,19476736,19754815,278079,12775,1525,1546,21,37663733,38334818,671085,25660,1467.79941543258,1493.9523772408418,26.152961808261885]
[738,1,"HOLDINGFORD",715209,727836,12627,1023,699,711,12,726991,739029,12038,982,740,753,13,1442200,1466865,24665,2005,719.30174563591027,731.60349127182042,12.301745635910224]
[739,1,"KIMBALL",590637,600509,9872,743,795,808,13,628914,639605,10691,738,852,867,15,1219551,1240114,20563,1481,823.46455097906824,837.34908845374741,13.88453747467927]
[740,1,"MELROSE",1312753,1337744,24990,1341,979,998,19,1350801,1375452,24651,1292,1046,1065,19,2663554,2713196,49641,2633,1011.6042537030004,1030.4580326623623,18.853399164451197]
[741,1,"PAYNESVILLE",1166351,1181132,14781,919,1269,1285,16,1203327,1217823,14496,909,1324,1340,16,2369678,2398955,29277,1828,1296.3227571115974,1312.3386214442014,16.01586433260394]
[742,1,"ST. CLOUD",18969953,19287915,317962,10403,1824,1854,30,20451340,20804643,353303,10508,1946,1980,34,39421293,40092558,671265,20911,1885.1940605422983,1917.2951078379799,32.101047295681695]
[743,1,"SAUK CENTRE",1207294,1223655,16361,1070,1128,1144,16,1277841,1293354,15514,1066,1199,1213,14,2485135,2517009,31875,2136,1163.4527153558051,1178.375,14.922752808988765]
[745,1,"ALBANY",1931172,1968282,37111,1747,1105,1127,22,2052462,2079890,27428,1757,1168,1184,16,3983634,4048172,64539,3504,1136.8818493150684,1155.3002283105022,18.418664383561644]
[748,1,"SARTELL",3602722,3702329,99607,3923,918,944,26,3789494,3888268,98775,3932,964,989,25,7392216,7590597,198382,7855,941.08415022278803,966.33952896244432,25.255506047103754]
[750,1,"ROCORI",1885782,1916647,30865,2018,934,950,16,1942762,1970774,28012,1985,979,993,14,3828544,3887421,58877,4003,956.41868598551082,971.12690482138396,14.708218835873096]
[756,1,"BLOOMING PRAIRIE",743393,753737,10344,729,1020,1034,14,794429,804433,10004,746,1065,1078,13,1537822,1558170,20348,1475,1042.591186440678,1056.386440677966,13.795254237288136]
[761,1,"OWATONNA",5939338,6112921,173584,4924,1206,1241,35,6339440,6495280,155840,4956,1279,1311,32,12278778,12608201,329424,9880,1242.7912955465588,1276.1337044534414,33.342510121457487]
[763,1,"MEDFORD",524231,536670,12439,872,601,615,14,548749,561074,12325,853,643,658,15,1072980,1097744,24764,1725,622.01739130434783,636.37333333333333,14.355942028985508]
[768,1,"HANCOCK",250965,255188,4223,347,723,735,12,266030,270707,4677,352,756,769,13,516995,525895,8900,699,739.62088698140201,752.35336194563661,12.732474964234621]
[771,1,"CHOKIO-ALBERTA",50840,54100,3259,158,322,342,20,51817,56003,4186,158,328,354,26,102657,110103,7445,316,324.86392405063293,348.42721518987344,23.560126582278482]
[775,1,"KERKHOVEN-MURDOC",736828,746081,9253,693,1063,1077,14,793332,802447,9115,713,1113,1125,12,1530160,1548528,18368,1406,1088.3072546230442,1101.371266002845,13.064011379800853]
[777,1,"BENSON",1305301,1315617,10316,842,1550,1563,13,1356858,1367287,10430,837,1621,1634,13,2662159,2682904,20746,1679,1585.5622394282311,1597.9178082191781,12.356164383561644]
[786,1,"BERTHA-HEWITT",469836,477709,7874,412,1140,1159,19,452724,461311,8587,372,1217,1240,23,922560,939020,16461,784,1176.7346938775511,1197.7295918367347,20.996173469387756]
[787,1,"BROWERVILLE",602147,602147,0,354,1701,1701,0,630756,630756,0,354,1782,1782,0,1232903,1232903,0,708,1741.388418079096,1741.388418079096,0]
[801,1,"BROWNS VALLEY",204298,206512,2215,147,1390,1405,15,218515,221195,2681,146,1497,1515,18,422813,427707,4896,293,1443.0477815699658,1459.7508532423208,16.709897610921502]
[803,1,"WHEATON",522047,527610,5563,386,1353,1368,15,531724,536694,4970,385,1382,1395,13,1053771,1064304,10533,771,1366.7587548638132,1380.4202334630349,13.661478599221789]
[811,1,"WABASHA",1127096,1144010,16914,553,2038,2069,31,1193795,1212292,18498,550,2171,2204,33,2320891,2356302,35412,1103,2104.1622846781506,2136.2665457842249,32.105167724388032]
[813,1,"LAKE CITY",1039094,1063400,24307,1229,845,865,20,1085886,1111695,25809,1220,890,911,21,2124980,2175095,50116,2449,867.69293589220092,888.15639036341361,20.463862801143325]
[815,2,"PRINSBURG",208569,208811,242,0,0,0,0,218425,218691,265,0,0,0,0,426994,427502,507,0,{"$error":"#DIV/0!"},{"$error":"#DIV/0!"},{"$error":"#DIV/0!"}]
[818,1,"VERNDALE",679647,684056,4409,536,1268,1276,8,713515,717950,4436,533,1339,1347,8,1393162,1402006,8845,1069,1303.2385406922358,1311.511693171188,8.2740879326473333]
[820,1,"SEBEKA",448824,464119,15295,511,878,908,30,454305,468650,14345,473,960,991,31,903129,932769,29640,984,917.81402439024396,947.93597560975604,30.121951219512194]
[821,1,"MENAHGA",833197,848080,14883,1029,810,824,14,885226,899917,14691,1046,846,860,14,1718423,1747997,29574,2075,828.15566265060238,842.40819277108437,14.252530120481929]
[829,1,"WASECA",3073930,3095704,21773,1791,1716,1728,12,3171842,3188870,17028,1759,1803,1813,10,6245772,6284574,38801,3550,1759.3723943661971,1770.3025352112677,10.929859154929577]
[831,1,"FOREST LAKE",8660480,8817134,156654,6365,1361,1385,24,9007884,9155978,148093,6215,1449,1473,24,17668364,17973112,304747,12580,1404.4804451510333,1428.7052464228934,24.224721780604135]
[832,1,"MAHTOMEDI",3266800,3363211,96410,3297,991,1020,29,3475867,3576731,100864,3297,1054,1085,31,6742667,6939942,197274,6594,1022.5457992114043,1052.4631483166515,29.917197452229299]
[833,1,"SOUTH WASHINGTON",20887154,21222689,335535,17903,1167,1185,18,21950372,22229685,279312,17772,1235,1251,16,42837526,43452374,614847,35675,1200.7715767344077,1218.0062789067974,17.234674141555711]
[834,1,"STILLWATER",9602223,9841712,239489,8147,1179,1208,29,10109943,10367682,257739,7975,1268,1300,32,19712166,20209394,497228,16122,1222.6873836992929,1253.5289666294505,30.84158293015755]
[836,1,"BUTTERFIELD",235523,238223,2700,228,1031,1043,12,250532,254116,3584,228,1097,1113,16,486055,492339,6284,456,1065.9100877192982,1079.6907894736842,13.780701754385966]
[837,1,"MADELIA",801013,809626,8612,522,1535,1551,16,837650,845276,7625,504,1662,1677,15,1638663,1654902,16237,1026,1597.1374269005848,1612.9649122807018,15.825536062378168]
[840,1,"ST. JAMES",1148520,1169225,20704,1042,1103,1123,20,1230073,1251465,21392,1058,1163,1183,20,2378593,2420690,42096,2100,1132.6633333333334,1152.7095238095237,20.045714285714286]
[846,1,"BRECKENRIDGE",664049,679368,15319,646,1028,1052,24,708662,726073,17411,648,1094,1120,26,1372711,1405441,32730,1294,1060.8276661514683,1086.1213292117466,25.293663060278206]
[850,1,"ROTHSAY",100321,104256,3935,312,322,334,12,110125,114478,4353,314,351,365,14,210446,218734,8288,626,336.17571884984028,349.41533546325877,13.23961661341853]
[852,1,"CAMPBELL-TINTAH",117421,119684,2264,144,818,833,15,123425,125572,2147,141,878,893,15,240846,245256,4411,285,845.07368421052627,860.54736842105262,15.47719298245614]
[857,1,"LEWISTON",925076,936359,11283,715,1294,1310,16,919963,930907,10944,685,1343,1359,16,1845039,1867266,22227,1400,1317.885,1333.7614285714285,15.876428571428571]
[858,1,"ST. CHARLES",793723,808553,14830,947,838,854,16,801413,814793,13380,951,843,857,14,1595136,1623346,28210,1898,840.42992623814541,855.2929399367755,14.863013698630137]
[861,1,"WINONA",6265990,6399904,133913,2990,2096,2140,44,6629714,6803787,174073,2999,2211,2269,58,12895704,13203691,307986,5989,2153.231591250626,2204.6570379028217,51.425279679412256]
[876,1,"ANNANDALE",2307721,2332918,25197,1702,1356,1371,15,2421364,2447647,26283,1682,1440,1455,15,4729085,4780565,51480,3384,1397.4837470449172,1412.6965130023641,15.212765957446809]
[877,1,"BUFFALO",6683624,6897750,214126,5613,1191,1229,38,6948155,7145661,197507,5499,1264,1299,35,13631779,14043411,411633,11112,1226.7619690424765,1263.8058855291576,37.044006479481638]
[879,1,"DELANO",2453211,2518877,65667,2468,994,1021,27,2594332,2659402,65070,2468,1051,1078,27,5047543,5178279,130737,4936,1022.5978525121556,1049.0840761750405,26.486426256077795]
[881,1,"MAPLE LAKE",1062068,1087397,25329,830,1280,1310,30,1126054,1153534,27480,819,1375,1408,33,2188122,2240931,52809,1649,1326.9387507580352,1358.9636143117041,32.024863553668894]
[882,1,"MONTICELLO",1472291,1472291,0,4057,363,363,0,1532662,1532662,0,4027,381,381,0,3004953,3004953,0,8084,371.71610588817418,371.71610588817418,0]
[883,1,"ROCKFORD",1650010,1678970,28960,1695,973,991,18,1748234,1778878,30643,1700,1028,1046,18,3398244,3457848,59603,3395,1000.9555228276878,1018.5119293078056,17.556111929307807]
[885,1,"ST. MICHAEL-ALBE",2991474,3110623,119149,6291,476,494,18,3264929,3384795,119866,6369,513,531,18,6256403,6495418,239015,{"$f":"G266+N266","v":12660},494.18665086887836,513.06619273301737,18.879541864139021]
[891,1,"CANBY",409144,416895,7751,501,817,832,15,434993,442308,7314,492,884,899,15,{"$f":"D267+K267","v":844137},859203,15065,993,{"$f":"R267/U267","v":850.08761329305139},{"$f":"S267/U267","v":865.25981873111778},{"$f":"T267/U267","v":15.171198388721047}]
[911,1,"CAMBRIDGE-ISANTI",5033758,5201388,167629,5001,1007,1040,33,5330376,5495933,165556,4975,1071,1105,34,10364134,10697321,333185,9976,1038.9067762630314,1072.305633520449,33.398656776263032]
[912,1,"MILACA",1910485,1949469,38984,1792,1066,1088,22,1990624,2031601,40977,1784,1116,1139,23,3901109,3981070,79961,3576,1090.9141498881431,1113.2746085011186,22.360458612975393]
[914,1,"ULEN-HITTERDAL",223891,232159,8268,274,817,847,30,234106,239562,5456,269,870,891,21,457997,471721,13724,543,843.45672191528547,868.73112338858198,25.2744014732965]
[2071,1,"LAKE CRYSTAL-WEL",999024,1011892,12868,907,1101,1116,15,1078736,1092706,13970,914,1180,1196,16,2077760,2104598,26838,1821,1140.9994508511807,1155.7375068643603,14.738056013179571]
[2125,1,"TRITON",765006,783202,18196,1200,638,653,15,818070,837419,19349,1204,679,696,17,1583076,1620621,37545,2404,658.51747088186357,674.13519134775379,15.617720465890184]
[2134,1,"UNITED SOUTH CENTRAL",959368,969862,10493,691,1388,1404,16,1017055,1039730,22675,681,1493,1527,34,1976423,2009592,33168,1372,1440.5415451895044,1464.7172011661808,24.174927113702623]
[2135,1,"MAPLE RIVER",1885449,1898861,13411,945,1995,2009,14,1969057,1980485,11428,914,2154,2167,13,3854506,3879346,24839,1859,2073.4298009682625,2086.7918235610541,13.361484669176978]
[2137,1,"KINGSLAND",477573,489393,11820,622,768,787,19,542937,555966,13030,633,858,878,20,1020510,1045359,24850,1255,813.15537848605572,832.95537848605579,19.800796812749002]
[2142,1,"ST. LOUIS COUNTY",1869815,1926752,56938,1839,1017,1048,31,1997053,2058869,61816,1815,1100,1134,34,3866868,3985621,118754,3654,1058.2561576354681,1090.755610290093,32.499726327312537]
[2143,1,"WATERVILLE-ELYSIAN-MORRISTOWN",776030,789163,13133,771,1007,1024,17,805322,819250,13929,771,1045,1063,18,1581352,1608413,27062,1542,1025.520103761349,1043.0693904020752,17.549935149156941]
[2144,1,"CHISAGO LAKES AREA",5214954,5318966,104013,3375,1545,1576,31,5490344,5601052,110707,3325,1651,1685,34,10705298,10920018,214720,6700,1597.8056716417912,1629.853432835821,32.047761194029853]
[2149,1,"MINNEWASKA",4364927,4376257,11330,1193,3659,3668,9,4585969,4606897,20929,1192,3847,3865,18,8950896,8983154,32259,2385,3752.9962264150945,3766.5215932914048,13.525786163522012]
[2154,1,"EVELETH-GILBERT",743738,761512,17774,940,791,810,19,760449,779402,18953,955,796,816,20,1504187,1540914,36727,1895,793.7662269129288,813.14722955145123,19.381002638522428]
[2155,1,"WADENA-DEER CREEK",738177,768805,30628,1032,715,745,30,791900,824934,33034,1013,782,814,32,1530077,1593739,63662,2045,748.20391198044013,779.33447432762841,31.130562347188263]
[2159,1,"BUFFALO LAKE-HECTOR",338189,350024,11835,556,608,630,22,371340,386073,14733,556,668,694,26,709529,736097,26568,1112,638.06564748201436,661.95773381294964,23.892086330935253]
[2164,1,"DILWORTH-GLYNDON",1531095,1548960,17865,1690,906,917,11,1661580,1680744,19164,1733,959,970,11,3192675,3229704,37029,3423,932.71253286590706,943.53023663453109,10.817703768624014]
[2165,1,"HINCKLEY-FINLAYS",1127391,1157026,29635,972,1160,1190,30,1176106,1207664,31558,941,1250,1283,33,2303497,2364690,61193,1913,1204.1280710925248,1236.1160480920021,31.987976999477262]
[2167,1,"LAKEVIEW",585813,595072,9260,642,912,927,15,605732,616104,10372,629,963,979,16,1191545,1211176,19632,1271,937.48623131392606,952.93154996066085,15.446105428796223]
[2168,1,"NRHEG",929653,943757,14104,927,1003,1018,15,986502,1000389,13887,904,1091,1107,16,1916155,1944146,27991,1831,1046.5073730202075,1061.794647733479,15.287274713271437]
[2169,1,"MURRAY COUNTY",795310,805382,10072,726,1095,1109,14,829848,839915,10068,726,1143,1157,14,1625158,1645297,20140,1452,1119.2548209366391,1133.124655647383,13.870523415977962]
[2170,1,"STAPLES-MOTLEY",1470234,1490713,20479,1130,1301,1319,18,1528796,1546292,17495,1125,1359,1374,15,2999030,3037005,37974,2255,1329.9467849223947,1346.7871396895787,16.839911308203991]
[2171,1,"KITTSON CENTRAL",187796,196259,8463,249,754,788,34,199017,207623,8605,239,833,869,36,386813,403882,17068,488,792.64959016393448,827.62704918032784,34.975409836065573]
[2172,1,"KENYON-WANAMINGO",911706,924615,12908,789,1156,1172,16,936868,950827,13959,774,1210,1228,18,1848574,1875442,26867,1563,1182.7088931541907,1199.8989123480487,17.18937939859245]
[2174,1,"PINE RIVER-BACKU",1082577,1103287,20711,974,1112,1133,21,1174993,1195284,20291,993,1184,1204,20,2257570,2298571,41002,1967,1147.7224199288257,1168.5668530757498,20.844941535332996]
[2176,1,"WARREN-ALVARADO-",377315,387363,10048,462,816,838,22,404076,413770,9693,467,864,885,21,781391,801133,19741,929,841.10979547900968,862.36060279870833,21.249730893433799]
[2180,1,"MACCRAY",595117,606531,11414,673,884,901,17,628116,640718,12602,661,950,969,19,1223233,1247249,24016,1334,916.96626686656668,934.96926536731632,18.002998500749626]
[2184,1,"LUVERNE",1608389,1638206,29817,1194,1347,1372,25,1675355,1698168,22814,1187,1411,1431,20,3283744,3336374,52631,2381,1379.1448971020579,1401.2490550188995,22.104577908441833]
[2190,1,"YELLOW MEDICINE EAST",1081601,1120306,38704,753,1436,1488,52,1143692,1184923,41232,729,1569,1625,56,2225293,2305229,79936,1482,1501.5472334682861,1555.4851551956815,53.937921727395413]
[2198,1,"FILLMORE CENTRAL",577185,584834,7649,627,921,933,12,586373,592826,6454,606,968,978,10,1163558,1177660,14103,1233,943.68045417680457,955.11759935117595,11.437956204379562]
[2215,1,"NORMAN COUNTY EAST",292209,304734,12525,283,1034,1078,44,298089,308897,10809,287,1040,1078,38,590298,613631,23334,570,1035.6105263157895,1076.5456140350877,40.93684210526316]
[2310,1,"SIBLEY EAST",772025,804012,31986,1182,653,680,27,814781,848900,34119,1159,703,732,29,1586806,1652912,66105,2341,677.83255019222554,706.07090986757794,28.237932507475438]
[2311,1,"CLEARBROOK-GONVICK",586227,591975,5749,422,1389,1403,14,601200,606505,5306,417,1442,1454,12,1187427,1198480,11055,839,1415.2884386174017,1428.4624553039332,13.176400476758046]
[2342,1,"WEST CENTRAL AREA",441116,457762,16646,719,614,637,23,468775,485842,17067,721,650,674,24,909891,943604,33713,1440,631.86874999999998,655.28055555555557,23.411805555555556]
[2358,1,"TRI-COUNTY",156595,162993,6398,191,819,853,34,169244,179078,9834,194,872,922,50,325839,342071,16232,385,846.33506493506491,888.49610389610393,42.161038961038962]
[2364,1,"BELGRADE-BROOTEN-ELR",398499,412996,14496,590,675,700,25,408374,424370,15996,565,723,751,28,806873,837366,30492,1155,698.59134199134201,724.99220779220775,26.4]
[2365,1,"G.F.W.",848966,872397,23431,780,1088,1118,30,896310,921528,25218,763,1175,1208,33,1745276,1793925,48649,1543,1131.0926766040182,1162.6215165262477,31.528839922229423]
[2396,1,"A.C.G.C.",740603,757947,17344,752,985,1008,23,785250,805144,19894,737,1065,1092,27,1525853,1563091,37238,1489,1024.7501678979181,1049.7588985896575,25.008730691739423]
[2397,1,"LESUEUR-HENDERSO",1092116,1121733,29616,975,1120,1150,30,1116821,1142502,25681,964,1159,1185,26,2208937,2264235,55297,1939,1139.2145435791645,1167.7333677153172,28.51830840639505]
[2448,1,"MARTIN COUNTY",649383,655876,6493,730,890,898,8,665083,671939,6856,710,937,946,9,1314466,1327815,13349,1440,912.82361111111106,922.09375,9.2701388888888889]
[2527,1,"NORMAN CTY WEST",304765,314104,9339,235,1297,1337,40,312479,321845,9366,231,1353,1393,40,617244,635949,18705,466,1324.5579399141632,1364.6974248927038,40.139484978540771]
[2534,1,"BIRD ISLAND-OLIVIA-LAKE LILLIAN",489780,500584,10804,687,713,729,16,528111,540513,12401,683,773,791,18,1017891,1041097,23205,1370,742.9861313868613,759.92481751824812,16.937956204379564]
[2536,1,"GRANADA HUNTLEY-",24175,27513,3338,247,98,111,13,27511,32133,4622,246,112,131,19,51686,59646,7960,493,104.83975659229209,120.98580121703854,16.146044624746452]
[2580,1,"EAST CENTRAL",869383,886493,17110,720,1207,1231,24,912462,935603,23141,696,1311,1344,33,1781845,1822096,40251,1416,1258.3651129943503,1286.7909604519773,28.425847457627118]
[2609,1,"WIN-E-MAC",393324,404260,10936,422,932,958,26,413608,424303,10695,418,989,1015,26,806932,828563,21631,840,960.63333333333333,986.38452380952378,25.751190476190477]
[2683,1,"GREENBUSH-MIDDLE RIV",473010,480286,7276,380,1245,1264,19,493669,499961,6292,379,1303,1319,16,966679,980247,13568,759,1273.6218708827405,1291.498023715415,17.87615283267457]
[2687,1,"HOWARD LAKE-WAVERLY-WINSTED",1357279,1377869,20590,1161,1169,1187,18,1452015,1473027,21012,1178,1233,1250,17,2809294,2850896,41602,2339,1201.0662676357417,1218.8525010688329,17.786233433091066]
[2689,1,"PIPESTONE-JASPER",1683723,1701051,17329,1145,1471,1486,15,1785022,1803049,18027,1143,1562,1577,15,3468745,3504100,35356,2288,1516.0598776223776,1531.5122377622379,15.452797202797203]
[2711,1,"MESABI EAST",1373157,1401145,27987,923,1488,1518,30,1466780,1488828,22048,921,1593,1617,24,2839937,2889973,50035,1844,1540.0959869848157,1567.2304772234274,27.133947939262473]
[2752,1,"FAIRMONT AREA SCHOOLS",1450530,1472151,21621,1718,844,857,13,1542016,1566216,24200,1706,904,918,14,2992546,3038367,45821,3424,873.99123831775705,887.37353971962614,13.382301401869158]
[2753,1,"LONG PRAIRIE-GREY EA",563200,592057,28857,888,634,667,33,609797,642003,32207,893,683,719,36,1172997,1234060,61064,1781,658.6170690623245,692.90286355979788,34.286355979786634]
[2754,1,"CEDAR MOUNTAIN",892048,892048,0,493,1809,1809,0,920511,924440,3929,480,1918,1926,8,1812559,1816488,3929,973,1862.8561151079136,1866.8941418293937,4.0380267214799588]
[2759,1,"EAGLE BEND-CLARISSA",48147,55033,6886,226,213,244,31,57980,65553,7574,226,257,290,33,106127,120586,14460,452,234.79424778761063,266.78318584070797,31.991150442477878]
[2769,1,"MORRIS AREA PUBLIC SCHOOLS",1286550,1316092,29542,965,1333,1364,31,1373184,1404241,31056,979,1403,1434,31,2659734,2720333,60598,1944,1368.1759259259259,1399.3482510288065,31.171810699588477]
[2805,1,"ZUMBROTA-MAZEPPA",1021489,1036215,14726,1136,899,912,13,1082073,1096033,13961,1128,959,972,13,2103562,2132248,28687,2264,929.13515901060066,941.80565371024738,12.670936395759718]
[2835,1,"JANESVILLE-WALDO",855854,872948,17094,558,1534,1564,30,836876,846880,10004,535,1564,1583,19,1692730,1719828,27098,1093,1548.7008234217749,1573.4931381518757,24.792314730100639]
[2853,1,"LAC QUI PARLE",847032,863848,16816,749,1131,1153,22,905233,922890,17657,743,1218,1242,24,1752265,1786738,34473,1492,1174.4403485254691,1197.5455764075068,23.105227882037532]
[2854,1,"ADA-BORUP",536405,558308,21903,483,1111,1156,45,524804,526254,1450,470,1117,1120,3,1061209,1084562,23353,953,1113.5456453305351,1138.0503672612801,24.504721930745017]
[2856,1,"STEPHEN-ARGYLE",426428,426428,0,299,1426,1426,0,438015,446872,8857,291,1505,1536,31,864443,873300,8857,590,1465.1576271186441,1480.1694915254238,15.011864406779662]
[2859,1,"GLENCOE-SILVER LAKE",1884252,1932089,47837,1566,1203,1234,31,2044178,2097201,53024,1579,1295,1328,33,3928430,4029290,100861,3145,1249.1033386327504,1281.1732909379969,32.070270270270271]
[2860,1,"BLUE EARTH-DELAVAN-ELMORE",809995,824695,14700,1135,714,727,13,857609,875860,18251,1117,768,784,16,1667604,1700555,32951,2252,740.49911190053285,755.13099467140319,14.631882770870337]
[2884,1,"RED ROCK CENTRAL",290183,290771,588,379,765,767,2,296187,303014,6827,364,813,832,19,586370,593785,7415,743,789.19246298788698,799.17227456258411,9.9798115746971732]
[2886,1,"GLENVILLE-EMMONS",189301,196551,7250,338,560,582,22,207456,215469,8013,340,610,634,24,396757,412020,15263,678,585.18731563421829,607.69911504424783,22.5117994100295]
[2888,1,"CLINTON-GRACEVILLE-BEARDSLEY",344240,353598,9358,336,1023,1051,28,361381,368764,7383,337,1071,1093,22,705621,722362,16741,{"$f":"G330+N330","v":673},1048.4710252600298,1073.3462109955424,24.87518573551263]
[2889,1,"LAKE PARK-AUDUBON",323932,338593,14661,727,446,466,20,339115,355998,16883,737,460,483,23,{"$f":"D331+K331","v":663047},694591,31544,1464,{"$f":"R331/U331","v":452.90095628415298},{"$f":"S331/U331","v":474.4474043715847},{"$f":"T331/U331","v":21.546448087431695}]
[2890,1,"RENVILLE CTY WEST",468146,483664,15517,509,920,951,31,493439,510020,16581,496,996,1029,33,961585,993684,32098,1005,956.80099502487565,988.74029850746274,31.938308457711443]
[2895,1,"JACKSON COUNTY CENTRAL",1123854,1142741,18888,1175,956,973,17,1192799,1210439,17640,1170,1019,1035,16,2316653,2353180,36528,2345,987.9117270788912,1003.4882729211088,15.576972281449894]
[2897,1,"REDWOOD AREA SCHOOLS",1005997,1024485,18488,1112,905,921,16,1075348,1096325,20977,1099,978,998,20,2081345,2120810,39465,2211,941.35911352329265,959.2085029398462,17.849389416553596]
[2898,1,"WESTBROOK-WALNUT GROVE",363502,371858,8356,383,948,970,22,373365,381858,8492,374,997,1020,23,736867,753716,16848,757,973.40422721268169,995.66182298546892,22.256274768824305]
[2899,1,"PLAINVIEW-ELGIN-MILLVILLE",1115651,1139988,24337,1454,767,784,17,1162817,1186868,24051,1464,794,811,17,2278468,2326856,48388,2918,780.83207676490747,797.41466758053457,16.582590815627142]
[2902,1,"RTR",436200,444792,8592,609,716,730,14,484360,493576,9216,624,776,791,15,920560,938368,17808,1233,746.60178426601783,761.0446066504461,14.442822384428224]
[2903,1,"ORTONVILLE",646415,667824,21409,486,1330,1374,44,674259,695720,21460,481,1402,1446,44,1320674,1363544,42869,967,1365.7435367114788,1410.076525336091,44.331954498448809]
[2904,1,"TRACY-BALATON",509386,522084,12698,733,695,712,17,552182,566795,14613,730,756,776,20,1061568,1088879,27311,1463,725.61038961038957,744.27819548872185,18.667805878332196]
[2905,1,"TRI-CITY UNITED",1339194,1379184,39990,1942,690,710,20,1545478,1593750,48272,2006,770,794,24,2884672,2972934,88262,3948,730.66666666666663,753.02279635258355,22.356129685916919]
[2906,1,"RED LAKE COUNTY CENTRAL PUBLIC SCHOOLS",547208,547208,0,388,1410,1410,0,578208,578251,42,391,1479,1479,0,1125416,1125459,42,779,1444.6931964056482,1444.7483953786907,5.391527599486521E-2]
[2907,1,"ROUND LAKE-BREWSTER PUBLIC SCHOOLS",-113488,-105373,8115,305,-372,-345,27,-100353,-89597,10756,334,-300,-268,32,-213841,-194970,18871,639,-334.64945226917058,-305.11737089201876,29.532081377151801]
[2908,1,"BRANDON-EVANSVILLE PUBLIC SCHOOLS",115502,115502,0,476,243,243,0,123134,123134,0,484,254,254,0,238636,238636,0,960,248.57916666666668,248.57916666666668,0]
[3000,1,"NEW REFERENDUM GROWTH",0,0,0,0,0,0,0,0,0,0,0,0,0,0,0,0,0,0,{"$error":"#DIV/0!"},{"$error":"#DIV/0!"},{"$error":"#DIV/0!"}]
[3999,1,"MDE DST EST (FUDGE)",0,0,0,792,0,0,0,0,0,0,2794,0,0,0,0,0,0,3586,0,0,0]
[4000,7,"CITY ACADEMY",0,0,0,110,0,0,0,0,0,0,30,0,0,0,0,0,0,140,0,0,0]
[4001,7,"BLUFFVIEW MONTESSORI",232323,232244,-79,204,1139,1138,-1,235718,235556,-161,205,1150,1149,-1,468041,467800,-240,409,1144.3545232273839,1143.7652811735941,-0.58679706601466997]
[4003,7,"NEW HEIGHTS SCHOOL, INC.",125881,125881,0,136,926,926,0,128446,128446,0,139,924,924,0,254327,254327,0,275,924.82545454545459,924.82545454545459,0]
[4004,7,"CEDAR RIVERSIDE COMMUNITY SCHO",626804,626722,-82,176,3561,3561,0,639236,639063,-173,185,3455,3454,-1,1266040,1265785,-255,361,3507.0360110803326,3506.3296398891966,-0.7063711911357341]
[4005,7,"METRO DEAF CHARTER SCHOOL",6658576,6656853,-1722,35,190245,190196,-49,6814124,6810664,-3461,33,206489,206384,-105,13472700,13467517,-5183,68,198127.9411764706,198051.7205882353,-76.220588235294116]
[4007,7,"MINNESOTA NEW COUNTRY SCHOOL",351859,351847,-12,151,2330,2330,0,358935,358914,-21,139,2582,2582,0,710794,710761,-33,290,2451.0137931034483,2450.9,-0.11379310344827587]
[4008,7,"PACT CHARTER SCHOOL",1228115,1227843,-272,640,1919,1919,0,1250996,1250454,-542,628,1992,1991,-1,2479111,2478297,-814,1268,1955.134858044164,1954.4929022082019,-0.64195583596214512]
[4011,7,"NEW VISIONS CHARTER SCHOOL",1938628,1938318,-310,1105,1754,1754,0,1967153,1966524,-629,1100,1788,1788,0,3905781,3904842,-939,2205,1771.3292517006803,1770.9034013605442,-0.42585034013605444]
[4015,7,"COMMUNITY OF PEACE ACADEMY",1564196,1563926,-270,768,2037,2037,0,1596348,1595799,-549,768,2079,2078,-1,3160544,3159725,-819,1536,2057.6458333333335,2057.1126302083335,-0.533203125]
[4016,7,"WORLD LEARNER CHARTER SCHOOL",399981,399981,0,218,1835,1835,0,408285,408285,0,211,1935,1935,0,808266,808266,0,429,1884.06993006993,1884.06993006993,0]
[4017,7,"MINNESOTA TRANSITIONS CHARTER",3021522,3022925,1402,2820,1071,1072,1,3094565,3094391,-174,2481,1247,1247,0,6116087,6117316,1228,5301,1153.7609884927372,1153.9928315412187,0.23165440482927749]
[4018,7,"ACHIEVE LANGUAGE ACADEMY",360435,360429,-6,444,812,812,0,368348,368335,-13,450,819,819,0,728783,728764,-19,894,815.19351230425059,815.17225950782995,-2.1252796420581657E-2]
[4020,7,"DULUTH PUBLIC SCHOOLS ACADEMY",5604004,5601541,-2463,1408,3980,3978,-2,5677189,5670960,-6230,1729,3284,3280,-4,11281193,11272501,-8693,3137,3596.1724577621931,3593.401657634683,-2.7711189034109021]
[4025,7,"CYBER VILLAGE ACADEMY",592936,592905,-31,154,3850,3850,0,605045,604996,-50,142,4261,4261,0,1197981,1197901,-81,296,4047.2331081081079,4046.9628378378379,-0.27364864864864863]
[4026,7,"E.C.H.O. CHARTER SCHOOL",162693,162690,-3,95,1713,1713,0,165330,165324,-6,88,1879,1879,0,328023,328014,-9,183,1792.4754098360656,1792.4262295081967,-4.9180327868852458E-2]
[4027,7,"HIGHER GROUND ACADEMY",293898,293898,0,760,387,387,0,300351,300351,0,760,395,395,0,594249,594249,0,1520,390.95328947368421,390.95328947368421,0]
[4029,7,"NEW SPIRIT SCHOOLS",936675,936478,-198,394,2378,2378,0,956153,955766,-387,393,2434,2433,-1,1892828,1892244,-585,787,2405.1181702668359,2404.3761118170269,-0.74332909783989831]
[4030,7,"ODYSSEY CHARTER SCHOOL",773129,773112,-17,360,2148,2148,0,787053,787017,-36,370,2127,2127,0,1560182,1560129,-53,730,2137.2356164383564,2137.16301369863,-7.260273972602739E-2]
[4031,7,"JENNINGS EXPERIENTIAL HIGH SCH",83279,83279,0,86,968,968,0,85158,85158,0,71,1199,1199,0,168437,168437,0,157,1072.8471337579617,1072.8471337579617,0]
[4032,7,"HARVEST PREP SCHOOL/SEED ACADE",1116782,1116388,-394,430,2597,2596,-1,1134787,1133971,-816,440,2579,2577,-2,2251569,2250359,-1210,870,2588.0103448275863,2586.6195402298849,-1.3908045977011494]
[4035,7,"CONCORDIA CREATIVE LEARNING AC",719630,719629,-1,350,2056,2056,0,732483,732480,-3,350,2093,2093,0,1452113,1452109,-4,700,2074.4471428571428,2074.4414285714288,-5.7142857142857143E-3]
[4036,7,"FACE TO FACE ACADEMY",277701,277659,-42,48,5785,5785,0,283331,283251,-80,48,5903,5901,-2,561032,560910,-122,96,5844.083333333333,5842.8125,-1.2708333333333333]
[4038,7,"SOJOURNER TRUTH ACADEMY",1462174,1461849,-325,444,3293,3292,-1,1489459,1488779,-680,460,3238,3236,-2,2951633,2950628,-1005,904,3265.0807522123896,3263.9690265486724,-1.1117256637168142]
[4039,7,"HIGH SCHOOL FOR RECORDING ARTS",684320,684311,-9,315,2172,2172,0,698863,698844,-19,320,2184,2184,0,1383183,1383155,-28,635,2178.2409448818898,2178.196850393701,-4.4094488188976377E-2]
[4042,7,"TWIN CITIES ACADEMY",304060,304060,0,0,0,0,0,310806,310806,0,0,0,0,0,614866,614866,0,0,{"$error":"#DIV/0!"},{"$error":"#DIV/0!"},{"$error":"#DIV/0!"}]
[4043,7,"MATH & SCIENCE ACADEMY",444346,444346,0,477,932,932,0,454946,454946,0,540,842,842,0,899292,899292,0,1017,884.25958702064895,884.25958702064895,0]
[4045,7,"LAKES AREA CHARTER SCHOOL",0,0,0,0,0,0,0,0,0,0,0,0,0,0,0,0,0,0,{"$error":"#DIV/0!"},{"$error":"#DIV/0!"},{"$error":"#DIV/0!"}]
[4049,7,"COON RAPIDS LEARNING CENTER",669491,669491,0,180,3719,3719,0,683739,683739,0,180,3799,3799,0,1353230,1353230,0,360,3758.9722222222222,3758.9722222222222,0]
[4050,7,"LAFAYETTE PUBLIC CHARTER SCHOO",106891,106891,0,96,1113,1113,0,109096,109096,0,104,1049,1049,0,215987,215987,0,200,1079.9349999999999,1079.9349999999999,0]
[4053,7,"NORTH LAKES ACADEMY",495881,495880,-1,417,1189,1189,0,506526,506524,-2,420,1206,1206,0,1002407,1002404,-3,837,1197.6188769414575,1197.615292712067,-3.5842293906810036E-3]
[4054,7,"LACRESCENT MONTESSORI ACADEMY",161213,161205,-8,76,2121,2121,0,165204,165188,-16,78,2118,2118,0,326417,326393,-24,154,2119.590909090909,2119.4350649350649,-0.15584415584415584]
[4055,7,"NERSTRAND CHARTER SCHOOL",247126,247054,-73,150,1648,1647,-1,252011,251864,-146,148,1703,1702,-1,499137,498918,-219,298,1674.9563758389261,1674.2214765100671,-0.7348993288590604]
[4056,7,"ROCHESTER OFF-CAMPUS CHARTER H",264849,264686,-163,108,2452,2451,-1,270377,270039,-338,110,2458,2455,-3,535226,534725,-501,218,2455.1651376146788,2452.8669724770643,-2.2981651376146788]
[4057,7,"EL COLEGIO CHARTER SCHOOL",98523,98523,0,110,896,896,0,100536,100536,0,105,957,957,0,199059,199059,0,215,925.85581395348834,925.85581395348834,0]
[4058,7,"SCHOOLCRAFT LEARNING COMMUNITY",853522,853480,-42,187,4564,4564,0,870574,870488,-85,185,4706,4705,-1,1724096,1723968,-127,372,4634.666666666667,4634.322580645161,-0.34139784946236557]
[4059,7,"CROSSLAKE COMMUNITY CHARTER SC",342779,342771,-9,150,2285,2285,0,349275,349259,-16,147,2376,2376,0,692054,692030,-25,297,2330.1481481481483,2330.06734006734,-8.4175084175084181E-2]
[4064,7,"RIVERWAY LEARNING COMMUNITY CH",267623,267623,0,106,2525,2525,0,272463,272463,0,108,2523,2523,0,540086,540086,0,214,2523.766355140187,2523.766355140187,0]
[4066,7,"RIVERBEND ACADEMY",179979,179976,-4,65,2769,2769,0,183533,183526,-6,60,3059,3059,0,363512,363502,-10,125,2908.096,2908.0160000000001,-0.08]
[4067,7,"AURORA CHARTER SCHOOL",239214,239213,-1,385,621,621,0,244313,244310,-2,382,640,640,0,483527,483523,-3,767,630.41329856584093,630.40808344198172,-3.9113428943937422E-3]
[4068,7,"EXCELL ACADEMY CHARTER",580644,580576,-68,568,1022,1022,0,625370,633204,7834,608,1029,1041,12,1206014,1213780,7766,1176,1025.5221088435374,1032.1258503401361,6.6037414965986398]
[4070,7,"HOPE COMMUNITY ACADEMY",468528,468524,-4,520,901,901,0,478476,478468,-8,530,903,903,0,947004,946992,-12,1050,901.90857142857146,901.89714285714285,-1.1428571428571429E-2]
[4073,7,"ACADEMIA CESAR CHAVEZ CHARTER",687555,687415,-140,527,1305,1304,-1,700621,700331,-290,540,1297,1297,0,1388176,1387746,-430,1067,1301.0084348641049,1300.6054358013121,-0.40299906279287723]
[4074,7,"AGRICULTURAL FOOD SCIENCE ACAD",1397608,1398351,743,465,3006,3007,1,1426794,1426918,124,425,3357,3357,0,2824402,2825269,867,890,3173.4853932584269,3174.4595505617976,0.97415730337078654]
[4075,7,"AVALON SCHOOL",729131,729034,-96,200,3646,3645,-1,744216,744043,-174,173,4302,4301,-1,1473347,1473077,-270,373,3949.9919571045575,3949.2680965147451,-0.72386058981233248]
[4077,7,"TWIN CITIES INTERNATIONAL ELEM",557365,557273,-92,581,959,959,0,570462,570278,-185,571,999,999,0,1127827,1127551,-277,1152,979.01649305555554,978.77690972222217,-0.2404513888888889]
[4078,7,"MN INTERNATIONAL MIDDLE CHARTE",628050,627453,-597,458,1371,1370,-1,639384,638136,-1248,476,1343,1341,-2,1267434,1265589,-1845,934,1356.9957173447538,1355.0203426124197,-1.9753747323340471]
[4079,7,"FRIENDSHIP ACDMY OF FINE ARTS",253002,253002,-1,145,1745,1745,0,257934,257933,-1,147,1755,1755,0,510936,510935,-2,292,1749.7808219178082,1749.777397260274,-6.8493150684931503E-3]
[4080,7,"PILLAGER AREA CHARTER SCHOOL",85201,85192,-9,43,1981,1981,0,86911,86892,-19,44,1975,1975,0,172112,172084,-28,87,1978.2988505747126,1977.9770114942528,-0.32183908045977011]
[4081,7,"COVENANT ACADEMY OF MN. CHTR.",222501,222379,-122,55,4045,4043,-2,226746,226492,-255,57,3978,3974,-4,449247,448871,-377,{"$f":"G394+N394","v":112},4011.1339285714284,4007.7767857142858,-3.3660714285714284]
[4082,7,"BLUESKY CHARTER SCHOOL",600767,600335,-432,490,1226,1225,-1,613459,612616,-843,460,1334,1332,-2,{"$f":"D395+K395","v":1214226},1212951,-1275,950,{"$f":"R395/U395","v":1278.1326315789474},{"$f":"S395/U395","v":1276.7905263157895},{"$f":"T395/U395","v":-1.3421052631578947}]
[4083,7,"RIDGEWAY COMMUNITY SCHOOL",145307,145307,0,97,1498,1498,0,147744,147744,0,94,1572,1572,0,293051,293051,0,191,1534.2984293193717,1534.2984293193717,0]
[4084,7,"NORTH SHORE COMMUNITY SCHOOL",262975,262719,-256,340,773,773,0,268258,267724,-534,350,766,765,-1,531233,530443,-790,690,769.90289855072467,768.7579710144928,-1.144927536231884]
[4085,7,"HARBOR CITY INTERNATIONAL CHAR",454836,454827,-9,200,2274,2274,0,464623,464604,-19,200,2323,2323,0,919459,919431,-28,400,2298.6475,2298.5774999999999,-7.0000000000000007E-2]
[4086,7,"WOODSON INSTITUTE FOR EXCELLEN",0,0,0,0,0,0,0,0,0,0,0,0,0,0,0,0,0,0,{"$error":"#DIV/0!"},{"$error":"#DIV/0!"},{"$error":"#DIV/0!"}]
[4087,7,"SAGE ACADEMY CHARTER SCHOOL",350962,350962,0,80,4387,4387,0,357236,357236,0,80,4465,4465,0,708198,708198,0,160,4426.2375000000002,4426.2375000000002,0]
[4088,7,"URBAN ACADEMY CHARTER SCHOOL",421622,421574,-48,316,1334,1334,0,429831,429734,-97,316,1360,1360,0,851453,851308,-145,632,1347.2357594936709,1347.006329113924,-0.22943037974683544]
[4089,7,"NEW CITY SCHOOL",251538,251501,-37,288,873,873,0,257126,257034,-92,356,722,722,0,508664,508535,-129,644,789.85093167701859,789.6506211180124,-0.20031055900621117]
[4090,7,"PRAIRIE CREEK COMMUNITY SCHOOL",356163,356156,-7,180,1979,1979,0,363215,363200,-15,180,2018,2018,0,719378,719356,-22,360,1998.2722222222221,1998.2111111111112,-6.1111111111111109E-2]
[4091,7,"ARTECH",531166,531166,0,123,4318,4318,0,542260,542260,0,124,4373,4373,0,1073426,1073426,0,247,4345.8542510121461,4345.8542510121461,0]
[4092,7,"WATERSHED HIGH SCHOOL",131179,131179,0,64,2050,2050,0,133711,133711,0,64,2089,2089,0,264890,264890,0,128,2069.453125,2069.453125,0]
[4093,7,"NEW CENTURY CHARTER SCHOOL",368587,368587,0,130,2835,2835,0,375824,375824,0,120,3132,3132,0,744411,744411,0,250,2977.6439999999998,2977.6439999999998,0]
[4095,7,"TRIO WOLF CREEK DISTANCE LEARN",211530,211530,0,200,1058,1058,0,215646,215646,0,200,1078,1078,0,427176,427176,0,400,1067.94,1067.94,0]
[4097,7,"PARTNERSHIP ACADEMY, INC.",737326,737309,-16,291,2534,2534,0,751079,751046,-33,295,2546,2546,0,1488405,1488355,-49,586,2539.9402730375427,2539.8549488054609,-8.3617747440273033E-2]
[4098,7,"NOVA CLASSICAL ACADEMY",723277,723263,-14,958,755,755,0,738893,738863,-30,991,746,746,0,1462170,1462126,-44,1949,750.2154951257055,750.19291944586962,-2.2575679835813236E-2]
[4100,7,"GREAT EXPECTATIONS",339149,339110,-40,102,3325,3325,0,346055,345971,-84,106,3265,3264,-1,685204,685081,-124,208,3294.25,3293.6586538461538,-0.59615384615384615]
[4102,7,"MINNESOTA INTERNSHIP CENTER",782997,784579,1583,550,1424,1427,3,796122,807108,10987,550,1447,1467,20,1579119,1591687,12570,1100,1435.5627272727272,1446.9881818181818,11.427272727272728]
[4103,7,"HMONG ACADEMY",1336092,1336086,-5,1625,822,822,0,1364251,1364240,-11,1725,791,791,0,2700343,2700326,-16,3350,806.0725373134328,806.06746268656718,-4.7761194029850747E-3]
[4104,7,"LIBERTY HIGH SCHOOL",1243991,1243814,-177,280,4443,4442,-1,1272364,1272123,-241,110,11567,11565,-2,2516355,2515937,-418,390,6452.1923076923076,6451.1205128205129,-1.0717948717948718]
[4105,7,"GREAT RIVER SCHOOL",569064,569064,0,425,1339,1339,0,580957,580957,0,406,1431,1431,0,1150021,1150021,0,831,1383.9001203369435,1383.9001203369435,0]
[4106,7,"TREKNORTH HIGH SCHOOL",500568,500548,-19,235,2130,2130,0,510912,510873,-39,230,2221,2221,0,1011480,1011421,-58,465,2175.2258064516127,2175.0989247311827,-0.12473118279569892]
[4107,7,"VOYAGEURS EXPEDITIONARY",251905,251905,0,112,2249,2249,0,257256,257256,0,112,2297,2297,0,509161,509161,0,224,2273.0401785714284,2273.0401785714284,0]
[4109,7,"SOBRIETY HIGH",0,0,0,0,0,0,0,0,0,0,0,0,0,0,0,0,0,0,{"$error":"#DIV/0!"},{"$error":"#DIV/0!"},{"$error":"#DIV/0!"}]
[4110,7,"MAIN STREET SCHOOL PERFORMING",331719,331719,0,365,909,909,0,338761,338761,0,375,903,903,0,670480,670480,0,740,906.05405405405406,906.05405405405406,0]
[4111,7,"AUGSBURG ACADEMY FOR HEALTH CA",519616,519299,-317,120,4330,4327,-3,528631,527985,-646,120,4405,4400,-5,1048247,1047284,-963,240,4367.6958333333332,4363.6833333333334,-4.0125000000000002]
[4112,7,"ST PAUL CONSERVATORY PERFORMIN",290388,290388,0,595,488,488,0,297136,297136,0,620,479,479,0,587524,587524,0,1215,483.55884773662552,483.55884773662552,0]
[4113,7,"FRASER ACADEMY",3703157,3702658,-499,105,35268,35263,-5,3770123,3769091,-1031,107,35235,35225,-10,7473280,7471749,-1530,212,35251.32075471698,35244.099056603773,-7.216981132075472]
[4115,7,"MINNEAPOLIS ACADEMY CHARTER SC",202173,202173,0,0,0,0,0,206355,206355,0,0,0,0,0,408528,408528,0,0,{"$error":"#DIV/0!"},{"$error":"#DIV/0!"},{"$error":"#DIV/0!"}]
[4116,7,"LAKES INTERNATIONAL LANGUAGE A",674561,674533,-27,1151,586,586,0,687728,687657,-71,1433,480,480,0,1362289,1362190,-98,2584,527.20162538699685,527.16331269349848,-3.7925696594427245E-2]
[4118,7,"KALEIDOSCOPE CHARTER SCHOOL",1226357,1225729,-628,663,1850,1849,-1,1248670,1247328,-1342,691,1807,1805,-2,2475027,2473057,-1970,1354,1827.937223042836,1826.4822747415067,-1.4549483013293945]
[4119,7,"RIVER HEIGHTS CHARTER SCHOOL",371514,371514,0,93,3995,3995,0,379518,379518,0,55,6900,6900,0,751032,751032,0,148,5074.5405405405409,5074.5405405405409,0]
[4120,7,"ST. CROIX PREPARATORY ACADEMY",1032448,1032372,-76,1150,898,898,0,1054034,1053878,-156,1159,909,909,0,2086482,2086250,-232,2309,903.63014291901254,903.52966652230407,-0.10047639670853183]
[4121,7,"UBAH MEDICAL ACADEMY CHARTER S",544616,544451,-164,400,1362,1361,-1,558664,558329,-334,400,1397,1396,-1,1103280,1102780,-498,800,1379.1,1378.4749999999999,-0.62250000000000005]
[4122,7,"EAGLE RIDGE ACADEMY CHARTER SC",981218,981043,-175,1386,708,708,0,1004880,1004499,-381,1477,680,680,0,1986098,1985542,-556,2863,693.71219001047848,693.51798812434504,-0.19420188613342648]
[4123,7,"DAKOTA AREA COMMUNITY CHARTER",0,0,0,0,0,0,0,0,0,0,0,0,0,0,0,0,0,0,{"$error":"#DIV/0!"},{"$error":"#DIV/0!"},{"$error":"#DIV/0!"}]
[4124,7,"BEACON ACADEMY",1130706,1130515,-191,412,2744,2744,0,1151327,1150940,-386,408,2822,2821,-1,2282033,2281455,-577,820,2782.9670731707315,2782.2621951219512,-0.70365853658536581]
[4126,7,"PRAIRIE SEEDS ACADEMY",361858,361681,-177,766,472,472,0,369276,368912,-365,778,475,474,-1,731134,730593,-542,1544,473.5323834196891,473.18199481865287,-0.35103626943005184]
[4127,7,"TEAM ACADEMY",276632,276622,-10,118,2344,2344,0,281790,281769,-21,120,2348,2348,0,558422,558391,-31,238,2346.3109243697477,2346.1806722689075,-0.13025210084033614]
[4131,7,"LIGHTHOUSE ACADEMY OF NATIONS",533164,533164,0,300,1777,1777,0,543257,543257,0,300,1811,1811,0,1076421,1076421,0,600,1794.0350000000001,1794.0350000000001,0]
[4132,7,"TWIN CITIES ACADEMY HIGH SCHOOL",495430,512767,17337,620,799,827,28,511654,527944,16289,630,812,838,26,1007084,1040711,33626,1250,805.66719999999998,832.56880000000001,26.9008]
[4133,7,"BEACON PREPARATORY SCHOOL",0,0,0,0,0,0,0,0,0,0,0,0,0,0,0,0,0,0,{"$error":"#DIV/0!"},{"$error":"#DIV/0!"},{"$error":"#DIV/0!"}]
[4135,7,"ADAM ABDULLE ACADEMY",426133,426059,-74,350,1218,1217,-1,433646,433496,-151,350,1239,1239,0,859779,859555,-225,700,1228.2557142857142,1227.9357142857143,-0.32142857142857145]
[4137,7,"SWAN RIVER MONTESSORI CHARTER",481980,481959,-21,150,3213,3213,0,491002,490959,-43,150,3273,3273,0,972982,972918,-64,300,3243.2733333333335,3243.06,-0.21333333333333335]
[4138,7,"MILROY AREA CHARTER SCHOOL",16530,16525,-5,49,337,337,0,16812,16801,-10,48,350,350,0,33342,33326,-15,97,343.73195876288662,343.56701030927837,-0.15463917525773196]
[4139,7,"LOVEWORKS ACADEMY FOR ARTS",618999,618997,-2,306,2023,2023,0,714990,726574,11584,302,2368,2406,38,1333989,1345571,11582,608,2194.0608552631579,2213.1101973684213,19.049342105263158]
[4140,7,"YINGHUA ACADEMY",495102,495097,-5,748,662,662,0,505494,505482,-12,829,610,610,0,1000596,1000579,-17,1577,634.4933417882055,634.48256182625232,-1.077996195307546E-2]
[4141,7,"PAIDEIA ACADEMY CHARTER SCHOOL",876290,876289,-2,0,0,0,0,894361,894357,-4,0,0,0,0,1770651,1770646,-6,0,{"$error":"#DIV/0!"},{"$error":"#DIV/0!"},{"$error":"#DIV/0!"}]
[4142,7,"STRIDE ACADEMY CHARTER SCHOOL",882135,881752,-383,722,1222,1221,-1,899830,899041,-789,732,1229,1228,-1,1781965,1780793,-1172,1454,1225.560522696011,1224.7544704264099,-0.80605226960110044]
[4143,7,"NEW MILLENNIUM ACADEMY CHARTER",1070522,1070522,0,660,1622,1622,0,1092511,1092511,0,695,1572,1572,0,2163033,2163033,0,1355,1596.3343173431733,1596.3343173431733,0]
[4144,7,"GREEN ISLE COMMUNITY SCHOOL",179916,179896,-20,60,2999,2998,-1,183609,183566,-43,65,2825,2824,-1,363525,363462,-63,125,2908.2,2907.6959999999999,-0.504]
[4145,7,"BIRCH GROVE COMMUNITY SCHOOL",133155,133155,0,30,4439,4439,0,135544,135544,0,34,3987,3987,0,268699,268699,0,64,4198.421875,4198.421875,0]
[4146,7,"NORTHERN LIGHTS COMMUNITY SCHO",909669,909659,-9,90,10107,10107,0,927013,926995,-17,80,11588,11587,-1,1836682,1836654,-26,170,10804.011764705883,10803.847058823529,-0.15294117647058825]
[4150,7,"MINNESOTA ONLINE HIGH SCHOOL",246311,246100,-211,158,1559,1558,-1,251163,250735,-429,158,1590,1587,-3,497474,496835,-640,316,1574.2848101265822,1572.2626582278481,-2.0253164556962027]
[4151,7,"EDVISIONS OFF CAMPUS SCHOOL",307542,307539,-3,115,2674,2674,0,313473,313467,-6,112,2799,2799,0,621015,621006,-9,227,2735.7488986784142,2735.7092511013216,-3.9647577092511016E-2]
[4152,7,"TWIN CITIES GERMAN IMMERSION C",782132,782132,0,554,1412,1412,0,797878,797878,0,594,1343,1343,0,1580010,1580010,0,1148,1376.3153310104531,1376.3153310104531,0]
[4153,7,"DUGSI ACADEMY",554488,554389,-100,387,1433,1433,0,563160,562953,-207,398,1415,1414,-1,1117648,1117342,-307,785,1423.7554140127388,1423.3656050955415,-0.39108280254777072]
[4155,7,"NAYTAUWAUSH COMMUNITY SCHOOL",348729,348623,-106,108,3229,3228,-1,355896,355681,-215,108,3295,3293,-2,704625,704304,-321,216,3262.1527777777778,3260.6666666666665,-1.4861111111111112]
[4159,7,"SEVEN HILLS CLASSICAL ACADEMY",1309938,1309979,42,916,1430,1430,0,1330551,1330563,12,989,1345,1345,0,2640489,2640542,54,1905,1386.083464566929,1386.1112860892388,2.8346456692913385E-2]
[4160,7,"SPECTRUM HIGH SCHOOL",579401,579379,-22,655,885,885,0,591498,591453,-45,655,903,903,0,1170899,1170832,-67,1310,893.81603053435117,893.76488549618318,-5.114503816793893E-2]
[4161,7,"NEW DISCOVERIES MONTESSORI ACADEMY",970503,970479,-25,191,5076,5076,0,986590,986532,-58,220,4480,4480,0,1957093,1957011,-83,411,4761.7834549878344,4761.5839416058398,-0.20194647201946472]
[4162,7,"SOUTHSIDE FAMILY CHARTER SCHOOL",169291,169267,-24,120,1411,1411,0,173316,173266,-50,123,1409,1409,0,342607,342533,-74,243,1409.9053497942386,1409.6008230452676,-0.30452674897119342]
[4163,7,"LEARNING FOR LEADERSHIP CHARTER",862642,862598,-44,238,3625,3624,-1,878796,878707,-89,237,3708,3708,0,1741438,1741305,-133,475,3666.185263157895,3665.9052631578948,-0.28000000000000003]
[4164,7,"LAURA JEFFREY ACADEMY CHARTER",914593,914593,0,130,7035,7035,0,932003,932003,0,130,7169,7169,0,1846596,1846596,0,260,7102.292307692308,7102.292307692308,0]
[4166,7,"EAST RANGE ACADEMY OF TECH &SCIENCE",312112,311660,-452,130,2401,2397,-4,319956,319092,-863,115,2782,2775,-7,632068,630752,-1315,{"$f":"G458+N458","v":245},2579.8693877551023,2574.4979591836736,-5.3673469387755102]
[4167,7,"INTERNATIONAL SPANISH LANGUAGE ACAD",172642,172635,-8,346,499,499,0,176375,176359,-16,348,507,507,0,{"$f":"D459+K459","v":349017},348994,-24,694,{"$f":"R459/U459","v":502.9063400576369},{"$f":"S459/U459","v":502.87319884726224},{"$f":"T459/U459","v":-3.4582132564841501E-2}]
[4168,7,"GLACIAL HILLS ELEMENTARY",270718,270570,-148,116,2334,2332,-2,275748,275447,-301,116,2377,2375,-2,546466,546017,-449,232,2355.4568965517242,2353.5215517241381,-1.9353448275862069]
[4169,7,"ELLIOT PARK COMMUNITY SCHOOL",924308,924228,-80,300,3081,3081,0,938830,938668,-162,300,3129,3129,0,1863138,1862896,-242,600,3105.23,3104.8266666666668,-0.40333333333333332]
[4170,7,"HIAWATHA LEADERSHIP ACADEMY",1114333,1114136,-197,1425,782,782,0,1136427,1136015,-412,1484,766,766,0,2250760,2250151,-609,2909,773.72292884152625,773.51357854932962,-0.20935029219663115]
[4171,7,"NOBLE ACADEMY",269113,269059,-54,890,302,302,0,274761,274650,-110,900,305,305,0,543874,543709,-164,1790,303.84022346368715,303.74804469273744,-9.1620111731843576E-2]
[4172,7,"CLARKFIELD CHARTER SCHOOL",142867,142867,0,51,2801,2801,0,145474,145474,0,44,3306,3306,0,288341,288341,0,95,3035.1684210526314,3035.1684210526314,0]
[4173,7,"DUNWOODY ACADEMY",0,0,0,0,0,0,0,0,0,0,0,0,0,0,0,0,0,0,{"$error":"#DIV/0!"},{"$error":"#DIV/0!"},{"$error":"#DIV/0!"}]
[4177,7,"MINISINAAKWAANG LEADERSHIP ACADEMY",174649,174649,0,31,5634,5634,0,178262,178262,0,31,5750,5750,0,352911,352911,0,62,5692.1129032258068,5692.1129032258068,0]
[4178,7,"LINCOLN INTERNATIONAL SCHOOL",133793,133793,0,160,836,836,0,136549,136549,0,160,853,853,0,270342,270342,0,320,844.81875000000002,844.81875000000002,0]
[4180,7,"EMILY O. GOODRIDGE-GREY ACCELERATED",0,0,0,0,0,0,0,0,0,0,0,0,0,0,0,0,0,0,{"$error":"#DIV/0!"},{"$error":"#DIV/0!"},{"$error":"#DIV/0!"}]
[4181,7,"COMMUNITY SCHOOL OF EXCELLENCE",721674,721550,-124,1070,674,674,0,736282,736021,-261,1120,657,657,0,1457956,1457571,-385,2190,665.73333333333335,665.5575342465753,-0.17579908675799086]
[4182,7,"QUEST ACADEMY",0,0,0,0,0,0,0,0,0,0,0,0,0,0,0,0,0,0,{"$error":"#DIV/0!"},{"$error":"#DIV/0!"},{"$error":"#DIV/0!"}]
[4183,7,"LIONSGATE ACADEMY",8438860,8445903,7044,197,42837,42873,36,8593629,8595604,1976,202,42543,42552,9,17032489,17041507,9020,399,42687.942355889725,42710.543859649122,22.606516290726816]
[4184,7,"ASPEN ACADEMY",295654,295643,-11,550,538,538,0,302027,302001,-26,634,476,476,0,597681,597644,-37,1184,504.79814189189187,504.76689189189187,-3.125E-2]
[4185,7,"DAVINCI ACADEMY",819531,819362,-170,405,2024,2023,-1,835248,834895,-353,412,2027,2026,-1,1654779,1654257,-523,817,2025.4332925336598,2024.7943696450429,-0.64014687882496935]
[4186,7,"GLOBAL ACADEMY",1021083,1020924,-159,432,2364,2363,-1,1041427,1041105,-322,432,2411,2410,-1,2062510,2062029,-481,864,2387.1643518518517,2386.6076388888887,-0.55671296296296291]
[4187,7,"MICHAEL FROME ACADEMY",65272,65272,0,91,717,717,0,66686,66686,0,102,654,654,0,131958,131958,0,193,683.72020725388597,683.72020725388597,0]
[4188,7,"COLOGNE ACADEMY",1597404,1597114,-290,641,2492,2492,0,1624808,1624183,-625,677,2400,2399,-1,3222212,3221297,-915,1318,2444.773899848255,2444.0796661608497,-0.69423368740515934]
[4189,7,"BRIGHT WATER ELEMENTARY",581792,581704,-89,193,3014,3014,0,591211,591010,-200,217,2724,2724,0,1173003,1172714,-289,410,2860.9829268292683,2860.278048780488,-0.70487804878048776]
[4190,7,"RIVERS EDGE ACADEMY",342281,342226,-56,74,4625,4625,0,348998,348886,-112,73,4781,4779,-2,691279,691112,-168,147,4702.5782312925166,4701.442176870748,-1.1428571428571428]
[4191,7,"KIPP MINNESOTA CHARTER SCHOOL",723751,723749,-2,515,1405,1405,0,1263104,1278320,15216,520,2429,2458,29,1986855,2002069,15214,1035,1919.6666666666667,1934.3661835748792,14.69951690821256]
[4192,7,"BEST ACADEMY",1502157,1499866,-2292,880,1707,1704,-3,1524529,1519898,-4631,870,1752,1747,-5,3026686,3019764,-6923,1750,1729.5348571428572,1725.5794285714285,-3.956]
[4193,7,"COLLEGE PREP ELEMENTARY",2070113,2069997,-116,408,5074,5074,0,2105549,2105310,-239,416,5061,5061,0,4175662,4175307,-355,824,5067.5509708737864,5067.1201456310682,-0.43082524271844658]
[4194,7,"CANNON RIVER STEM SCHOOL",545007,545000,-7,350,1557,1557,0,555849,555834,-16,370,1502,1502,0,1100856,1100834,-23,720,1528.9666666666667,1528.9361111111111,-3.1944444444444442E-2]
[4195,7,"OSHKI OGIMAAG",139765,139765,0,32,4368,4368,0,142085,142084,0,29,4899,4899,0,281850,281849,0,61,4620.4918032786882,4620.4754098360654,0]
[4198,7,"DISCOVERY WOODS MONTESSORI SCHOOL",311115,311113,-2,101,3080,3080,0,316842,316838,-5,107,2961,2961,0,627957,627951,-7,208,3019.0240384615386,3018.9951923076924,-3.3653846153846152E-2]
[4199,7,"PARNASSUS",899925,899844,-81,1046,860,860,0,917232,917058,-174,1104,831,831,0,1817157,1816902,-255,2150,845.18930232558137,845.07069767441862,-0.1186046511627907]
[4200,7,"STEP ACADEMY",49095,49095,0,225,218,218,0,50173,50173,0,235,214,214,0,99268,99268,0,460,215.8,215.8,0]
[4201,7,"CORNERSTONE MONTESSORI ELEMENTARY",472476,472476,0,140,3375,3375,0,481739,481739,0,140,3441,3441,0,954215,954215,0,280,3407.9107142857142,3407.9107142857142,0]
[4202,7,"MINNESOTA SCHOOL OF SCIENCE",0,0,0,0,0,0,0,0,0,0,0,0,0,0,0,0,0,0,{"$error":"#DIV/0!"},{"$error":"#DIV/0!"},{"$error":"#DIV/0!"}]
[4203,7,"MINNEAPOLIS COLLEGE PREPARATORY",120769,120760,-10,0,0,0,0,123193,123174,-20,0,0,0,0,243962,243934,-30,0,{"$error":"#DIV/0!"},{"$error":"#DIV/0!"},{"$error":"#DIV/0!"}]
[4204,7,"ROCHESTER STEM ACADEMY",69426,69335,-91,97,716,715,-1,70870,70685,-185,97,731,729,-2,140296,140020,-276,194,723.17525773195871,721.75257731958766,-1.4226804123711341]
[4205,7,"HENNEPIN ELEMENTARY SCHOOL",864778,864508,-270,365,2369,2369,0,880336,879787,-549,365,2412,2410,-2,1745114,1744295,-819,730,2390.5671232876712,2389.4452054794519,-1.1219178082191781]
[4207,7,"VERMILION COUNTRY SCHOOL",263560,263499,-62,61,4321,4320,-1,268538,268412,-127,62,4331,4329,-2,532098,531911,-189,123,4326,4324.4796747967475,-1.5365853658536586]
[4208,7,"NASHA SHKOLA CHARTER SCHOOL",73638,73638,0,136,541,541,0,75246,75246,0,145,519,519,0,148884,148884,0,281,529.83629893238435,529.83629893238435,0]
[4209,7,"THE MASTERY SCHOOL",719286,718760,-526,250,2877,2875,-2,731380,730310,-1071,250,2926,2921,-5,1450666,1449070,-1597,500,2901.3319999999999,2898.14,-3.194]
[4210,7,"UPPER MISSISSIPPI ACADEMY",536608,536608,0,280,1916,1916,0,547181,547181,0,315,1737,1737,0,1083789,1083789,0,595,1821.4941176470588,1821.4941176470588,0]
[4211,7,"ARCH ACADEMY",0,0,0,0,0,0,0,0,0,0,0,0,0,0,0,0,0,0,{"$error":"#DIV/0!"},{"$error":"#DIV/0!"},{"$error":"#DIV/0!"}]
[4212,7,"WEST SIDE SUMMIT",499049,498903,-147,221,2258,2257,-1,507076,506736,-340,260,1950,1949,-1,1006125,1005639,-487,481,2091.7359667359669,2090.7255717255716,-1.0124740124740124]
[4213,7,"PRODEO ACADEMY",297085,301430,4345,246,1210,1227,17,297069,297049,-20,246,1210,1209,-1,594154,598479,4325,492,1207.6300813008131,1216.4207317073171,8.7906504065040654]
[4214,7,"WEST CONCORD PUBLIC CHARTER SCHOOL",72002,72001,-1,0,0,0,0,73503,73502,-1,0,0,0,0,145505,145503,-2,0,{"$error":"#DIV/0!"},{"$error":"#DIV/0!"},{"$error":"#DIV/0!"}]
[4215,7,"SEJONG ACADEMY OF MINNESOTA",49990,63678,13688,82,610,777,167,49991,53858,3867,86,581,626,45,99981,117536,17555,168,595.125,699.61904761904759,104.49404761904762]
[4216,7,"FREEDOM ACADEMY CHARTER",0,0,0,0,0,0,0,0,0,0,0,0,0,0,0,0,0,0,{"$error":"#DIV/0!"},{"$error":"#DIV/0!"},{"$error":"#DIV/0!"}]
[4217,7,"TECHNICAL ACADEMIES OF MINNESOTA",254223,282094,27871,150,1695,1881,186,308927,348272,39345,150,2060,2322,262,563150,630366,67216,300,1877.1666666666667,2101.2199999999998,224.05333333333334]
[4218,7,"VENTURE ACADEMY",885069,903575,18506,300,2950,3012,62,1014332,1033669,19338,306,3315,3378,63,1899401,1937244,37844,606,3134.3250825082509,3196.772277227723,62.448844884488452]
[4219,7,"NORTHEAST COLLEGE PREP",317785,354551,36767,280,1135,1266,131,340189,377924,37735,300,1134,1260,126,657974,732475,74502,580,1134.4379310344827,1262.8879310344828,128.45172413793102]
[4220,7,"AGAMIN HEBREW LANGUAGE SCHOOL",40249,40249,0,154,261,261,0,40249,40249,0,154,261,261,0,80498,80498,0,308,261.35714285714283,261.35714285714283,0]
[4221,7,"DISCOVERY CHARTER SCHOOL",0,0,0,153,0,0,0,0,0,0,153,0,0,0,0,0,0,306,0,0,0]
[4223,7,"SAINT CLOUD MATH AND SCIENCE ACADEM",180224,188960,8736,210,858,900,42,198772,227858,29086,210,947,1085,138,378996,416818,37822,420,902.37142857142862,992.4238095238095,90.052380952380958]
[4224,7,"STAR OF THE NORTH ACADEMY CHARTER S",12246,25321,13075,155,79,163,84,11783,25766,13983,160,74,161,87,24029,51087,27058,315,76.282539682539678,162.18095238095239,85.898412698412699]
[4225,7,"UNIVERSAL ACADEMY CHARTER SCHOOL",275042,274879,-163,315,873,873,0,288989,302885,13896,340,850,891,41,564031,577764,13733,655,861.11603053435113,882.08244274809158,20.966412213740458]
[4226,7,"BDOTE LEARNING CENTER",175279,177684,2405,130,1348,1367,19,271516,274260,2744,140,1939,1959,20,446795,451944,5149,270,1654.7962962962963,1673.8666666666666,19.07037037037037]
[4227,7,"ART AND SCIENCE ACADEMY",691329,691329,0,255,2711,2711,0,697868,697868,0,260,2684,2684,0,1389197,1389197,0,515,2697.4699029126214,2697.4699029126214,0]
[4228,7,"WOODBURY LEADERSHIP ACADEMY",258464,302473,44010,275,940,1100,160,246870,290626,43756,280,882,1038,156,505334,593099,87766,555,910.51171171171165,1068.6468468468468,158.13693693693693]
[4229,7,"JANE GOODALL ENVIRONMENTAL SCIENCES",93878,93878,0,155,606,606,0,93878,93878,0,165,569,569,0,187756,187756,0,320,586.73749999999995,586.73749999999995,0]
[4230,7,"MN EARLY LEARNING ACADEMY",10350,10350,0,270,38,38,0,10350,10350,0,310,33,33,0,20700,20700,0,580,35.689655172413794,35.689655172413794,0]
[4231,7,"MINNESOTA MATH AND SCIENCE ACADEMY",170098,170097,-1,433,393,393,0,171917,171915,-2,448,384,384,0,342015,342012,-3,881,388.2122587968218,388.20885357548241,-3.4052213393870601E-3]
[4232,7,"SUMMIT CHARTER SCHOOL",0,0,0,111,0,0,0,0,0,0,111,0,0,0,0,0,0,222,0,0,0]
[4233,7,"LEVEL UP ACADEMY",74164,74164,0,140,530,530,0,74164,74164,0,135,549,549,0,148328,148328,0,275,539.37454545454545,539.37454545454545,0]
[4234,7,"MILL CITY SCHOOL",0,0,0,0,0,0,0,0,0,0,0,0,0,0,0,0,0,0,{"$error":"#DIV/0!"},{"$error":"#DIV/0!"},{"$error":"#DIV/0!"}]
[4235,7,"FLEX ACADEMY",32824,32824,0,155,212,212,0,32824,32824,0,145,226,226,0,65648,65648,0,300,218.82666666666665,218.82666666666665,0]
[4237,7,"METROPOLITAN ED FOR FUTURE EMPLOYMNT",11429,11429,0,140,82,82,0,11429,11429,0,140,82,82,0,22858,22858,0,280,81.635714285714286,81.635714285714286,0]
[4238,7,"ROCHESTER BEACON ACADEMY",130134,130134,0,85,1531,1531,0,130134,130134,0,90,1446,1446,0,260268,260268,0,175,1487.2457142857143,1487.2457142857143,0]
[4239,7,"TESFA INTERNATIONAL SCHOOL",0,0,0,190,0,0,0,0,0,0,200,0,0,0,0,0,0,{"$f":"G522+N522","v":390},0,0,0]
[4240,7,"NEW SUMMIT SCHOOL",0,0,0,105,0,0,0,0,0,0,105,0,0,0,{"$f":"D523+K523","v":0},0,0,210,{"$f":"R523/U523","v":0},{"$f":"S523/U523","v":0},{"$f":"T523/U523","v":0}]
[4243,7,"North Metro Flex Academy",0,0,0,141,0,0,0,0,0,0,141,0,0,0,0,0,0,282,0,0,0]
[4248,7,"T.R.U.T.H. Preparatory Academy Char",0,0,0,240,0,0,0,0,0,0,240,0,0,0,0,0,0,480,0,0,0]
[4249,7,"Sankofa Underground North Academy",0,0,0,78,0,0,0,0,0,0,78,0,0,0,0,0,0,156,0,0,0]
[4250,7,"Athlos Academy of Saint Cloud",0,0,0,385,0,0,0,0,0,0,385,0,0,0,0,0,0,770,0,0,0]
[4998,8,"CROSSWINDS",607288,607064,-224,226,2687,2686,-1,620680,620276,-405,197,3151,3149,-2,1227968,1227340,-629,423,2902.9976359338061,2901.5130023640663,-1.4869976359338062]
[4999,7,"MDE CHT EST (FUDGE)",259,259,0,-64,0,0,0,263,263,0,2616,0,0,0,522,522,0,2552,0.20454545454545456,0.20454545454545456,0]
[6000,62,"COOPERATIVE & INTERMED DISTRICTS",44048442,44072014,23573,0,0,0,0,45703434,45731287,27853,0,0,0,0,89751876,89803301,51426,0,{"$error":"#DIV/0!"},{"$error":"#DIV/0!"},{"$error":"#DIV/0!"}]
["End of Worksheet"]

{"sheet":"Pension","index":3,"n_rows":531,"n_cols":24,"rows_kept":531,"cut":false,"hidden":false,"merged":[[4,17,4,23],[5,17,6,19],[5,20,7,20],[5,21,6,23],[2,0,2,23],[3,0,3,23],[5,13,7,13],[5,14,6,16],[4,0,6,2],[4,3,4,9],[4,10,4,16],[5,3,6,5],[5,6,7,6],[5,7,6,9],[5,10,6,12]]}
[]
["MDE-School Finance",null,null,null,null,null,null,null,null,null,null,null,null,null,null,null,null,null,null,"2017-02-13"]
[" Pension Adjustment Revenue"]
["Governor's Recommendation"]
["District",null,null,"FY 2018",null,null,null,null,null,null,"FY 2019",null,null,null,null,null,null,"Biennium"]
[null,null,null,"Total Revenue",null,null,"Adjusted ADM","Revenue/Adjusted ADM",null,null,"Total Revenue",null,null,"Adjusted ADM","Revenue/Adjusted ADM",null,null,"Total Revenue",null,null,"Adjusted ADM","Revenue/Adjusted ADM"]
[]
["DIST","TYPE","NAME","Current","Governor","Change",null,"Current ","Governor","Change","Current","Governor","Change",null,"Current ","Governor","Change","Current","Governor","Change",null,"Current ","Governor","Change"]
[null,null,"TOTAL",{"$f":"SUM(D10:D530)","v":0},22851000,22851000,858281,0,{"$f":"F9/G9","v":26.624147569385784},{"$f":"F9/G9","v":26.624147569385784},{"$f":"SUM(K10:K530)","v":0},45703000,45703000,863356,0,{"$f":"M9/N9","v":52.936448000593032},{"$f":"M9/N9","v":52.936448000593032},{"$f":"SUM(R10:R530)","v":0},{"$f":"SUM(S10:S530)","v":68554009},68554009,1721641,{"$f":"R9/U9","v":0},{"$f":"S9/U9","v":39.818991880421066},{"$f":"T9/U9","v":39.818991880421066}]
[1,1,"AITKIN",0,{"$f":"F10","v":25495},25495,1147,0,{"$f":"F10/G10","v":22.227550130775938},{"$f":"F10/G10","v":22.227550130775938},0,{"$f":"M10","v":50990},50990,1143,0,{"$f":"M10/N10","v":44.610673665791779},{"$f":"M10/N10","v":44.610673665791779},{"$f":"D10+K10","v":0},{"$f":"E10+L10","v":76485},{"$f":"F10+M10","v":76485},2290,{"$f":"R10/U10","v":0},{"$f":"S10/U10","v":33.39956331877729},{"$f":"T10/U10","v":33.39956331877729}]
[1.2,3,"MINNEAPOLIS",0,{"$f":"F11","v":1480915},1480915,35791,0,{"$f":"F11/G11","v":41.376742756558912},{"$f":"F11/G11","v":41.376742756558912},0,{"$f":"M11","v":2961895},2961895,36561,0,{"$f":"M11/N11","v":81.012417603457237},{"$f":"M11/N11","v":81.012417603457237},{"$f":"D11+K11","v":0},4442810,4442810,72352,{"$f":"R11/U11","v":0},{"$f":"S11/U11","v":61.405489827509953},{"$f":"T11/U11","v":61.405489827509953}]
[2,1,"HILL CITY",0,8496,8496,257,0,33.058365758754867,33.058365758754867,0,16993,16993,249,0,68.244979919678713,68.244979919678713,0,25489,25489,506,0,50.373517786561266,50.373517786561266]
[4,1,"MCGREGOR",0,10692,10692,457,0,23.396061269146607,23.396061269146607,0,21385,21385,455,0,47,47,0,32077,32077,912,0,35.172149122807021,35.172149122807021]
[6,3,"SOUTH ST. PAUL",0,93882,93882,3641,0,25.78467453996155,25.78467453996155,0,187768,187768,3650,0,51.443287671232873,51.443287671232873,0,281650,281650,7291,0,38.629817583321902,38.629817583321902]
[11,1,"ANOKA-HENNEPIN",0,1052532,1052532,37429,0,28.120761976007909,28.120761976007909,0,2105110,2105110,37497,0,56.140757927300854,56.140757927300854,0,3157642,3157642,74926,0,42.143474895229957,42.143474895229957]
[12,1,"CENTENNIAL",0,176644,176644,6341,0,27.857435735688377,27.857435735688377,0,353295,353295,6340,0,55.724763406940063,55.724763406940063,0,529939,529939,12681,0,41.790000788581345,41.790000788581345]
[13,1,"COLUMBIA HEIGHTS",0,87154,87154,3350,0,26.016119402985076,26.016119402985076,0,174313,174313,3409,0,51.133176884716924,51.133176884716924,0,261467,261467,6759,0,38.684272821423285,38.684272821423285]
[14,1,"FRIDLEY",0,80058,80058,3068,0,26.094524119947849,26.094524119947849,0,160120,160120,3080,0,51.987012987012989,51.987012987012989,0,240178,240178,6148,0,39.066037735849058,39.066037735849058]
[15,1,"ST. FRANCIS",0,120215,120215,4344,0,27.673802946593003,27.673802946593003,0,240436,240436,4278,0,56.20289855072464,56.20289855072464,0,360651,360651,8622,0,41.829157967988863,41.829157967988863]
[16,1,"SPRING LAKE PARK",0,122673,122673,5745,0,21.353002610966058,21.353002610966058,0,245350,245350,5815,0,42.192605331040411,42.192605331040411,0,368023,368023,11560,0,31.83589965397924,31.83589965397924]
[22,1,"DETROIT LAKES",0,73357,73357,3024,0,24.258267195767196,24.258267195767196,0,146716,146716,3044,0,48.198423127463862,48.198423127463862,0,220073,220073,6068,0,36.267798286090972,36.267798286090972]
[23,1,"FRAZEE",0,21835,21835,885,0,24.672316384180792,24.672316384180792,0,43670,43670,865,0,50.48554913294798,50.48554913294798,0,65505,65505,1750,0,37.431428571428569,37.431428571428569]
[25,1,"PINE POINT",0,3141,3141,69,0,45.521739130434781,45.521739130434781,0,6282,6282,70,0,89.742857142857147,89.742857142857147,0,9423,9423,139,0,67.791366906474821,67.791366906474821]
[31,1,"BEMIDJI",0,123072,123072,5180,0,23.759073359073358,23.759073359073358,0,246150,246150,5196,0,47.372979214780599,47.372979214780599,0,369222,369222,10376,0,35.584232845026982,35.584232845026982]
[32,1,"BLACKDUCK",0,12254,12254,636,0,19.267295597484278,19.267295597484278,0,24509,24509,606,0,40.443894389438945,40.443894389438945,0,36763,36763,1242,0,29.599838969404185,29.599838969404185]
[36,1,"KELLIHER",0,8306,8306,285,0,29.143859649122806,29.143859649122806,0,16613,16613,290,0,57.286206896551725,57.286206896551725,0,24919,24919,575,0,43.337391304347825,43.337391304347825]
[38,1,"RED LAKE",0,53090,53090,1611,0,32.954686530105526,32.954686530105526,0,106182,106182,1664,0,63.81129807692308,63.81129807692308,0,159272,159272,3275,0,48.632671755725191,48.632671755725191]
[47,1,"SAUK RAPIDS",0,89507,89507,4374,0,20.463420210333791,20.463420210333791,0,179018,179018,4375,0,40.918399999999998,40.918399999999998,0,268525,268525,8749,0,30.692079094753687,30.692079094753687]
[51,1,"FOLEY",0,39923,39923,1817,0,21.971931755641165,21.971931755641165,0,79847,79847,1781,0,44.832678270634474,44.832678270634474,0,119770,119770,3598,0,33.28793774319066,33.28793774319066]
[75,1,"ST. CLAIR",0,13866,13866,670,0,20.6955223880597,20.6955223880597,0,27733,27733,649,0,42.731895223420651,42.731895223420651,0,41599,41599,1319,0,31.538286580742987,31.538286580742987]
[77,1,"MANKATO",0,201489,201489,8483,0,23.752092420134385,23.752092420134385,0,402986,402986,8419,0,47.866254899631784,47.866254899631784,0,604475,604475,16902,0,35.763519110164481,35.763519110164481]
[81,1,"COMFREY",0,4764,4764,149,0,31.973154362416107,31.973154362416107,0,9528,9528,149,0,63.946308724832214,63.946308724832214,0,14292,14292,298,0,47.959731543624159,47.959731543624159]
[84,1,"SLEEPY EYE",0,13246,13246,555,0,23.866666666666667,23.866666666666667,0,26492,26492,540,0,49.059259259259257,49.059259259259257,0,39738,39738,1095,0,36.290410958904111,36.290410958904111]
[85,1,"SPRINGFIELD",0,13819,13819,545,0,25.355963302752293,25.355963302752293,0,27640,27640,534,0,51.760299625468164,51.760299625468164,0,41459,41459,1079,0,38.423540315106578,38.423540315106578]
[88,1,"NEW ULM",0,43140,43140,2057,0,20.972289742343218,20.972289742343218,0,86281,86281,2055,0,41.985888077858881,41.985888077858881,0,129421,129421,4112,0,31.473978599221791,31.473978599221791]
[91,1,"BARNUM",0,19090,19090,753,0,25.351925630810094,25.351925630810094,0,38181,38181,749,0,50.975967957276367,50.975967957276367,0,57271,57271,1502,0,38.129826897470039,38.129826897470039]
[93,1,"CARLTON",0,10879,10879,460,0,23.65,23.65,0,21758,21758,452,0,48.137168141592923,48.137168141592923,0,32637,32637,912,0,35.786184210526315,35.786184210526315]
[94,1,"CLOQUET",0,62461,62461,2707,0,23.073882526782416,23.073882526782416,0,124925,124925,2760,0,45.262681159420289,45.262681159420289,0,187386,187386,5467,0,34.275836839217121,34.275836839217121]
[95,1,"CROMWELL",0,6782,6782,310,0,21.877419354838711,21.877419354838711,0,13564,13564,310,0,43.754838709677422,43.754838709677422,0,20346,20346,620,0,32.816129032258061,32.816129032258061]
[97,1,"MOOSE LAKE",0,15524,15524,665,0,23.344360902255641,23.344360902255641,0,31049,31049,671,0,46.272727272727273,46.272727272727273,0,46573,46573,1336,0,34.860029940119759,34.860029940119759]
[99,1,"ESKO",0,25379,25379,1212,0,20.939768976897689,20.939768976897689,0,50758,50758,1212,0,41.879537953795378,41.879537953795378,0,76137,76137,2424,0,31.409653465346533,31.409653465346533]
[100,1,"WRENSHALL",0,8217,8217,341,0,24.096774193548388,24.096774193548388,0,16434,16434,346,0,47.497109826589593,47.497109826589593,0,24651,24651,687,0,35.882096069868993,35.882096069868993]
[108,1,"NORWOOD",0,23149,23149,948,0,24.418776371308017,24.418776371308017,0,46298,46298,928,0,49.890086206896555,49.890086206896555,0,69447,69447,1876,0,37.018656716417908,37.018656716417908]
[110,1,"WACONIA",0,87168,87168,4090,0,21.312469437652812,21.312469437652812,0,174339,174339,4035,0,43.206691449814123,43.206691449814123,0,261507,261507,8125,0,32.185476923076926,32.185476923076926]
[111,1,"WATERTOWN-MAYER",0,35133,35133,1676,0,20.962410501193318,20.962410501193318,0,70268,70268,1627,0,43.188690842040565,43.188690842040565,0,105401,105401,3303,0,31.910687254011506,31.910687254011506]
[112,1,"EASTERN CARVER CTY",0,259717,259717,9667,0,26.866349436226336,26.866349436226336,0,519445,519445,9836,0,52.810593737291583,52.810593737291583,0,779162,779162,19503,0,39.950879351894578,39.950879351894578]
[113,1,"WALKER-AKELEY",0,18803,18803,716,0,26.261173184357542,26.261173184357542,0,37607,37607,702,0,53.571225071225072,53.571225071225072,0,56410,56410,1418,0,39.781382228490834,39.781382228490834]
[115,1,"CASS LAKE",0,35577,35577,1086,0,32.759668508287291,32.759668508287291,0,71155,71155,1125,0,63.248888888888892,63.248888888888892,0,106732,106732,2211,0,48.273179556761647,48.273179556761647]
[116,1,"PILLAGER",0,21479,21479,1072,0,20.036380597014926,20.036380597014926,0,42959,42959,1121,0,38.322033898305087,38.322033898305087,0,64438,64438,2193,0,29.383492932056544,29.383492932056544]
[118,1,"NORTHLAND",0,10905,10905,326,0,33.45092024539877,33.45092024539877,0,21811,21811,328,0,66.496951219512198,66.496951219512198,0,32716,32716,654,0,50.024464831804281,50.024464831804281]
[129,1,"MONTEVIDEO",0,37139,37139,1454,0,25.542640990371389,25.542640990371389,0,74280,74280,1445,0,51.404844290657437,51.404844290657437,0,111419,111419,2899,0,38.433597792342184,38.433597792342184]
[138,1,"NORTH BRANCH",0,65833,65833,2974,0,22.136180228648286,22.136180228648286,0,131669,131669,2982,0,44.154594232059019,44.154594232059019,0,197502,197502,5956,0,33.160174613834791,33.160174613834791]
[139,1,"RUSH CITY",0,32062,32062,870,0,36.852873563218388,36.852873563218388,0,64125,64125,873,0,73.453608247422679,73.453608247422679,0,96187,96187,1743,0,55.184738955823292,55.184738955823292]
[146,1,"BARNESVILLE",0,18147,18147,902,0,20.118625277161861,20.118625277161861,0,36295,36295,891,0,40.735129068462399,40.735129068462399,0,54442,54442,1793,0,30.363636363636363,30.363636363636363]
[150,1,"HAWLEY",0,22396,22396,913,0,24.53012048192771,24.53012048192771,0,44793,44793,921,0,48.635179153094462,48.635179153094462,0,67189,67189,1834,0,36.63522355507088,36.63522355507088]
[152,1,"MOORHEAD",0,148644,148644,6391,0,23.258332029416366,23.258332029416366,0,297295,297295,6469,0,45.956871232029677,45.956871232029677,0,445939,445939,12860,0,34.676438569206844,34.676438569206844]
[160,70,"MINNESOTA STATE ACADEMIES",0,14976,14976,0,0,{"$error":"#DIV/0!"},{"$error":"#DIV/0!"},0,29952,29952,0,0,{"$error":"#DIV/0!"},{"$error":"#DIV/0!"},0,44928,44928,0,{"$error":"#DIV/0!"},{"$error":"#DIV/0!"},{"$error":"#DIV/0!"}]
[160.19999999999999,90,"FARIBAULT TRANSFER",0,0,0,0,0,{"$error":"#DIV/0!"},{"$error":"#DIV/0!"},0,0,0,0,0,{"$error":"#DIV/0!"},{"$error":"#DIV/0!"},0,0,0,0,{"$error":"#DIV/0!"},{"$error":"#DIV/0!"},{"$error":"#DIV/0!"}]
[162,1,"BAGLEY",0,20818,20818,1004,0,20.735059760956176,20.735059760956176,0,41637,41637,1035,0,40.228985507246378,40.228985507246378,0,62455,62455,2039,0,30.630210887690044,30.630210887690044]
[166,1,"COOK COUNTY",0,12401,12401,452,0,27.435840707964601,27.435840707964601,0,24802,24802,431,0,57.545243619489561,57.545243619489561,0,37203,37203,883,0,42.132502831257078,42.132502831257078]
[173,1,"MOUNTAIN LAKE",0,12452,12452,478,0,26.05020920502092,26.05020920502092,0,24904,24904,476,0,52.319327731092436,52.319327731092436,0,37356,37356,954,0,39.157232704402517,39.157232704402517]
[177,1,"WINDOM",0,25650,25650,1068,0,24.016853932584269,24.016853932584269,0,51301,51301,1077,0,47.633240482822657,47.633240482822657,0,76951,76951,2145,0,35.874592074592073,35.874592074592073]
[181,1,"BRAINERD",0,161166,161166,6541,0,24.639351781073231,24.639351781073231,0,322339,322339,6571,0,49.054786181707506,49.054786181707506,0,483505,483505,13112,0,36.875,36.875]
[182,1,"CROSBY",0,24147,24147,1018,0,23.720039292730846,23.720039292730846,0,48295,48295,997,0,48.440320962888663,48.440320962888663,0,72442,72442,2015,0,35.951364764267993,35.951364764267993]
[186,1,"PEQUOT LAKES",0,34380,34380,1660,0,20.710843373493976,20.710843373493976,0,68761,68761,1631,0,42.158798283261802,42.158798283261802,0,103141,103141,3291,0,31.340322090549986,31.340322090549986]
[191,1,"BURNSVILLE",0,275868,275868,8940,0,30.857718120805369,30.857718120805369,0,551748,551748,8902,0,61.980229161986074,61.980229161986074,0,827616,827616,17842,0,46.385831184844747,46.385831184844747]
[192,1,"FARMINGTON",0,163488,163488,6761,0,24.181038307942611,24.181038307942611,0,326982,326982,6688,0,48.890849282296649,48.890849282296649,0,490470,490470,13449,0,36.468882444791433,36.468882444791433]
[194,1,"LAKEVILLE",0,265987,265987,10515,0,25.295958155016642,25.295958155016642,0,531986,531986,10089,0,52.729309148577656,52.729309148577656,0,797973,797973,20604,0,38.729033197437388,38.729033197437388]
[195,1,"RANDOLPH",0,13346,13346,676,0,19.742603550295858,19.742603550295858,0,26693,26693,684,0,39.024853801169591,39.024853801169591,0,40039,40039,1360,0,29.440441176470589,29.440441176470589]
[196,1,"ROSEMOUNT-APPLE",0,805805,805805,27776,0,29.010836693548388,29.010836693548388,0,1611645,1611645,27855,0,57.858373721055465,57.858373721055465,0,2417450,2417450,55631,0,43.455087990508886,43.455087990508886]
[197,1,"WEST ST. PAUL",0,144022,144022,4893,0,29.434293889229512,29.434293889229512,0,288050,288050,4915,0,58.606307222787386,58.606307222787386,0,432072,432072,9808,0,44.053017944535071,44.053017944535071]
[199,1,"INVER GROVE",0,92633,92633,3869,0,23.94236236753683,23.94236236753683,0,185271,185271,3843,0,48.209992193598751,48.209992193598751,0,277904,277904,7712,0,36.03526970954357,36.03526970954357]
[200,1,"HASTINGS",0,104737,104737,4343,0,24.11627906976744,24.11627906976744,0,209479,209479,4319,0,48.501736513081731,48.501736513081731,0,314216,314216,8662,0,36.275225121219115,36.275225121219115]
[203,1,"HAYFIELD",0,16931,16931,689,0,24.573294629898403,24.573294629898403,0,33862,33862,689,0,49.146589259796805,49.146589259796805,0,50793,50793,1378,0,36.859941944847606,36.859941944847606]
[204,1,"KASSON-MANTORVIL",0,{"$f":"F75","v":42817},42817,2082,0,{"$f":"F75/G75","v":20.565321805955811},{"$f":"F75/G75","v":20.565321805955811},0,{"$f":"M75","v":85636},85636,2092,0,{"$f":"M75/N75","v":40.934990439770552},{"$f":"M75/N75","v":40.934990439770552},{"$f":"D75+K75","v":0},128453,128453,4174,{"$f":"R75/U75","v":0},{"$f":"S75/U75","v":30.774556780067083},{"$f":"T75/U75","v":30.774556780067083}]
[206,1,"ALEXANDRIA",0,95639,95639,4128,0,23.168362403100776,23.168362403100776,0,191283,191283,4161,0,45.970439798125447,45.970439798125447,0,286922,286922,8289,0,34.614790686451926,34.614790686451926]
[213,1,"OSAKIS",0,17470,17470,813,0,21.488314883148831,21.488314883148831,0,34941,34941,810,0,43.13703703703704,43.13703703703704,0,52411,52411,1623,0,32.292667898952558,32.292667898952558]
[227,1,"CHATFIELD",0,18380,18380,899,0,20.444938820912125,20.444938820912125,0,36760,36760,892,0,41.210762331838566,41.210762331838566,0,55140,55140,1791,0,30.787269681742043,30.787269681742043]
[229,1,"LANESBORO",0,7669,7669,305,0,25.144262295081969,25.144262295081969,0,15338,15338,295,0,51.993220338983051,51.993220338983051,0,23007,23007,600,0,38.344999999999999,38.344999999999999]
[238,1,"MABEL-CANTON",0,6089,6089,246,0,24.752032520325205,24.752032520325205,0,12179,12179,244,0,49.91393442622951,49.91393442622951,0,18268,18268,490,0,37.281632653061223,37.281632653061223]
[239,1,"RUSHFORD-PETERSO",0,16207,16207,637,0,25.442700156985872,25.442700156985872,0,32415,32415,625,0,51.863999999999997,51.863999999999997,0,48622,48622,1262,0,38.527733755942947,38.527733755942947]
[241,1,"ALBERT LEA",0,93311,93311,3427,0,27.228187919463089,27.228187919463089,0,186625,186625,3437,0,54.298807099214429,54.298807099214429,0,279936,279936,6864,0,40.78321678321678,40.78321678321678]
[242,1,"ALDEN",0,10941,10941,492,0,22.237804878048781,22.237804878048781,0,21881,21881,492,0,44.47357723577236,44.47357723577236,0,32822,32822,984,0,33.355691056910572,33.355691056910572]
[252,1,"CANNON FALLS",0,23727,23727,1129,0,21.015943312666074,21.015943312666074,0,47455,47455,1112,0,42.675359712230218,42.675359712230218,0,71182,71182,2241,0,31.763498438197232,31.763498438197232]
[253,1,"GOODHUE",0,13083,13083,636,0,20.570754716981131,20.570754716981131,0,26167,26167,635,0,41.207874015748033,41.207874015748033,0,39250,39250,1271,0,30.881195908733282,30.881195908733282]
[255,1,"PINE ISLAND",0,27299,27299,1280,0,21.327343750000001,21.327343750000001,0,54600,54600,1288,0,42.391304347826086,42.391304347826086,0,81899,81899,2568,0,31.892133956386292,31.892133956386292]
[256,1,"RED WING",0,61560,61560,2660,0,23.142857142857142,23.142857142857142,0,123123,123123,2623,0,46.939763629431951,46.939763629431951,0,184683,184683,5283,0,34.957978421351505,34.957978421351505]
[261,1,"ASHBY",0,5419,5419,274,0,19.777372262773724,19.777372262773724,0,10838,10838,283,0,38.296819787985868,38.296819787985868,0,16257,16257,557,0,29.186714542190305,29.186714542190305]
[264,1,"HERMAN-NORCROSS",0,3192,3192,118,0,27.050847457627118,27.050847457627118,0,6383,6383,116,0,55.025862068965516,55.025862068965516,0,9575,9575,234,0,40.918803418803421,40.918803418803421]
[270,1,"HOPKINS",0,220824,220824,6970,0,31.682065997130561,31.682065997130561,0,441657,441657,6987,0,63.211249463288965,63.211249463288965,0,662481,662481,13957,0,47.46585942537795,47.46585942537795]
[271,1,"BLOOMINGTON",0,321903,321903,10604,0,30.356752168992834,30.356752168992834,0,643820,643820,10459,0,61.556554163877998,61.556554163877998,0,965723,965723,21063,0,45.849261738593739,45.849261738593739]
[272,1,"EDEN PRAIRIE",0,265105,265105,8602,0,30.818995582422691,30.818995582422691,0,530222,530222,8455,0,62.711058545239503,62.711058545239503,0,795327,795327,17057,0,46.62760157120244,46.62760157120244]
[273,1,"EDINA",0,241269,241269,8548,0,28.225198876930275,28.225198876930275,0,482549,482549,8559,0,56.379133076293961,56.379133076293961,0,723818,723818,17107,0,42.311217630209853,42.311217630209853]
[276,1,"MINNETONKA",0,275858,275858,10550,0,26.147677725118484,26.147677725118484,0,551729,551729,10652,0,51.795812992865187,51.795812992865187,0,827587,827587,21202,0,39.033440241486652,39.033440241486652]
[277,1,"WESTONKA",0,59530,59530,2298,0,25.905134899912969,25.905134899912969,0,119062,119062,2296,0,51.856271777003485,51.856271777003485,0,178592,178592,4594,0,38.875054418807139,38.875054418807139]
[278,1,"ORONO",0,75546,75546,2810,0,26.884697508896796,26.884697508896796,0,151096,151096,2814,0,53.694385216773277,53.694385216773277,0,226642,226642,5624,0,40.299075391180658,40.299075391180658]
[279,1,"OSSEO",0,585709,585709,20654,0,28.358138859300862,28.358138859300862,0,1171443,1171443,20751,0,56.452363741506431,56.452363741506431,0,1757152,1757152,41405,0,42.438159642555249,42.438159642555249]
[280,1,"RICHFIELD",0,133435,133435,4183,0,31.899354530241453,31.899354530241453,0,266876,266876,4003,0,66.668998251311521,66.668998251311521,0,400311,400311,8186,0,48.901905692645983,48.901905692645983]
[281,1,"ROBBINSDALE",0,370970,370970,12927,0,28.697300224336658,28.697300224336658,0,741957,741957,13162,0,56.371144203008662,56.371144203008662,0,1112927,1112927,26089,0,42.658860055962286,42.658860055962286]
[282,1,"ST. ANTHONY-NEW",0,43404,43404,1778,0,24.411698537682788,24.411698537682788,0,86810,86810,1776,0,48.879504504504503,48.879504504504503,0,130214,130214,3554,0,36.638716938660664,36.638716938660664]
[283,1,"ST. LOUIS PARK",0,136614,136614,4641,0,29.436328377504847,29.436328377504847,0,273235,273235,4611,0,59.257211017132946,59.257211017132946,0,409849,409849,9252,0,44.29842196281885,44.29842196281885]
[284,1,"WAYZATA",0,298287,298287,11692,0,25.512059527882311,25.512059527882311,0,596587,596587,11920,0,50.049244966442956,50.049244966442956,0,894874,894874,23612,0,37.899119091987124,37.899119091987124]
[286,1,"BROOKLYN CENTER",0,58721,58721,2405,0,24.416216216216217,24.416216216216217,0,117445,117445,2405,0,48.833679833679831,48.833679833679831,0,176166,176166,4810,0,36.624948024948026,36.624948024948026]
[294,1,"HOUSTON",0,34182,34182,2024,0,16.888339920948617,16.888339920948617,0,68366,68366,2025,0,33.760987654320985,33.760987654320985,0,102548,102548,4049,0,25.326747345023463,25.326747345023463]
[297,1,"SPRING GROVE",0,8312,8312,348,0,23.885057471264368,23.885057471264368,0,16624,16624,346,0,48.046242774566473,48.046242774566473,0,24936,24936,694,0,35.930835734870314,35.930835734870314]
[299,1,"CALEDONIA",0,16025,16025,685,0,23.394160583941606,23.394160583941606,0,32052,32052,691,0,46.384949348769901,46.384949348769901,0,48077,48077,1376,0,34.939680232558139,34.939680232558139]
[300,1,"LACRESCENT",0,25768,25768,1110,0,23.214414414414414,23.214414414414414,0,51537,51537,1071,0,48.120448179271712,48.120448179271712,0,77305,77305,2181,0,35.444750114626316,35.444750114626316]
[306,1,"LAPORTE",0,6404,6404,310,0,20.658064516129031,20.658064516129031,0,12808,12808,313,0,40.920127795527158,40.920127795527158,0,19212,19212,623,0,30.837881219903693,30.837881219903693]
[308,1,"NEVIS",0,13325,13325,625,0,21.32,21.32,0,26650,26650,616,0,43.262987012987011,43.262987012987011,0,39975,39975,1241,0,32.211925866236903,32.211925866236903]
[309,1,"PARK RAPIDS",0,34189,34189,1577,0,21.679771718452759,21.679771718452759,0,68380,68380,1582,0,43.223767383059418,43.223767383059418,0,102569,102569,3159,0,32.468819246597022,32.468819246597022]
[314,1,"BRAHAM",0,17849,17849,764,0,23.362565445026178,23.362565445026178,0,35699,35699,764,0,46.726439790575917,46.726439790575917,0,53548,53548,1528,0,35.044502617801044,35.044502617801044]
[316,1,"GREENWAY",0,23497,23497,1049,0,22.399428026692089,22.399428026692089,0,46994,46994,1048,0,44.841603053435115,44.841603053435115,0,70491,70491,2097,0,33.615164520743917,33.615164520743917]
[317,1,"DEER RIVER",0,24593,24593,931,0,26.415682062298604,26.415682062298604,0,49187,49187,922,0,53.348156182212584,53.348156182212584,0,73780,73780,1853,0,39.816513761467888,39.816513761467888]
[318,1,"GRAND RAPIDS",0,95646,95646,3981,0,24.025621703089676,24.025621703089676,0,191296,191296,4011,0,47.69284467713787,47.69284467713787,0,286942,286942,7992,0,35.903653653653656,35.903653653653656]
[319,1,"NASHWAUK-KEEWATI",0,14337,14337,553,0,25.925858951175407,25.925858951175407,0,28675,28675,539,0,53.200371057513912,53.200371057513912,0,43012,43012,1092,0,39.388278388278387,39.388278388278387]
[323,2,"FRANCONIA",0,0,0,30,0,0,0,0,0,0,24,0,0,0,0,0,0,54,0,0,0]
[330,1,"HERON LAKE-OKABE",0,7714,7714,248,0,31.10483870967742,31.10483870967742,0,15428,15428,243,0,63.489711934156375,63.489711934156375,0,23142,23142,491,0,47.132382892057024,47.132382892057024]
[332,1,"MORA",0,39236,39236,1600,0,24.522500000000001,24.522500000000001,0,78474,78474,1575,0,49.824761904761907,49.824761904761907,0,117710,117710,3175,0,37.074015748031499,37.074015748031499]
[333,1,"OGILVIE",0,12114,12114,466,0,25.995708154506438,25.995708154506438,0,24228,24228,473,0,51.221987315010573,51.221987315010573,0,36342,36342,939,0,38.70287539936102,38.70287539936102]
[345,1,"NEW LONDON-SPICE",0,32292,32292,1471,0,21.952413324269205,21.952413324269205,0,64586,64586,1480,0,43.639189189189189,43.639189189189189,0,96878,96878,2951,0,32.828871568959677,32.828871568959677]
[347,1,"WILLMAR",0,102444,102444,4184,0,24.484703632887189,24.484703632887189,0,204893,204893,4223,0,48.518351882547954,48.518351882547954,0,307337,307337,8407,0,36.557273700487691,36.557273700487691]
[356,1,"LANCASTER",0,4612,4612,144,0,32.027777777777779,32.027777777777779,0,9223,9223,144,0,64.048611111111114,64.048611111111114,0,13835,13835,288,0,48.038194444444443,48.038194444444443]
[361,1,"INTERNATIONAL FA",0,24050,24050,1068,0,22.518726591760299,22.518726591760299,0,48101,48101,1047,0,45.941738299904486,45.941738299904486,0,72151,72151,2115,0,34.113947990543736,34.113947990543736]
[362,1,"LITTLEFORK-BIG F",0,7584,7584,333,0,22.774774774774773,22.774774774774773,0,15168,15168,321,0,47.252336448598129,47.252336448598129,0,22752,22752,654,0,34.788990825688074,34.788990825688074]
[363,1,"SOUTH KOOCHICHIN",0,10292,10292,241,0,42.705394190871367,42.705394190871367,0,20583,20583,247,0,83.331983805668017,83.331983805668017,0,30875,30875,488,0,63.268442622950822,63.268442622950822]
[378,1,"DAWSON",0,13017,13017,543,0,23.972375690607734,23.972375690607734,0,26034,26034,530,0,49.120754716981132,49.120754716981132,0,39051,39051,1073,0,36.394221808014912,36.394221808014912]
[381,1,"LAKE SUPERIOR",0,35761,35761,1360,0,26.294852941176469,26.294852941176469,0,71524,71524,1365,0,52.398534798534797,52.398534798534797,0,107285,107285,2725,0,39.370642201834862,39.370642201834862]
[390,1,"LAKE OF THE WOOD",0,11692,11692,464,0,25.198275862068964,25.198275862068964,0,23384,23384,459,0,50.945533769063182,50.945533769063182,0,35076,35076,923,0,38.00216684723727,38.00216684723727]
[391,1,"CLEVELAND",0,9448,9448,497,0,19.010060362173039,19.010060362173039,0,18897,18897,496,0,38.098790322580648,38.098790322580648,0,28345,28345,993,0,28.544813695871099,28.544813695871099]
[402,1,"HENDRICKS",0,3745,3745,111,0,33.738738738738739,33.738738738738739,0,7490,7490,110,0,68.090909090909093,68.090909090909093,0,11235,11235,221,0,50.837104072398191,50.837104072398191]
[403,1,"IVANHOE",0,2223,2223,150,0,14.82,14.82,0,4446,4446,155,0,28.683870967741935,28.683870967741935,0,6669,6669,305,0,21.865573770491803,21.865573770491803]
[404,1,"LAKE BENTON",0,3094,3094,200,0,15.47,15.47,0,6188,6188,190,0,32.568421052631578,32.568421052631578,0,9282,9282,390,0,23.8,23.8]
[413,1,"MARSHALL",0,60542,60542,2506,0,24.158818834796488,24.158818834796488,0,121086,121086,2523,0,47.992865636147442,47.992865636147442,0,181628,181628,5029,0,36.116126466494336,36.116126466494336]
[414,1,"MINNEOTA",0,11732,11732,456,0,25.728070175438596,25.728070175438596,0,23465,23465,453,0,51.799116997792495,51.799116997792495,0,35197,35197,909,0,38.720572057205722,38.720572057205722]
[415,1,"LYND",0,4336,4336,194,0,22.350515463917525,22.350515463917525,0,8673,8673,164,0,52.884146341463413,52.884146341463413,0,13009,13009,358,0,36.337988826815639,36.337988826815639]
[423,1,"HUTCHINSON",0,67145,67145,2760,0,24.327898550724637,24.327898550724637,0,134293,134293,2704,0,49.664571005917161,49.664571005917161,0,201438,201438,5464,0,36.866398243045388,36.866398243045388]
[424,1,"LESTER PRAIRIE",0,9285,9285,442,0,21.006787330316744,21.006787330316744,0,18570,18570,444,0,41.824324324324323,41.824324324324323,0,27855,27855,886,0,31.439051918735892,31.439051918735892]
[432,1,"MAHNOMEN",0,16559,16559,609,0,27.19047619047619,27.19047619047619,0,33118,33118,606,0,54.650165016501653,54.650165016501653,0,49677,49677,{"$f":"G138+N138","v":1215},0,40.886419753086422,40.886419753086422]
[435,1,"WAUBUN",0,{"$f":"F139","v":16492},16492,577,0,{"$f":"F139/G139","v":28.582322357019063},{"$f":"F139/G139","v":28.582322357019063},0,{"$f":"M139","v":32985},32985,584,0,{"$f":"M139/N139","v":56.481164383561641},{"$f":"M139/N139","v":56.481164383561641},{"$f":"D139+K139","v":0},49477,49477,1161,{"$f":"R139/U139","v":0},{"$f":"S139/U139","v":42.615848406546078},{"$f":"T139/U139","v":42.615848406546078}]
[441,1,"MARSHALL CTY CENTRAL",0,9484,9484,387,0,24.506459948320412,24.506459948320412,0,18969,18969,381,0,49.787401574803148,49.787401574803148,0,28453,28453,768,0,37.048177083333336,37.048177083333336]
[447,1,"GRYGLA",0,5311,5311,154,0,34.487012987012989,34.487012987012989,0,10622,10622,156,0,68.089743589743591,68.089743589743591,0,15933,15933,310,0,51.396774193548389,51.396774193548389]
[458,1,"TRUMAN",0,5604,5604,219,0,25.589041095890412,25.589041095890412,0,11208,11208,216,0,51.888888888888886,51.888888888888886,0,16812,16812,435,0,38.648275862068964,38.648275862068964]
[463,1,"EDEN VALLEY",0,20476,20476,962,0,21.284823284823286,21.284823284823286,0,40954,40954,938,0,43.660980810234541,43.660980810234541,0,61430,61430,1900,0,32.331578947368421,32.331578947368421]
[465,1,"LITCHFIELD",0,34248,34248,1548,0,22.124031007751938,22.124031007751938,0,68497,68497,1526,0,44.886631716906948,44.886631716906948,0,102745,102745,3074,0,33.42387768379961,33.42387768379961]
[466,1,"DASSEL-COKATO",0,49686,49686,2214,0,22.441734417344172,22.441734417344172,0,99375,99375,2193,0,45.314637482900139,45.314637482900139,0,149061,149061,4407,0,33.823689584751534,33.823689584751534]
[473,1,"ISLE",0,9527,9527,452,0,21.077433628318584,21.077433628318584,0,19055,19055,452,0,42.157079646017699,42.157079646017699,0,28582,28582,904,0,31.61725663716814,31.61725663716814]
[477,1,"PRINCETON",0,70085,70085,3119,0,22.47034305867265,22.47034305867265,0,140174,140174,3104,0,45.15914948453608,45.15914948453608,0,210259,210259,6223,0,33.787401574803148,33.787401574803148]
[480,1,"ONAMIA",0,18233,18233,633,0,28.804107424960506,28.804107424960506,0,36467,36467,631,0,57.792393026941362,57.792393026941362,0,54700,54700,1264,0,43.275316455696199,43.275316455696199]
[482,1,"LITTLE FALLS",0,64302,64302,2306,0,27.884648742411102,27.884648742411102,0,128607,128607,2283,0,56.332457293035482,56.332457293035482,0,192909,192909,4589,0,42.037263020265854,42.037263020265854]
[484,1,"PIERZ",0,23383,23383,1122,0,20.840463458110516,20.840463458110516,0,46767,46767,1115,0,41.943497757847531,41.943497757847531,0,70150,70150,2237,0,31.358962896736703,31.358962896736703]
[485,1,"ROYALTON",0,16992,16992,937,0,18.134471718249735,18.134471718249735,0,33985,33985,938,0,36.231343283582092,36.231343283582092,0,50977,50977,1875,0,27.187733333333334,27.187733333333334]
[486,1,"SWANVILLE",0,6381,6381,317,0,20.129337539432175,20.129337539432175,0,12763,12763,312,0,40.907051282051285,40.907051282051285,0,19144,19144,629,0,30.435612082670907,30.435612082670907]
[487,1,"UPSALA",0,7501,7501,372,0,20.163978494623656,20.163978494623656,0,15002,15002,374,0,40.112299465240639,40.112299465240639,0,22503,22503,746,0,30.164879356568363,30.164879356568363]
[492,1,"AUSTIN",0,125646,125646,4782,0,26.274780426599747,26.274780426599747,0,251297,251297,4726,0,53.173296656792211,53.173296656792211,0,376943,376943,9508,0,39.6448254101809,39.6448254101809]
[495,1,"GRAND MEADOW",0,10158,10158,414,0,24.536231884057973,24.536231884057973,0,20316,20316,412,0,49.310679611650485,49.310679611650485,0,30474,30474,826,0,36.893462469733656,36.893462469733656]
[497,1,"LYLE",0,5733,5733,246,0,23.304878048780488,23.304878048780488,0,11465,11465,239,0,47.970711297071126,47.970711297071126,0,17198,17198,485,0,35.459793814432992,35.459793814432992]
[499,1,"LEROY",0,7102,7102,273,0,26.014652014652015,26.014652014652015,0,14204,14204,270,0,52.607407407407408,52.607407407407408,0,21306,21306,543,0,39.237569060773481,39.237569060773481]
[500,1,"SOUTHLAND",0,12392,12392,407,0,30.447174447174447,30.447174447174447,0,24785,24785,386,0,64.209844559585491,64.209844559585491,0,37177,37177,793,0,46.881462799495587,46.881462799495587]
[505,1,"FULDA",0,9836,9836,300,0,32.786666666666669,32.786666666666669,0,19672,19672,292,0,67.369863013698634,67.369863013698634,0,29508,29508,592,0,49.844594594594597,49.844594594594597]
[507,1,"NICOLLET",0,7275,7275,366,0,19.877049180327869,19.877049180327869,0,14550,14550,363,0,40.082644628099175,40.082644628099175,0,21825,21825,729,0,29.938271604938272,29.938271604938272]
[508,1,"ST. PETER",0,46157,46157,2071,0,22.287300820859489,22.287300820859489,0,92316,92316,2067,0,44.661828737300432,44.661828737300432,0,138473,138473,4138,0,33.463750604156594,33.463750604156594]
[511,1,"ADRIAN",0,11309,11309,549,0,20.599271402550091,20.599271402550091,0,22619,22619,551,0,41.050816696914701,41.050816696914701,0,33928,33928,1100,0,30.843636363636364,30.843636363636364]
[514,1,"ELLSWORTH",0,4448,4448,136,0,32.705882352941174,32.705882352941174,0,8897,8897,134,0,66.395522388059703,66.395522388059703,0,13345,13345,270,0,49.425925925925924,49.425925925925924]
[518,1,"WORTHINGTON",0,76294,76294,3236,0,23.576637824474659,23.576637824474659,0,152592,152592,3316,0,46.016887816646559,46.016887816646559,0,228886,228886,6552,0,34.933760683760681,34.933760683760681]
[531,1,"BYRON",0,41075,41075,2081,0,19.738106679481017,19.738106679481017,0,82151,82151,2126,0,38.641110065851365,38.641110065851365,0,123226,123226,4207,0,29.290705966246733,29.290705966246733]
[533,1,"DOVER-EYOTA",0,24146,24146,1190,0,20.290756302521007,20.290756302521007,0,48293,48293,1191,0,40.548278757346765,40.548278757346765,0,72439,72439,2381,0,30.42377152456951,30.42377152456951]
[534,1,"STEWARTVILLE",0,42192,42192,2076,0,20.323699421965319,20.323699421965319,0,84385,84385,2072,0,40.726351351351354,40.726351351351354,0,126577,126577,4148,0,30.515188042430086,30.515188042430086]
[535,1,"ROCHESTER",0,440794,440794,17352,0,25.403065928999538,25.403065928999538,0,881606,881606,17445,0,50.536314130123245,50.536314130123245,0,1322400,1322400,34797,0,38.003276144495217,38.003276144495217]
[542,1,"BATTLE LAKE",0,9564,9564,436,0,21.935779816513762,21.935779816513762,0,19129,19129,426,0,44.9037558685446,44.9037558685446,0,28693,28693,862,0,33.286542923433878,33.286542923433878]
[544,1,"FERGUS FALLS",0,52336,52336,2407,0,21.743248857498962,21.743248857498962,0,104674,104674,2387,0,43.851696690406371,43.851696690406371,0,157010,157010,4794,0,32.751355861493536,32.751355861493536]
[545,1,"HENNING",0,8605,8605,355,0,24.239436619718308,24.239436619718308,0,17210,17210,348,0,49.454022988505749,49.454022988505749,0,25815,25815,703,0,36.721194879089616,36.721194879089616]
[547,1,"PARKERS PRAIRIE",0,11976,11976,544,0,22.014705882352942,22.014705882352942,0,23952,23952,532,0,45.022556390977442,45.022556390977442,0,35928,35928,1076,0,33.390334572490708,33.390334572490708]
[548,1,"PELICAN RAPIDS",0,22522,22522,897,0,25.108138238573019,25.108138238573019,0,45046,45046,884,0,50.957013574660635,50.957013574660635,0,67568,67568,1781,0,37.938236945536218,37.938236945536218]
[549,1,"PERHAM",0,30862,30862,1406,0,21.950213371266003,21.950213371266003,0,61725,61725,1403,0,43.995010691375626,43.995010691375626,0,92587,92587,2809,0,32.960840156639371,32.960840156639371]
[550,1,"UNDERWOOD",0,11409,11409,557,0,20.482944344703771,20.482944344703771,0,22819,22819,559,0,40.821109123434702,40.821109123434702,0,34228,34228,1116,0,30.670250896057347,30.670250896057347]
[553,1,"NEW YORK MILLS",0,14200,14200,747,0,19.009370816599731,19.009370816599731,0,28401,28401,743,0,38.224764468371468,38.224764468371468,0,42601,42601,1490,0,28.591275167785234,28.591275167785234]
[561,1,"GOODRIDGE",0,4911,4911,206,0,23.839805825242717,23.839805825242717,0,9822,9822,212,0,46.330188679245282,46.330188679245282,0,14733,14733,418,0,35.246411483253588,35.246411483253588]
[564,1,"THIEF RIVER FALL",0,45838,45838,1900,0,24.125263157894736,24.125263157894736,0,91677,91677,1900,0,48.251052631578951,48.251052631578951,0,137515,137515,3800,0,36.18815789473684,36.18815789473684]
[577,1,"WILLOW RIVER",0,10261,10261,420,0,24.43095238095238,24.43095238095238,0,20522,20522,408,0,50.299019607843135,50.299019607843135,0,30783,30783,828,0,37.177536231884055,37.177536231884055]
[578,1,"PINE CITY",0,39454,39454,1588,0,24.84508816120907,24.84508816120907,0,78909,78909,1574,0,50.132782719186785,50.132782719186785,0,118363,118363,3162,0,37.432953826691964,37.432953826691964]
[581,1,"EDGERTON",0,9855,9855,392,0,25.14030612244898,25.14030612244898,0,19710,19710,401,0,49.152119700748131,49.152119700748131,0,29565,29565,793,0,37.282471626733923,37.282471626733923]
[592,1,"CLIMAX",0,5221,5221,181,0,28.845303867403317,28.845303867403317,0,10443,10443,181,0,57.696132596685082,57.696132596685082,0,15664,15664,362,0,43.270718232044196,43.270718232044196]
[593,1,"CROOKSTON",0,28361,28361,1252,0,22.652555910543132,22.652555910543132,0,56723,56723,1229,0,46.15378356387307,46.15378356387307,0,85084,85084,2481,0,34.294236195082625,34.294236195082625]
[595,1,"EAST GRAND FORKS",0,40136,40136,1907,0,21.046670162558993,21.046670162558993,0,80273,80273,1931,0,41.570688762299326,41.570688762299326,0,120409,120409,3838,0,31.372850442939029,31.372850442939029]
[599,1,"FERTILE-BELTRAMI",0,10501,10501,454,0,23.129955947136565,23.129955947136565,0,21002,21002,451,0,46.567627494456765,46.567627494456765,0,31503,31503,905,0,34.809944751381217,34.809944751381217]
[600,1,"FISHER",0,5781,5781,256,0,22.58203125,22.58203125,0,11562,11562,241,0,47.975103734439834,47.975103734439834,0,17343,17343,497,0,34.895372233400401,34.895372233400401]
[601,1,"FOSSTON",0,15592,15592,649,0,24.024653312788907,24.024653312788907,0,31184,31184,642,0,48.573208722741434,48.573208722741434,0,46776,46776,1291,0,36.232378001549186,36.232378001549186]
[621,1,"MOUNDS VIEW",0,304815,304815,11511,0,26.480323169142558,26.480323169142558,0,609643,609643,11649,0,52.334363464675079,52.334363464675079,0,914458,914458,23160,0,39.484369602763387,39.484369602763387]
[622,1,"NORTH ST. PAUL-M",0,273395,273395,10398,0,26.293037122523561,26.293037122523561,0,546802,546802,10331,0,52.928274126415644,52.928274126415644,0,820197,820197,20729,0,39.56761059385402,39.56761059385402]
[623,1,"ROSEVILLE",0,219108,219108,7507,0,29.187158651924872,29.187158651924872,0,438226,438226,7547,0,58.066251490658537,58.066251490658537,0,657334,657334,15054,0,43.665072406005045,43.665072406005045]
[624,1,"WHITE BEAR LAKE",0,228726,228726,8376,0,27.30730659025788,27.30730659025788,0,457463,457463,8425,0,54.298278931750744,54.298278931750744,0,686189,686189,16801,0,40.842152252842091,40.842152252842091]
[625,1,"ST. PAUL",0,1272546,1272546,36398,0,34.961975932743556,34.961975932743556,0,2545148,2545148,36114,0,70.475383507780919,70.475383507780919,0,3817694,3817694,72512,0,52.649133936451896,52.649133936451896]
[630,1,"RED LAKE FALLS",0,10262,10262,358,0,28.664804469273744,28.664804469273744,0,20524,20524,356,0,57.651685393258425,57.651685393258425,0,30786,30786,714,0,43.117647058823529,43.117647058823529]
[635,1,"MILROY",0,822,822,43,0,19.11627906976744,19.11627906976744,0,1645,1645,45,0,36.555555555555557,36.555555555555557,0,2467,2467,88,0,28.03409090909091,28.03409090909091]
[640,1,"WABASSO",0,8762,8762,376,0,23.303191489361701,23.303191489361701,0,17524,17524,370,0,47.362162162162164,47.362162162162164,0,26286,26286,746,0,35.23592493297587,35.23592493297587]
[656,1,"FARIBAULT",0,102905,102905,3805,0,27.044678055190538,27.044678055190538,0,205815,205815,3737,0,55.074926411560078,55.074926411560078,0,308720,308720,7542,0,40.933439405993106,40.933439405993106]
[659,1,"NORTHFIELD",0,102670,102670,3854,0,26.639854696419306,26.639854696419306,0,205344,205344,3731,0,55.037255427499332,55.037255427499332,0,308014,308014,7585,0,40.60830586684245,40.60830586684245]
[671,1,"HILLS-BEAVER CRE",0,7540,7540,376,0,20.053191489361701,20.053191489361701,0,15081,15081,366,0,41.204918032786885,41.204918032786885,0,22621,22621,742,0,30.486522911051214,30.486522911051214]
[676,1,"BADGER",0,6262,6262,189,0,33.132275132275133,33.132275132275133,0,12525,12525,185,0,67.702702702702709,67.702702702702709,0,18787,18787,374,0,50.232620320855617,50.232620320855617]
[682,1,"ROSEAU",0,26481,26481,1170,0,22.633333333333333,22.633333333333333,0,52962,52962,1147,0,46.174367916303403,46.174367916303403,0,79443,79443,2317,0,34.28700906344411,34.28700906344411]
[690,1,"WARROAD",0,23535,23535,1023,0,23.005865102639298,23.005865102639298,0,47072,47072,1016,0,46.330708661417326,46.330708661417326,0,70607,70607,2039,0,34.628249141736148,34.628249141736148]
[695,1,"CHISHOLM",0,16649,16649,721,0,23.091539528432733,23.091539528432733,0,33299,33299,716,0,46.506983240223462,46.506983240223462,0,49948,49948,{"$f":"G202+N202","v":1437},0,34.758524704244955,34.758524704244955]
[696,1,"ELY",0,{"$f":"F203","v":12716},12716,528,0,{"$f":"F203/G203","v":24.083333333333332},{"$f":"F203/G203","v":24.083333333333332},0,{"$f":"M203","v":25433},25433,526,0,{"$f":"M203/N203","v":48.351711026615966},{"$f":"M203/N203","v":48.351711026615966},{"$f":"D203+K203","v":0},38149,38149,1054,{"$f":"R203/U203","v":0},{"$f":"S203/U203","v":36.19449715370019},{"$f":"T203/U203","v":36.19449715370019}]
[698,1,"FLOODWOOD",0,6403,6403,236,0,27.131355932203391,27.131355932203391,0,12807,12807,234,0,54.730769230769234,54.730769230769234,0,19210,19210,470,0,40.872340425531917,40.872340425531917]
[700,1,"HERMANTOWN",0,42168,42168,2066,0,20.410454985479188,20.410454985479188,0,84338,84338,2064,0,40.861434108527135,40.861434108527135,0,126506,126506,4130,0,30.630992736077481,30.630992736077481]
[701,1,"HIBBING",0,54400,54400,2321,0,23.438173201206375,23.438173201206375,0,108802,108802,2296,0,47.387630662020904,47.387630662020904,0,163202,163202,4617,0,35.348061511804204,35.348061511804204]
[704,1,"PROCTOR",0,42473,42473,1752,0,24.2425799086758,24.2425799086758,0,84947,84947,1709,0,49.705675833820948,49.705675833820948,0,127420,127420,3461,0,36.815949147645192,36.815949147645192]
[706,1,"VIRGINIA",0,37441,37441,1729,0,21.654713707345287,21.654713707345287,0,74883,74883,1754,0,42.692702394526798,42.692702394526798,0,112324,112324,3483,0,32.249210450760842,32.249210450760842]
[707,1,"NETT LAKE",0,3850,3850,105,0,36.666666666666664,36.666666666666664,0,7700,7700,109,0,70.642201834862391,70.642201834862391,0,11550,11550,214,0,53.971962616822431,53.971962616822431]
[709,1,"DULUTH",0,222045,222045,8049,0,27.586656727543794,27.586656727543794,0,444099,444099,7984,0,55.623622244488978,55.623622244488978,0,666144,666144,16033,0,41.548306617601199,41.548306617601199]
[712,1,"MOUNTAIN IRON-BU",0,15789,15789,478,0,33.031380753138073,33.031380753138073,0,31579,31579,475,0,66.482105263157891,66.482105263157891,0,47368,47368,953,0,49.704092339979013,49.704092339979013]
[716,1,"BELLE PLAINE",0,36451,36451,1618,0,22.528430160692213,22.528430160692213,0,72903,72903,1619,0,45.029647930821497,45.029647930821497,0,109354,109354,3237,0,33.782514674080936,33.782514674080936]
[717,1,"JORDAN",0,45106,45106,1805,0,24.989473684210527,24.989473684210527,0,90214,90214,1812,0,49.78697571743929,49.78697571743929,0,135320,135320,3617,0,37.412220071882778,37.412220071882778]
[719,1,"PRIOR LAKE",0,181784,181784,8525,0,21.323636363636364,21.323636363636364,0,363575,363575,8775,0,41.433048433048434,41.433048433048434,0,545359,545359,17300,0,31.523641618497109,31.523641618497109]
[720,1,"SHAKOPEE",0,213091,213091,8365,0,25.474118350268977,25.474118350268977,0,426191,426191,8460,0,50.377186761229318,50.377186761229318,0,639282,639282,16825,0,37.995958395245168,37.995958395245168]
[721,1,"NEW PRAGUE",0,89350,89350,4072,0,21.942534381139488,21.942534381139488,0,178703,178703,4051,0,44.11330535670205,44.11330535670205,0,268053,268053,8123,0,32.999261356641632,32.999261356641632]
[726,1,"BECKER",0,62075,62075,2813,0,22.067188055456807,22.067188055456807,0,124153,124153,2822,0,43.994684620836289,43.994684620836289,0,186228,186228,5635,0,33.048447204968944,33.048447204968944]
[727,1,"BIG LAKE",0,66291,66291,3075,0,21.558048780487805,21.558048780487805,0,132585,132585,3019,0,43.916859887379928,43.916859887379928,0,198876,198876,6094,0,32.634722678043978,32.634722678043978]
[728,1,"ELK RIVER",0,300273,300273,12885,0,23.304074505238649,23.304074505238649,0,600560,600560,12775,0,47.010567514677106,47.010567514677106,0,900833,900833,25660,0,35.10650818394388,35.10650818394388]
[738,1,"HOLDINGFORD",0,20485,20485,1023,0,20.024437927663733,20.024437927663733,0,40971,40971,982,0,41.721995926680243,41.721995926680243,0,61456,61456,2005,0,30.651371571072318,30.651371571072318]
[739,1,"KIMBALL",0,14516,14516,743,0,19.53701211305518,19.53701211305518,0,29033,29033,738,0,39.340108401084009,39.340108401084009,0,43549,43549,1481,0,29.405131667792034,29.405131667792034]
[740,1,"MELROSE",0,29191,29191,1341,0,21.768083519761372,21.768083519761372,0,58383,58383,1292,0,45.18808049535604,45.18808049535604,0,87574,87574,2633,0,33.260159513862511,33.260159513862511]
[741,1,"PAYNESVILLE",0,22851,22851,919,0,24.865070729053318,24.865070729053318,0,45703,45703,909,0,50.278327832783276,50.278327832783276,0,68554,68554,1828,0,37.502188183807441,37.502188183807441]
[742,1,"ST. CLOUD",0,285242,285242,10403,0,27.419205998269732,27.419205998269732,0,570497,570497,10508,0,54.29168252759802,54.29168252759802,0,855739,855739,20911,0,40.922911386351679,40.922911386351679]
[743,1,"SAUK CENTRE",0,21461,21461,1070,0,20.057009345794391,20.057009345794391,0,42923,42923,1066,0,40.265478424015008,40.265478424015008,0,64384,64384,2136,0,30.142322097378276,30.142322097378276]
[745,1,"ALBANY",0,43956,43956,1747,0,25.160847166571266,25.160847166571266,0,87914,87914,1757,0,50.036425725668757,50.036425725668757,0,131870,131870,3504,0,37.634132420091326,37.634132420091326]
[748,1,"SARTELL",0,83169,83169,3923,0,21.200356869742546,21.200356869742546,0,166341,166341,3932,0,42.304425228891148,42.304425228891148,0,249510,249510,7855,0,31.764481222151495,31.764481222151495]
[750,1,"ROCORI",0,43698,43698,2018,0,21.654112983151634,21.654112983151634,0,87398,87398,1985,0,44.029219143576825,44.029219143576825,0,131096,131096,4003,0,32.74943792155883,32.74943792155883]
[756,1,"BLOOMING PRAIRIE",0,17711,17711,729,0,24.294924554183812,24.294924554183812,0,35424,35424,746,0,47.485254691689008,47.485254691689008,0,53135,53135,1475,0,36.023728813559323,36.023728813559323]
[761,1,"OWATONNA",0,115199,115199,4924,0,23.39541023558083,23.39541023558083,0,230403,230403,4956,0,46.489709443099272,46.489709443099272,0,345602,345602,9880,0,34.979959514170041,34.979959514170041]
[763,1,"MEDFORD",0,16947,16947,872,0,19.434633027522935,19.434633027522935,0,33895,33895,853,0,39.736225087924971,39.736225087924971,0,50842,50842,1725,0,29.473623188405796,29.473623188405796]
[768,1,"HANCOCK",0,6881,6881,347,0,19.829971181556196,19.829971181556196,0,13762,13762,352,0,39.096590909090907,39.096590909090907,0,20643,20643,699,0,29.532188841201716,29.532188841201716]
[771,1,"CHOKIO-ALBERTA",0,4331,4331,158,0,27.411392405063292,27.411392405063292,0,8662,8662,158,0,54.822784810126585,54.822784810126585,0,12993,12993,316,0,41.117088607594937,41.117088607594937]
[775,1,"KERKHOVEN-MURDOC",0,14321,14321,693,0,20.665223665223664,20.665223665223664,0,28644,28644,713,0,40.173913043478258,40.173913043478258,0,42965,42965,1406,0,30.558321479374111,30.558321479374111]
[777,1,"BENSON",0,18012,18012,842,0,21.391923990498814,21.391923990498814,0,36024,36024,837,0,43.039426523297493,43.039426523297493,0,54036,54036,1679,0,32.183442525312685,32.183442525312685]
[786,1,"BERTHA-HEWITT",0,10713,10713,412,0,26.002427184466018,26.002427184466018,0,21427,21427,372,0,57.5994623655914,57.5994623655914,0,32140,32140,784,0,40.994897959183675,40.994897959183675]
[787,1,"BROWERVILLE",0,10654,10654,354,0,30.096045197740114,30.096045197740114,0,21307,21307,354,0,60.189265536723163,60.189265536723163,0,31961,31961,708,0,45.14265536723164,45.14265536723164]
[801,1,"BROWNS VALLEY",0,3107,3107,147,0,21.136054421768709,21.136054421768709,0,6215,6215,146,0,42.56849315068493,42.56849315068493,0,9322,9322,293,0,31.815699658703071,31.815699658703071]
[803,1,"WHEATON",0,10171,10171,386,0,26.349740932642487,26.349740932642487,0,20343,20343,385,0,52.838961038961038,52.838961038961038,0,30514,30514,771,0,39.577172503242544,39.577172503242544]
[811,1,"WABASHA",0,14217,14217,553,0,25.708860759493671,25.708860759493671,0,28435,28435,550,0,51.7,51.7,0,42652,42652,1103,0,38.66908431550317,38.66908431550317]
[813,1,"LAKE CITY",0,27882,27882,1229,0,22.686737184703009,22.686737184703009,0,55765,55765,1220,0,45.709016393442624,45.709016393442624,0,83647,83647,2449,0,34.15557370355247,34.15557370355247]
[815,2,"PRINSBURG",0,931,931,0,0,{"$error":"#DIV/0!"},{"$error":"#DIV/0!"},0,1862,1862,0,0,{"$error":"#DIV/0!"},{"$error":"#DIV/0!"},0,2793,2793,0,{"$error":"#DIV/0!"},{"$error":"#DIV/0!"},{"$error":"#DIV/0!"}]
[818,1,"VERNDALE",0,11030,11030,536,0,20.578358208955223,20.578358208955223,0,22060,22060,533,0,41.388367729831145,41.388367729831145,0,33090,33090,1069,0,30.954162768942936,30.954162768942936]
[820,1,"SEBEKA",0,12544,12544,511,0,24.547945205479451,24.547945205479451,0,25088,25088,473,0,53.040169133192386,53.040169133192386,0,37632,37632,984,0,38.243902439024389,38.243902439024389]
[821,1,"MENAHGA",0,16903,16903,1029,0,16.426627793974731,16.426627793974731,0,33806,33806,1046,0,32.319311663479922,32.319311663479922,0,50709,50709,2075,0,24.438072289156626,24.438072289156626]
[829,1,"WASECA",0,42159,42159,1791,0,23.539363484087101,23.539363484087101,0,84319,84319,1759,0,47.935758953951108,47.935758953951108,0,126478,126478,3550,0,35.627605633802816,35.627605633802816]
[831,1,"FOREST LAKE",0,148967,148967,6365,0,23.40408483896308,23.40408483896308,0,297940,297940,6215,0,47.938857602574416,47.938857602574416,0,446907,446907,12580,0,35.525198728139905,35.525198728139905]
[832,1,"MAHTOMEDI",0,86013,86013,3297,0,26.088262056414923,26.088262056414923,0,172029,172029,3297,0,52.177434030937214,52.177434030937214,0,258042,258042,6594,0,39.13284804367607,39.13284804367607]
[833,1,"SOUTH WASHINGTON",0,456441,456441,17903,0,25.495224264089817,25.495224264089817,0,912903,912903,17772,0,51.367488183659688,51.367488183659688,0,1369344,1369344,35675,0,38.383854239663627,38.383854239663627]
[834,1,"STILLWATER",0,190365,190365,8147,0,23.366269792561678,23.366269792561678,0,380738,380738,7975,0,47.741442006269594,47.741442006269594,0,571103,571103,16122,0,35.423830790224535,35.423830790224535]
[836,1,"BUTTERFIELD",0,6338,6338,228,0,27.798245614035089,27.798245614035089,0,12676,12676,228,0,55.596491228070178,55.596491228070178,0,19014,19014,456,0,41.69736842105263,41.69736842105263]
[837,1,"MADELIA",0,12061,12061,522,0,23.10536398467433,23.10536398467433,0,24123,24123,504,0,47.863095238095241,47.863095238095241,0,36184,36184,1026,0,35.267056530214425,35.267056530214425]
[840,1,"ST. JAMES",0,26187,26187,1042,0,25.13147792706334,25.13147792706334,0,52374,52374,1058,0,49.502835538752365,49.502835538752365,0,78561,78561,2100,0,37.409999999999997,37.409999999999997]
[846,1,"BRECKENRIDGE",0,16804,16804,646,0,26.012383900928793,26.012383900928793,0,33609,33609,648,0,51.86574074074074,51.86574074074074,0,50413,50413,1294,0,38.959041731066463,38.959041731066463]
[850,1,"ROTHSAY",0,5605,5605,312,0,17.964743589743591,17.964743589743591,0,11211,11211,314,0,35.703821656050955,35.703821656050955,0,16816,16816,626,0,26.862619808306711,26.862619808306711]
[852,1,"CAMPBELL-TINTAH",0,4206,4206,144,0,29.208333333333332,29.208333333333332,0,8413,8413,141,0,59.666666666666664,59.666666666666664,0,12619,12619,285,0,44.277192982456143,44.277192982456143]
[857,1,"LEWISTON",0,18344,18344,715,0,25.655944055944055,25.655944055944055,0,36688,36688,685,0,53.559124087591243,53.559124087591243,0,55032,55032,1400,0,39.308571428571426,39.308571428571426]
[858,1,"ST. CHARLES",0,22800,22800,947,0,24.076029567053855,24.076029567053855,0,45602,45602,951,0,47.95162986330179,47.95162986330179,0,68402,68402,1898,0,36.038988408851424,36.038988408851424]
[861,1,"WINONA",0,86679,86679,2990,0,28.989632107023411,28.989632107023411,0,173361,173361,2999,0,57.806268756252081,57.806268756252081,0,260040,260040,5989,0,43.41960260477542,43.41960260477542]
[876,1,"ANNANDALE",0,39358,39358,1702,0,23.124559341950647,23.124559341950647,0,78717,78717,1682,0,46.79964328180737,46.79964328180737,0,118075,118075,3384,0,34.892139479905438,34.892139479905438]
[877,1,"BUFFALO",0,133903,133903,5613,0,23.855870301086764,23.855870301086764,0,267812,267812,5499,0,48.701945808328787,48.701945808328787,0,401715,401715,11112,0,36.151457883369332,36.151457883369332]
[879,1,"DELANO",0,52092,52092,2468,0,21.106969205834684,21.106969205834684,0,104186,104186,2468,0,42.214748784440843,42.214748784440843,0,156278,156278,4936,0,31.660858995137762,31.660858995137762]
[881,1,"MAPLE LAKE",0,19373,19373,830,0,23.340963855421688,23.340963855421688,0,38747,38747,819,0,47.310134310134309,47.310134310134309,0,58120,58120,1649,0,35.245603395997577,35.245603395997577]
[882,1,"MONTICELLO",0,118544,118544,4057,0,29.219620409169337,29.219620409169337,0,237092,237092,4027,0,58.875589769058855,58.875589769058855,0,355636,355636,8084,0,43.992577931716973,43.992577931716973]
[883,1,"ROCKFORD",0,35443,35443,1695,0,20.91032448377581,20.91032448377581,0,70887,70887,1700,0,41.698235294117644,41.698235294117644,0,106330,106330,3395,0,31.319587628865978,31.319587628865978]
[885,1,"ST. MICHAEL-ALBE",0,128611,128611,6291,0,20.443649658241934,20.443649658241934,0,257228,257228,6369,0,40.387501962631497,40.387501962631497,0,385839,385839,{"$f":"G266+N266","v":12660},0,30.477014218009479,30.477014218009479]
[891,1,"CANBY",0,{"$f":"F267","v":11857},11857,501,0,{"$f":"F267/G267","v":23.666666666666668},{"$f":"F267/G267","v":23.666666666666668},0,{"$f":"M267","v":23714},23714,492,0,{"$f":"M267/N267","v":48.199186991869915},{"$f":"M267/N267","v":48.199186991869915},{"$f":"D267+K267","v":0},35571,35571,993,{"$f":"R267/U267","v":0},{"$f":"S267/U267","v":35.821752265861029},{"$f":"T267/U267","v":35.821752265861029}]
[911,1,"CAMBRIDGE-ISANTI",0,128427,128427,5001,0,25.680263947210559,25.680263947210559,0,256860,256860,4975,0,51.630150753768845,51.630150753768845,0,385287,385287,9976,0,38.621391339214114,38.621391339214114]
[912,1,"MILACA",0,43893,43893,1792,0,24.493861607142858,24.493861607142858,0,87788,87788,1784,0,49.208520179372201,49.208520179372201,0,131681,131681,3576,0,36.823545861297539,36.823545861297539]
[914,1,"ULEN-HITTERDAL",0,7220,7220,274,0,26.350364963503651,26.350364963503651,0,14440,14440,269,0,53.680297397769515,53.680297397769515,0,21660,21660,543,0,39.889502762430936,39.889502762430936]
[2071,1,"LAKE CRYSTAL-WEL",0,17574,17574,907,0,19.375964718853364,19.375964718853364,0,35149,35149,914,0,38.456236323851201,38.456236323851201,0,52723,52723,1821,0,28.952773201537617,28.952773201537617]
[2125,1,"TRITON",0,25269,25269,1200,0,21.057500000000001,21.057500000000001,0,50539,50539,1204,0,41.975913621262457,41.975913621262457,0,75808,75808,2404,0,31.534109816971714,31.534109816971714]
[2134,1,"UNITED SOUTH CENTRAL",0,17365,17365,691,0,25.130246020260493,25.130246020260493,0,34730,34730,681,0,50.998531571218798,50.998531571218798,0,52095,52095,1372,0,37.970116618075799,37.970116618075799]
[2135,1,"MAPLE RIVER",0,22561,22561,945,0,23.874074074074073,23.874074074074073,0,45122,45122,914,0,49.367614879649892,49.367614879649892,0,67683,67683,1859,0,36.408284023668642,36.408284023668642]
[2137,1,"KINGSLAND",0,12732,12732,622,0,20.469453376205788,20.469453376205788,0,25465,25465,633,0,40.229067930489734,40.229067930489734,0,38197,38197,1255,0,30.43585657370518,30.43585657370518]
[2142,1,"ST. LOUIS COUNTY",0,48773,48773,1839,0,26.52147906470908,26.52147906470908,0,97549,97549,1815,0,53.746005509641876,53.746005509641876,0,146322,146322,3654,0,40.044334975369459,40.044334975369459]
[2143,1,"WATERVILLE-ELYSIAN-MORRISTOWN",0,20562,20562,771,0,26.669260700389106,26.669260700389106,0,41125,41125,771,0,53.339818417639428,53.339818417639428,0,61687,61687,1542,0,40.004539559014269,40.004539559014269]
[2144,1,"CHISAGO LAKES AREA",0,75502,75502,3375,0,22.370962962962963,22.370962962962963,0,151008,151008,3325,0,45.41593984962406,45.41593984962406,0,226510,226510,6700,0,33.807462686567163,33.807462686567163]
[2149,1,"MINNEWASKA",0,30240,30240,1193,0,25.347862531433361,25.347862531433361,0,60482,60482,1192,0,50.739932885906043,50.739932885906043,0,90722,90722,2385,0,38.038574423480085,38.038574423480085]
[2154,1,"EVELETH-GILBERT",0,18301,18301,940,0,19.469148936170214,19.469148936170214,0,36603,36603,955,0,38.32774869109948,38.32774869109948,0,54904,54904,1895,0,28.973087071240105,28.973087071240105]
[2155,1,"WADENA-DEER CREEK",0,22690,22690,1032,0,21.986434108527131,21.986434108527131,0,45381,45381,1013,0,44.798617966436325,44.798617966436325,0,68071,68071,2045,0,33.286552567237166,33.286552567237166]
[2159,1,"BUFFALO LAKE-HECTOR",0,11671,11671,556,0,20.991007194244606,20.991007194244606,0,23343,23343,556,0,41.983812949640289,41.983812949640289,0,35014,35014,1112,0,31.487410071942445,31.487410071942445]
[2164,1,"DILWORTH-GLYNDON",0,38108,38108,1690,0,22.549112426035503,22.549112426035503,0,76217,76217,1733,0,43.979803808424698,43.979803808424698,0,114325,114325,3423,0,33.399065147531402,33.399065147531402]
[2165,1,"HINCKLEY-FINLAYS",0,22709,22709,972,0,23.363168724279834,23.363168724279834,0,45420,45420,941,0,48.267800212539854,48.267800212539854,0,68129,68129,1913,0,35.613695765812857,35.613695765812857]
[2167,1,"LAKEVIEW",0,14993,14993,642,0,23.353582554517136,23.353582554517136,0,29987,29987,629,0,47.674085850556438,47.674085850556438,0,44980,44980,1271,0,35.389457120377656,35.389457120377656]
[2168,1,"NRHEG",0,19781,19781,927,0,21.338727076591155,21.338727076591155,0,39563,39563,904,0,43.764380530973455,43.764380530973455,0,59344,59344,1831,0,32.41070453304205,32.41070453304205]
[2169,1,"MURRAY COUNTY",0,15227,15227,726,0,20.973829201101928,20.973829201101928,0,30454,30454,726,0,41.947658402203857,41.947658402203857,0,45681,45681,1452,0,31.460743801652892,31.460743801652892]
[2170,1,"STAPLES-MOTLEY",0,26368,26368,1130,0,23.334513274336285,23.334513274336285,0,52737,52737,1125,0,46.877333333333333,46.877333333333333,0,79105,79105,2255,0,35.079822616407981,35.079822616407981]
[2171,1,"KITTSON CENTRAL",0,7410,7410,249,0,29.759036144578314,29.759036144578314,0,14821,14821,239,0,62.012552301255234,62.012552301255234,0,22231,22231,488,0,45.555327868852459,45.555327868852459]
[2172,1,"KENYON-WANAMINGO",0,16218,16218,789,0,20.555133079847909,20.555133079847909,0,32436,32436,774,0,41.906976744186046,41.906976744186046,0,48654,48654,1563,0,31.128598848368522,31.128598848368522]
[2174,1,"PINE RIVER-BACKU",0,20962,20962,974,0,21.521560574948666,21.521560574948666,0,41925,41925,993,0,42.220543806646525,42.220543806646525,0,62887,62887,1967,0,31.971021860701576,31.971021860701576]
[2176,1,"WARREN-ALVARADO-",0,12109,12109,462,0,26.20995670995671,26.20995670995671,0,24218,24218,467,0,51.858672376873663,51.858672376873663,0,36327,36327,929,0,39.103336921420883,39.103336921420883]
[2180,1,"MACCRAY",0,16551,16551,673,0,24.592867756315009,24.592867756315009,0,33103,33103,661,0,50.080181543116488,50.080181543116488,0,49654,49654,1334,0,37.221889055472261,37.221889055472261]
[2184,1,"LUVERNE",0,29995,29995,1194,0,25.121440536013399,25.121440536013399,0,59991,59991,1187,0,50.54001684919966,50.54001684919966,0,89986,89986,2381,0,37.793364132717343,37.793364132717343]
[2190,1,"YELLOW MEDICINE EAST",0,13454,13454,753,0,17.867197875166003,17.867197875166003,0,26908,26908,729,0,36.910836762688618,36.910836762688618,0,40362,40362,1482,0,27.234817813765183,27.234817813765183]
[2198,1,"FILLMORE CENTRAL",0,12870,12870,627,0,20.526315789473685,20.526315789473685,0,25740,25740,606,0,42.475247524752476,42.475247524752476,0,38610,38610,1233,0,31.313868613138688,31.313868613138688]
[2215,1,"NORMAN COUNTY EAST",0,6810,6810,283,0,24.063604240282686,24.063604240282686,0,13620,13620,287,0,47.456445993031359,47.456445993031359,0,20430,20430,570,0,35.842105263157897,35.842105263157897]
[2310,1,"SIBLEY EAST",0,28073,28073,1182,0,23.750423011844333,23.750423011844333,0,56147,56147,1159,0,48.444348576358934,48.444348576358934,0,84220,84220,2341,0,35.976078598889366,35.976078598889366]
[2311,1,"CLEARBROOK-GONVICK",0,9574,9574,422,0,22.687203791469194,22.687203791469194,0,19149,19149,417,0,45.920863309352519,45.920863309352519,0,28723,28723,839,0,34.234803337306317,34.234803337306317]
[2342,1,"WEST CENTRAL AREA",0,17606,17606,719,0,24.486787204450625,24.486787204450625,0,35212,35212,721,0,48.8377253814147,48.8377253814147,0,52818,52818,1440,0,36.679166666666667,36.679166666666667]
[2358,1,"TRI-COUNTY",0,6129,6129,191,0,32.089005235602095,32.089005235602095,0,12258,12258,194,0,63.185567010309278,63.185567010309278,0,18387,18387,385,0,47.758441558441561,47.758441558441561]
[2364,1,"BELGRADE-BROOTEN-ELR",0,14992,14992,590,0,25.410169491525423,25.410169491525423,0,29984,29984,565,0,53.069026548672568,53.069026548672568,0,44976,44976,1155,0,38.940259740259741,38.940259740259741]
[2365,1,"G.F.W.",0,18695,18695,780,0,23.967948717948719,23.967948717948719,0,37390,37390,763,0,49.003931847968545,49.003931847968545,0,56085,56085,1543,0,36.348023331173039,36.348023331173039]
[2396,1,"A.C.G.C.",0,21056,21056,752,0,28,28,0,42113,42113,737,0,57.141112618724556,57.141112618724556,0,63169,63169,1489,0,42.423774345198119,42.423774345198119]
[2397,1,"LESUEUR-HENDERSO",0,21372,21372,975,0,21.92,21.92,0,42745,42745,964,0,44.341286307053942,44.341286307053942,0,64117,64117,1939,0,33.067044868488914,33.067044868488914]
[2448,1,"MARTIN COUNTY",0,16510,16510,730,0,22.616438356164384,22.616438356164384,0,33020,33020,710,0,46.507042253521128,46.507042253521128,0,49530,49530,1440,0,34.395833333333336,34.395833333333336]
[2527,1,"NORMAN CTY WEST",0,6780,6780,235,0,28.851063829787233,28.851063829787233,0,13561,13561,231,0,58.705627705627705,58.705627705627705,0,20341,20341,466,0,43.650214592274679,43.650214592274679]
[2534,1,"BIRD ISLAND-OLIVIA-LAKE LILLIAN",0,14302,14302,687,0,20.818049490538574,20.818049490538574,0,28605,28605,683,0,41.881405563689604,41.881405563689604,0,42907,42907,1370,0,31.318978102189782,31.318978102189782]
[2536,1,"GRANADA HUNTLEY-",0,5507,5507,247,0,22.295546558704455,22.295546558704455,0,11014,11014,246,0,44.772357723577237,44.772357723577237,0,16521,16521,493,0,33.511156186612574,33.511156186612574]
[2580,1,"EAST CENTRAL",0,17530,17530,720,0,24.347222222222221,24.347222222222221,0,35061,35061,696,0,50.375,50.375,0,52591,52591,1416,0,37.140536723163841,37.140536723163841]
[2609,1,"WIN-E-MAC",0,9191,9191,422,0,21.779620853080569,21.779620853080569,0,18381,18381,418,0,43.973684210526315,43.973684210526315,0,27572,27572,840,0,32.823809523809523,32.823809523809523]
[2683,1,"GREENBUSH-MIDDLE RIV",0,10464,10464,380,0,27.536842105263158,27.536842105263158,0,20928,20928,379,0,55.21899736147757,55.21899736147757,0,31392,31392,759,0,41.359683794466406,41.359683794466406]
[2687,1,"HOWARD LAKE-WAVERLY-WINSTED",0,25650,25650,1161,0,22.093023255813954,22.093023255813954,0,51301,51301,1178,0,43.549235993208832,43.549235993208832,0,76951,76951,2339,0,32.899102180418986,32.899102180418986]
[2689,1,"PIPESTONE-JASPER",0,25503,25503,1145,0,22.273362445414847,22.273362445414847,0,51007,51007,1143,0,44.625546806649169,44.625546806649169,0,76510,76510,2288,0,33.439685314685313,33.439685314685313]
[2711,1,"MESABI EAST",0,20708,20708,923,0,22.435536294691225,22.435536294691225,0,41418,41418,921,0,44.970684039087949,44.970684039087949,0,62126,62126,1844,0,33.690889370932751,33.690889370932751]
[2752,1,"FAIRMONT AREA SCHOOLS",0,35081,35081,1718,0,20.419674039580908,20.419674039580908,0,70163,70163,1706,0,41.127198124267295,41.127198124267295,0,105244,105244,3424,0,30.73714953271028,30.73714953271028]
[2753,1,"LONG PRAIRIE-GREY EA",0,21442,21442,888,0,24.146396396396398,24.146396396396398,0,42884,42884,893,0,48.022396416573351,48.022396416573351,0,64326,64326,1781,0,36.117911285794499,36.117911285794499]
[2754,1,"CEDAR MOUNTAIN",0,10536,10536,493,0,21.371196754563893,21.371196754563893,0,21073,21073,480,0,43.90208333333333,43.90208333333333,0,31609,31609,973,0,32.486125385405963,32.486125385405963]
[2759,1,"EAGLE BEND-CLARISSA",0,5686,5686,226,0,25.159292035398231,25.159292035398231,0,11372,11372,226,0,50.318584070796462,50.318584070796462,0,17058,17058,452,0,37.738938053097343,37.738938053097343]
[2769,1,"MORRIS AREA PUBLIC SCHOOLS",0,23149,23149,965,0,23.988601036269429,23.988601036269429,0,46299,46299,979,0,47.292134831460672,47.292134831460672,0,69448,69448,1944,0,35.724279835390945,35.724279835390945]
[2805,1,"ZUMBROTA-MAZEPPA",0,24417,24417,1136,0,21.493838028169016,21.493838028169016,0,48835,48835,1128,0,43.293439716312058,43.293439716312058,0,73252,73252,2264,0,32.35512367491166,32.35512367491166]
[2835,1,"JANESVILLE-WALDO",0,13617,13617,558,0,24.403225806451612,24.403225806451612,0,27234,27234,535,0,50.904672897196264,50.904672897196264,0,40851,40851,1093,0,37.375114364135406,37.375114364135406]
[2853,1,"LAC QUI PARLE",0,21854,21854,749,0,29.177570093457945,29.177570093457945,0,43709,43709,743,0,58.827725437415879,58.827725437415879,0,65563,65563,1492,0,43.943029490616624,43.943029490616624]
[2854,1,"ADA-BORUP",0,12325,12325,483,0,25.5175983436853,25.5175983436853,0,24650,24650,470,0,52.446808510638299,52.446808510638299,0,36975,36975,953,0,38.798530954879325,38.798530954879325]
[2856,1,"STEPHEN-ARGYLE",0,7964,7964,299,0,26.635451505016722,26.635451505016722,0,15929,15929,291,0,54.738831615120276,54.738831615120276,0,23893,23893,590,0,40.496610169491525,40.496610169491525]
[2859,1,"GLENCOE-SILVER LAKE",0,34164,34164,1566,0,21.816091954022987,21.816091954022987,0,68329,68329,1579,0,43.273590880303992,43.273590880303992,0,102493,102493,3145,0,32.589189189189192,32.589189189189192]
[2860,1,"BLUE EARTH-DELAVAN-ELMORE",0,29247,29247,1135,0,25.768281938325991,25.768281938325991,0,58495,58495,1117,0,52.367949865711729,52.367949865711729,0,87742,87742,2252,0,38.961811722912969,38.961811722912969]
[2884,1,"RED ROCK CENTRAL",0,9908,9908,379,0,26.142480211081793,26.142480211081793,0,19816,19816,364,0,54.439560439560438,54.439560439560438,0,29724,29724,743,0,40.005383580080753,40.005383580080753]
[2886,1,"GLENVILLE-EMMONS",0,6325,6325,338,0,18.713017751479288,18.713017751479288,0,12651,12651,340,0,37.208823529411767,37.208823529411767,0,18976,18976,678,0,27.9882005899705,27.9882005899705]
[2888,1,"CLINTON-GRACEVILLE-BEARDSLEY",0,8293,8293,336,0,24.68154761904762,24.68154761904762,0,16585,16585,337,0,49.213649851632049,49.213649851632049,0,24878,24878,{"$f":"G330+N330","v":673},0,36.965824665676074,36.965824665676074]
[2889,1,"LAKE PARK-AUDUBON",0,{"$f":"F331","v":16422},16422,727,0,{"$f":"F331/G331","v":22.588720770288859},{"$f":"F331/G331","v":22.588720770288859},0,{"$f":"M331","v":32844},32844,737,0,{"$f":"M331/N331","v":44.564450474898237},{"$f":"M331/N331","v":44.564450474898237},{"$f":"D331+K331","v":0},49266,49266,1464,{"$f":"R331/U331","v":0},{"$f":"S331/U331","v":33.651639344262293},{"$f":"T331/U331","v":33.651639344262293}]
[2890,1,"RENVILLE CTY WEST",0,14321,14321,509,0,28.13555992141454,28.13555992141454,0,28642,28642,496,0,57.74596774193548,57.74596774193548,0,42963,42963,1005,0,42.749253731343281,42.749253731343281]
[2895,1,"JACKSON COUNTY CENTRAL",0,31097,31097,1175,0,26.465531914893617,26.465531914893617,0,62196,62196,1170,0,53.158974358974362,53.158974358974362,0,93293,93293,2345,0,39.783795309168447,39.783795309168447]
[2897,1,"REDWOOD AREA SCHOOLS",0,27348,27348,1112,0,24.593525179856115,24.593525179856115,0,54697,54697,1099,0,49.769790718835303,49.769790718835303,0,82045,82045,2211,0,37.107643600180914,37.107643600180914]
[2898,1,"WESTBROOK-WALNUT GROVE",0,11145,11145,383,0,29.099216710182766,29.099216710182766,0,22291,22291,374,0,59.601604278074866,59.601604278074866,0,33436,33436,757,0,44.169088507265521,44.169088507265521]
[2899,1,"PLAINVIEW-ELGIN-MILLVILLE",0,31543,31543,1454,0,21.6939477303989,21.6939477303989,0,63088,63088,1464,0,43.092896174863391,43.092896174863391,0,94631,94631,2918,0,32.430089102124739,32.430089102124739]
[2902,1,"RTR",0,10654,10654,609,0,17.494252873563219,17.494252873563219,0,21308,21308,624,0,34.147435897435898,34.147435897435898,0,31962,31962,1233,0,25.922141119221411,25.922141119221411]
[2903,1,"ORTONVILLE",0,13422,13422,486,0,27.617283950617285,27.617283950617285,0,26845,26845,481,0,55.810810810810814,55.810810810810814,0,40267,40267,967,0,41.641158221303002,41.641158221303002]
[2904,1,"TRACY-BALATON",0,17086,17086,733,0,23.309686221009549,23.309686221009549,0,34173,34173,730,0,46.81232876712329,46.81232876712329,0,51259,51259,1463,0,35.036910457963089,35.036910457963089]
[2905,1,"TRI-CITY UNITED",0,39872,39872,1942,0,20.531410916580846,20.531410916580846,0,79745,79745,2006,0,39.753240279162512,39.753240279162512,0,119617,119617,3948,0,30.298125633232015,30.298125633232015]
[2906,1,"RED LAKE COUNTY CENTRAL PUBLIC SCHOOLS",0,10103,10103,388,0,26.038659793814432,26.038659793814432,0,20206,20206,391,0,51.677749360613809,51.677749360613809,0,30309,30309,779,0,38.907573812580232,38.907573812580232]
[2907,1,"ROUND LAKE-BREWSTER PUBLIC SCHOOLS",0,5364,5364,305,0,17.586885245901641,17.586885245901641,0,10728,10728,334,0,32.119760479041915,32.119760479041915,0,16092,16092,639,0,25.183098591549296,25.183098591549296]
[2908,1,"BRANDON-EVANSVILLE PUBLIC SCHOOLS",0,8891,8891,476,0,18.678571428571427,18.678571428571427,0,17782,17782,484,0,36.739669421487605,36.739669421487605,0,26673,26673,960,0,27.784375000000001,27.784375000000001]
[3000,1,"NEW REFERENDUM GROWTH",0,0,0,0,0,{"$error":"#DIV/0!"},{"$error":"#DIV/0!"},0,0,0,0,0,{"$error":"#DIV/0!"},{"$error":"#DIV/0!"},0,0,0,0,{"$error":"#DIV/0!"},{"$error":"#DIV/0!"},{"$error":"#DIV/0!"}]
[3999,1,"MDE DST EST (FUDGE)",0,0,0,792,0,0,0,0,0,0,2794,0,0,0,0,0,0,3586,0,0,0]
[4000,7,"CITY ACADEMY",0,2802,2802,110,0,25.472727272727273,25.472727272727273,0,5603,5603,30,0,186.76666666666668,186.76666666666668,0,8405,8405,140,0,60.035714285714285,60.035714285714285]
[4001,7,"BLUFFVIEW MONTESSORI",0,3704,3704,204,0,18.156862745098039,18.156862745098039,0,7407,7407,205,0,36.131707317073172,36.131707317073172,0,11111,11111,409,0,27.166259168704155,27.166259168704155]
[4003,7,"NEW HEIGHTS SCHOOL, INC.",0,2793,2793,136,0,20.536764705882351,20.536764705882351,0,5585,5585,139,0,40.179856115107917,40.179856115107917,0,8378,8378,275,0,30.465454545454545,30.465454545454545]
[4004,7,"CEDAR RIVERSIDE COMMUNITY SCHO",0,4712,4712,176,0,26.772727272727273,26.772727272727273,0,9424,9424,185,0,50.940540540540539,50.940540540540539,0,14136,14136,361,0,39.157894736842103,39.157894736842103]
[4005,7,"METRO DEAF CHARTER SCHOOL",0,11147,11147,35,0,318.48571428571427,318.48571428571427,0,22295,22295,33,0,675.60606060606062,675.60606060606062,0,33442,33442,68,0,491.79411764705884,491.79411764705884]
[4007,7,"MINNESOTA NEW COUNTRY SCHOOL",0,4306,4306,151,0,28.516556291390728,28.516556291390728,0,8613,8613,139,0,61.964028776978417,61.964028776978417,0,12919,12919,290,0,44.548275862068962,44.548275862068962]
[4008,7,"PACT CHARTER SCHOOL",0,10796,10796,640,0,16.868749999999999,16.868749999999999,0,21592,21592,628,0,34.382165605095544,34.382165605095544,0,32388,32388,1268,0,25.542586750788644,25.542586750788644]
[4011,7,"NEW VISIONS CHARTER SCHOOL",0,15956,15956,1105,0,14.439819004524887,14.439819004524887,0,31912,31912,1100,0,29.010909090909092,29.010909090909092,0,47868,47868,2205,0,21.708843537414968,21.708843537414968]
[4015,7,"COMMUNITY OF PEACE ACADEMY",0,16872,16872,768,0,21.96875,21.96875,0,33744,33744,768,0,43.9375,43.9375,0,50616,50616,1536,0,32.953125,32.953125]
[4016,7,"WORLD LEARNER CHARTER SCHOOL",0,3652,3652,218,0,16.75229357798165,16.75229357798165,0,7305,7305,211,0,34.620853080568722,34.620853080568722,0,10957,10957,429,0,25.540792540792541,25.540792540792541]
[4017,7,"MINNESOTA TRANSITIONS CHARTER",0,29946,29946,2820,0,10.619148936170212,10.619148936170212,0,59893,59893,2481,0,24.140669085046351,24.140669085046351,0,89839,89839,5301,0,16.947557064704771,16.947557064704771]
[4018,7,"ACHIEVE LANGUAGE ACADEMY",0,9569,9569,444,0,21.551801801801801,21.551801801801801,0,19138,19138,450,0,42.528888888888886,42.528888888888886,0,28707,28707,894,0,32.11073825503356,32.11073825503356]
[4020,7,"DULUTH PUBLIC SCHOOLS ACADEMY",0,32305,32305,1408,0,22.943892045454547,22.943892045454547,0,64611,64611,1729,0,37.368999421631003,37.368999421631003,0,96916,96916,3137,0,30.894485176920625,30.894485176920625]
[4025,7,"CYBER VILLAGE ACADEMY",0,4891,4891,154,0,31.759740259740258,31.759740259740258,0,9783,9783,142,0,68.894366197183103,68.894366197183103,0,14674,14674,296,0,49.574324324324323,49.574324324324323]
[4026,7,"E.C.H.O. CHARTER SCHOOL",0,3007,3007,95,0,31.652631578947368,31.652631578947368,0,6014,6014,88,0,68.340909090909093,68.340909090909093,0,9021,9021,183,0,49.295081967213115,49.295081967213115]
[4027,7,"HIGHER GROUND ACADEMY",0,9880,9880,760,0,13,13,0,19761,19761,760,0,26.001315789473683,26.001315789473683,0,29641,29641,1520,0,19.500657894736843,19.500657894736843]
[4029,7,"NEW SPIRIT SCHOOLS",0,9898,9898,394,0,25.121827411167512,25.121827411167512,0,19796,19796,393,0,50.371501272264631,50.371501272264631,0,29694,29694,787,0,37.730622617534941,37.730622617534941]
[4030,7,"ODYSSEY CHARTER SCHOOL",0,5200,5200,360,0,14.444444444444445,14.444444444444445,0,10401,10401,370,0,28.110810810810811,28.110810810810811,0,15601,15601,730,0,21.37123287671233,21.37123287671233]
[4031,7,"JENNINGS EXPERIENTIAL HIGH SCH",0,1769,1769,86,0,20.569767441860463,20.569767441860463,0,3538,3538,71,0,49.83098591549296,49.83098591549296,0,5307,5307,157,0,33.802547770700635,33.802547770700635]
[4032,7,"HARVEST PREP SCHOOL/SEED ACADE",0,7406,7406,430,0,17.223255813953489,17.223255813953489,0,14812,14812,440,0,33.663636363636364,33.663636363636364,0,22218,22218,870,0,25.53793103448276,25.53793103448276]
[4035,7,"CONCORDIA CREATIVE LEARNING AC",0,6881,6881,350,0,19.66,19.66,0,13763,13763,350,0,39.322857142857146,39.322857142857146,0,20644,20644,700,0,29.491428571428571,29.491428571428571]
[4036,7,"FACE TO FACE ACADEMY",0,2432,2432,48,0,50.666666666666664,50.666666666666664,0,4865,4865,48,0,101.35416666666667,101.35416666666667,0,7297,7297,96,0,76.010416666666671,76.010416666666671]
[4038,7,"SOJOURNER TRUTH ACADEMY",0,10283,10283,444,0,23.15990990990991,23.15990990990991,0,20566,20566,460,0,44.708695652173915,44.708695652173915,0,30849,30849,904,0,34.125,34.125]
[4039,7,"HIGH SCHOOL FOR RECORDING ARTS",0,3061,3061,315,0,9.7174603174603167,9.7174603174603167,0,6122,6122,320,0,19.131250000000001,19.131250000000001,0,9183,9183,635,0,14.461417322834645,14.461417322834645]
[4042,7,"TWIN CITIES ACADEMY",0,4183,4183,0,0,{"$error":"#DIV/0!"},{"$error":"#DIV/0!"},0,8366,8366,0,0,{"$error":"#DIV/0!"},{"$error":"#DIV/0!"},0,12549,12549,0,{"$error":"#DIV/0!"},{"$error":"#DIV/0!"},{"$error":"#DIV/0!"}]
[4043,7,"MATH & SCIENCE ACADEMY",0,8241,8241,477,0,17.276729559748428,17.276729559748428,0,16483,16483,540,0,30.524074074074075,30.524074074074075,0,24724,24724,1017,0,24.310717797443463,24.310717797443463]
[4045,7,"LAKES AREA CHARTER SCHOOL",0,0,0,0,0,{"$error":"#DIV/0!"},{"$error":"#DIV/0!"},0,0,0,0,0,{"$error":"#DIV/0!"},{"$error":"#DIV/0!"},0,0,0,0,{"$error":"#DIV/0!"},{"$error":"#DIV/0!"},{"$error":"#DIV/0!"}]
[4049,7,"COON RAPIDS LEARNING CENTER",0,3418,3418,180,0,18.988888888888887,18.988888888888887,0,6835,6835,180,0,37.972222222222221,37.972222222222221,0,10253,10253,360,0,28.480555555555554,28.480555555555554]
[4050,7,"LAFAYETTE PUBLIC CHARTER SCHOO",0,1241,1241,96,0,12.927083333333334,12.927083333333334,0,2482,2482,104,0,23.865384615384617,23.865384615384617,0,3723,3723,200,0,18.614999999999998,18.614999999999998]
[4053,7,"NORTH LAKES ACADEMY",0,8428,8428,417,0,20.211031175059951,20.211031175059951,0,16856,16856,420,0,40.133333333333333,40.133333333333333,0,25284,25284,837,0,30.207885304659499,30.207885304659499]
[4054,7,"LACRESCENT MONTESSORI ACADEMY",0,1314,1314,76,0,17.289473684210527,17.289473684210527,0,2627,2627,78,0,33.679487179487182,33.679487179487182,0,3941,3941,154,0,25.59090909090909,25.59090909090909]
[4055,7,"NERSTRAND CHARTER SCHOOL",0,2251,2251,150,0,15.006666666666666,15.006666666666666,0,4502,4502,148,0,30.418918918918919,30.418918918918919,0,6753,6753,298,0,22.661073825503355,22.661073825503355]
[4056,7,"ROCHESTER OFF-CAMPUS CHARTER H",0,2521,2521,108,0,23.342592592592592,23.342592592592592,0,5041,5041,110,0,45.827272727272728,45.827272727272728,0,7562,7562,218,0,34.688073394495412,34.688073394495412]
[4057,7,"EL COLEGIO CHARTER SCHOOL",0,2175,2175,110,0,19.772727272727273,19.772727272727273,0,4350,4350,105,0,41.428571428571431,41.428571428571431,0,6525,6525,215,0,30.348837209302324,30.348837209302324]
[4058,7,"SCHOOLCRAFT LEARNING COMMUNITY",0,3897,3897,187,0,20.839572192513369,20.839572192513369,0,7794,7794,185,0,42.129729729729732,42.129729729729732,0,11691,11691,372,0,31.427419354838708,31.427419354838708]
[4059,7,"CROSSLAKE COMMUNITY CHARTER SC",0,3387,3387,150,0,22.58,22.58,0,6774,6774,147,0,46.081632653061227,46.081632653061227,0,10161,10161,297,0,34.212121212121211,34.212121212121211]
[4064,7,"RIVERWAY LEARNING COMMUNITY CH",0,1896,1896,106,0,17.886792452830189,17.886792452830189,0,3791,3791,108,0,35.101851851851855,35.101851851851855,0,5687,5687,214,0,26.574766355140188,26.574766355140188]
[4066,7,"RIVERBEND ACADEMY",0,2011,2011,65,0,30.938461538461539,30.938461538461539,0,4022,4022,60,0,67.033333333333331,67.033333333333331,0,6033,6033,125,0,48.264000000000003,48.264000000000003]
[4067,7,"AURORA CHARTER SCHOOL",0,7108,7108,385,0,18.462337662337664,18.462337662337664,0,14216,14216,382,0,37.214659685863872,37.214659685863872,0,21324,21324,767,0,27.801825293350717,27.801825293350717]
[4068,7,"EXCELL ACADEMY CHARTER",0,8329,8329,568,0,14.663732394366198,14.663732394366198,0,16659,16659,608,0,27.399671052631579,27.399671052631579,0,24988,24988,1176,0,21.248299319727892,21.248299319727892]
[4070,7,"HOPE COMMUNITY ACADEMY",0,11759,11759,520,0,22.613461538461539,22.613461538461539,0,23519,23519,530,0,44.375471698113209,44.375471698113209,0,35278,35278,1050,0,33.59809523809524,33.59809523809524]
[4073,7,"ACADEMIA CESAR CHAVEZ CHARTER",0,7388,7388,527,0,14.018975332068312,14.018975332068312,0,14776,14776,540,0,27.362962962962964,27.362962962962964,0,22164,22164,1067,0,20.772258669165886,20.772258669165886]
[4074,7,"AGRICULTURAL FOOD SCIENCE ACAD",0,8926,8926,465,0,19.195698924731182,19.195698924731182,0,17851,17851,425,0,42.002352941176468,42.002352941176468,0,26777,26777,890,0,30.086516853932583,30.086516853932583]
[4075,7,"AVALON SCHOOL",0,5993,5993,200,0,29.965,29.965,0,11987,11987,173,0,69.289017341040463,69.289017341040463,0,17980,17980,373,0,48.203753351206437,48.203753351206437]
[4077,7,"TWIN CITIES INTERNATIONAL ELEM",0,12987,12987,581,0,22.352839931153184,22.352839931153184,0,25974,25974,571,0,45.488616462346762,45.488616462346762,0,38961,38961,1152,0,33.8203125,33.8203125]
[4078,7,"MN INTERNATIONAL MIDDLE CHARTE",0,7486,7486,458,0,16.344978165938866,16.344978165938866,0,14972,14972,476,0,31.45378151260504,31.45378151260504,0,22458,22458,934,0,24.044967880085654,24.044967880085654]
[4079,7,"FRIENDSHIP ACDMY OF FINE ARTS",0,2125,2125,145,0,14.655172413793103,14.655172413793103,0,4250,4250,147,0,28.911564625850339,28.911564625850339,0,6375,6375,292,0,21.832191780821919,21.832191780821919]
[4080,7,"PILLAGER AREA CHARTER SCHOOL",0,949,949,43,0,22.069767441860463,22.069767441860463,0,1898,1898,44,0,43.136363636363633,43.136363636363633,0,2847,2847,87,0,32.724137931034484,32.724137931034484]
[4081,7,"COVENANT ACADEMY OF MN. CHTR.",0,1344,1344,55,0,24.436363636363637,24.436363636363637,0,2688,2688,57,0,47.157894736842103,47.157894736842103,0,4032,4032,{"$f":"G394+N394","v":112},0,36,36]
[4082,7,"BLUESKY CHARTER SCHOOL",0,{"$f":"F395","v":13521},13521,490,0,{"$f":"F395/G395","v":27.593877551020409},{"$f":"F395/G395","v":27.593877551020409},0,{"$f":"M395","v":27042},27042,460,0,{"$f":"M395/N395","v":58.786956521739128},{"$f":"M395/N395","v":58.786956521739128},{"$f":"D395+K395","v":0},40563,40563,950,{"$f":"R395/U395","v":0},{"$f":"S395/U395","v":42.697894736842102},{"$f":"T395/U395","v":42.697894736842102}]
[4083,7,"RIDGEWAY COMMUNITY SCHOOL",0,1831,1831,97,0,18.876288659793815,18.876288659793815,0,3662,3662,94,0,38.957446808510639,38.957446808510639,0,5493,5493,191,0,28.759162303664922,28.759162303664922]
[4084,7,"NORTH SHORE COMMUNITY SCHOOL",0,6557,6557,340,0,19.285294117647059,19.285294117647059,0,13115,13115,350,0,37.471428571428568,37.471428571428568,0,19672,19672,690,0,28.510144927536231,28.510144927536231]
[4085,7,"HARBOR CITY INTERNATIONAL CHAR",0,5313,5313,200,0,26.565000000000001,26.565000000000001,0,10625,10625,200,0,53.125,53.125,0,15938,15938,400,0,39.844999999999999,39.844999999999999]
[4086,7,"WOODSON INSTITUTE FOR EXCELLEN",0,0,0,0,0,{"$error":"#DIV/0!"},{"$error":"#DIV/0!"},0,0,0,0,0,{"$error":"#DIV/0!"},{"$error":"#DIV/0!"},0,0,0,0,{"$error":"#DIV/0!"},{"$error":"#DIV/0!"},{"$error":"#DIV/0!"}]
[4087,7,"SAGE ACADEMY CHARTER SCHOOL",0,1926,1926,80,0,24.074999999999999,24.074999999999999,0,3852,3852,80,0,48.15,48.15,0,5778,5778,160,0,36.112499999999997,36.112499999999997]
[4088,7,"URBAN ACADEMY CHARTER SCHOOL",0,5379,5379,316,0,17.022151898734176,17.022151898734176,0,10758,10758,316,0,34.044303797468352,34.044303797468352,0,16137,16137,632,0,25.533227848101266,25.533227848101266]
[4089,7,"NEW CITY SCHOOL",0,4970,4970,288,0,17.256944444444443,17.256944444444443,0,9940,9940,356,0,27.921348314606742,27.921348314606742,0,14910,14910,644,0,23.152173913043477,23.152173913043477]
[4090,7,"PRAIRIE CREEK COMMUNITY SCHOOL",0,3751,3751,180,0,20.838888888888889,20.838888888888889,0,7502,7502,180,0,41.677777777777777,41.677777777777777,0,11253,11253,360,0,31.258333333333333,31.258333333333333]
[4091,7,"ARTECH",0,3289,3289,123,0,26.739837398373982,26.739837398373982,0,6578,6578,124,0,53.048387096774192,53.048387096774192,0,9867,9867,247,0,39.94736842105263,39.94736842105263]
[4092,7,"WATERSHED HIGH SCHOOL",0,1438,1438,64,0,22.46875,22.46875,0,2876,2876,64,0,44.9375,44.9375,0,4314,4314,128,0,33.703125,33.703125]
[4093,7,"NEW CENTURY CHARTER SCHOOL",0,1935,1935,130,0,14.884615384615385,14.884615384615385,0,3870,3870,120,0,32.25,32.25,0,5805,5805,250,0,23.22,23.22]
[4095,7,"TRIO WOLF CREEK DISTANCE LEARN",0,3634,3634,200,0,18.170000000000002,18.170000000000002,0,7268,7268,200,0,36.340000000000003,36.340000000000003,0,10902,10902,400,0,27.254999999999999,27.254999999999999]
[4097,7,"PARTNERSHIP ACADEMY, INC.",0,8533,8533,291,0,29.323024054982817,29.323024054982817,0,17067,17067,295,0,57.854237288135593,57.854237288135593,0,25600,25600,586,0,43.68600682593857,43.68600682593857]
[4098,7,"NOVA CLASSICAL ACADEMY",0,17123,17123,958,0,17.873695198329855,17.873695198329855,0,34246,34246,991,0,34.557013118062564,34.557013118062564,0,51369,51369,1949,0,26.356593124679321,26.356593124679321]
[4100,7,"GREAT EXPECTATIONS",0,1907,1907,102,0,18.696078431372548,18.696078431372548,0,3813,3813,106,0,35.971698113207545,35.971698113207545,0,5720,5720,208,0,27.5,27.5]
[4102,7,"MINNESOTA INTERNSHIP CENTER",0,7375,7375,550,0,13.409090909090908,13.409090909090908,0,14751,14751,550,0,26.82,26.82,0,22126,22126,1100,0,20.114545454545453,20.114545454545453]
[4103,7,"HMONG ACADEMY",0,27225,27225,1625,0,16.753846153846155,16.753846153846155,0,54451,54451,1725,0,31.565797101449274,31.565797101449274,0,81676,81676,3350,0,24.380895522388059,24.380895522388059]
[4104,7,"LIBERTY HIGH SCHOOL",0,4928,4928,280,0,17.600000000000001,17.600000000000001,0,9857,9857,110,0,89.609090909090909,89.609090909090909,0,14785,14785,390,0,37.910256410256409,37.910256410256409]
[4105,7,"GREAT RIVER SCHOOL",0,7474,7474,425,0,17.585882352941177,17.585882352941177,0,14949,14949,406,0,36.820197044334975,36.820197044334975,0,22423,22423,831,0,26.983152827918172,26.983152827918172]
[4106,7,"TREKNORTH HIGH SCHOOL",0,6181,6181,235,0,26.302127659574467,26.302127659574467,0,12362,12362,230,0,53.747826086956522,53.747826086956522,0,18543,18543,465,0,39.877419354838707,39.877419354838707]
[4107,7,"VOYAGEURS EXPEDITIONARY",0,2590,2590,112,0,23.125,23.125,0,5180,5180,112,0,46.25,46.25,0,7770,7770,224,0,34.6875,34.6875]
[4109,7,"SOBRIETY HIGH",0,0,0,0,0,{"$error":"#DIV/0!"},{"$error":"#DIV/0!"},0,0,0,0,0,{"$error":"#DIV/0!"},{"$error":"#DIV/0!"},0,0,0,0,{"$error":"#DIV/0!"},{"$error":"#DIV/0!"},{"$error":"#DIV/0!"}]
[4110,7,"MAIN STREET SCHOOL PERFORMING",0,7211,7211,365,0,19.756164383561643,19.756164383561643,0,14423,14423,375,0,38.461333333333336,38.461333333333336,0,21634,21634,740,0,29.235135135135135,29.235135135135135]
[4111,7,"AUGSBURG ACADEMY FOR HEALTH CA",0,3551,3551,120,0,29.591666666666665,29.591666666666665,0,7101,7101,120,0,59.174999999999997,59.174999999999997,0,10652,10652,240,0,44.383333333333333,44.383333333333333]
[4112,7,"ST PAUL CONSERVATORY PERFORMIN",0,10831,10831,595,0,18.203361344537814,18.203361344537814,0,21661,21661,620,0,34.937096774193549,34.937096774193549,0,32492,32492,1215,0,26.74238683127572,26.74238683127572]
[4113,7,"FRASER ACADEMY",0,4842,4842,105,0,46.114285714285714,46.114285714285714,0,9685,9685,107,0,90.514018691588788,90.514018691588788,0,14527,14527,212,0,68.523584905660371,68.523584905660371]
[4115,7,"MINNEAPOLIS ACADEMY CHARTER SC",0,2700,2700,0,0,{"$error":"#DIV/0!"},{"$error":"#DIV/0!"},0,5401,5401,0,0,{"$error":"#DIV/0!"},{"$error":"#DIV/0!"},0,8101,8101,0,{"$error":"#DIV/0!"},{"$error":"#DIV/0!"},{"$error":"#DIV/0!"}]
[4116,7,"LAKES INTERNATIONAL LANGUAGE A",0,14239,14239,1151,0,12.370981754995656,12.370981754995656,0,28478,28478,1433,0,19.872993719469644,19.872993719469644,0,42717,42717,2584,0,16.531346749226007,16.531346749226007]
[4118,7,"KALEIDOSCOPE CHARTER SCHOOL",0,10126,10126,663,0,15.273001508295627,15.273001508295627,0,20253,20253,691,0,29.309696092619394,29.309696092619394,0,30379,30379,1354,0,22.436484490398819,22.436484490398819]
[4119,7,"RIVER HEIGHTS CHARTER SCHOOL",0,2184,2184,93,0,23.483870967741936,23.483870967741936,0,4368,4368,55,0,79.418181818181822,79.418181818181822,0,6552,6552,148,0,44.270270270270274,44.270270270270274]
[4120,7,"ST. CROIX PREPARATORY ACADEMY",0,19574,19574,1150,0,17.020869565217392,17.020869565217392,0,39149,39149,1159,0,33.778257118205346,33.778257118205346,0,58723,58723,2309,0,25.432221741013425,25.432221741013425]
[4121,7,"UBAH MEDICAL ACADEMY CHARTER S",0,7053,7053,400,0,17.6325,17.6325,0,14107,14107,400,0,35.267499999999998,35.267499999999998,0,21160,21160,800,0,26.45,26.45]
[4122,7,"EAGLE RIDGE ACADEMY CHARTER SC",0,16254,16254,1386,0,11.727272727272727,11.727272727272727,0,32508,32508,1477,0,22.009478672985782,22.009478672985782,0,48762,48762,2863,0,17.031784841075794,17.031784841075794]
[4123,7,"DAKOTA AREA COMMUNITY CHARTER",0,88,88,0,0,{"$error":"#DIV/0!"},{"$error":"#DIV/0!"},0,176,176,0,0,{"$error":"#DIV/0!"},{"$error":"#DIV/0!"},0,264,264,0,{"$error":"#DIV/0!"},{"$error":"#DIV/0!"},{"$error":"#DIV/0!"}]
[4124,7,"BEACON ACADEMY",0,8267,8267,412,0,20.065533980582526,20.065533980582526,0,16535,16535,408,0,40.526960784313722,40.526960784313722,0,24802,24802,820,0,30.246341463414634,30.246341463414634]
[4126,7,"PRAIRIE SEEDS ACADEMY",0,12710,12710,766,0,16.592689295039165,16.592689295039165,0,25421,25421,778,0,32.674807197943444,32.674807197943444,0,38131,38131,1544,0,24.696243523316063,24.696243523316063]
[4127,7,"TEAM ACADEMY",0,3006,3006,118,0,25.474576271186439,25.474576271186439,0,6013,6013,120,0,50.108333333333334,50.108333333333334,0,9019,9019,238,0,37.894957983193279,37.894957983193279]
[4131,7,"LIGHTHOUSE ACADEMY OF NATIONS",0,5866,5866,300,0,19.553333333333335,19.553333333333335,0,11732,11732,300,0,39.106666666666669,39.106666666666669,0,17598,17598,600,0,29.33,29.33]
[4132,7,"TWIN CITIES ACADEMY HIGH SCHOOL",0,5308,5308,620,0,8.5612903225806445,8.5612903225806445,0,10616,10616,630,0,16.850793650793651,16.850793650793651,0,15924,15924,1250,0,12.7392,12.7392]
[4133,7,"BEACON PREPARATORY SCHOOL",0,0,0,0,0,{"$error":"#DIV/0!"},{"$error":"#DIV/0!"},0,0,0,0,0,{"$error":"#DIV/0!"},{"$error":"#DIV/0!"},0,0,0,0,{"$error":"#DIV/0!"},{"$error":"#DIV/0!"},{"$error":"#DIV/0!"}]
[4135,7,"ADAM ABDULLE ACADEMY",0,5208,5208,350,0,14.88,14.88,0,10417,10417,350,0,29.762857142857143,29.762857142857143,0,15625,15625,700,0,22.321428571428573,22.321428571428573]
[4137,7,"SWAN RIVER MONTESSORI CHARTER",0,3119,3119,150,0,20.793333333333333,20.793333333333333,0,6238,6238,150,0,41.586666666666666,41.586666666666666,0,9357,9357,300,0,31.19,31.19]
[4138,7,"MILROY AREA CHARTER SCHOOL",0,772,772,49,0,15.755102040816327,15.755102040816327,0,1544,1544,48,0,32.166666666666664,32.166666666666664,0,2316,2316,97,0,23.876288659793815,23.876288659793815]
[4139,7,"LOVEWORKS ACADEMY FOR ARTS",0,4110,4110,306,0,13.431372549019608,13.431372549019608,0,8221,8221,302,0,27.221854304635762,27.221854304635762,0,12331,12331,608,0,20.28125,20.28125]
[4140,7,"YINGHUA ACADEMY",0,10600,10600,748,0,14.171122994652407,14.171122994652407,0,21201,21201,829,0,25.574185765983113,25.574185765983113,0,31801,31801,1577,0,20.165504121750157,20.165504121750157]
[4141,7,"PAIDEIA ACADEMY CHARTER SCHOOL",0,6406,6406,0,0,{"$error":"#DIV/0!"},{"$error":"#DIV/0!"},0,12812,12812,0,0,{"$error":"#DIV/0!"},{"$error":"#DIV/0!"},0,19218,19218,0,{"$error":"#DIV/0!"},{"$error":"#DIV/0!"},{"$error":"#DIV/0!"}]
[4142,7,"STRIDE ACADEMY CHARTER SCHOOL",0,11500,11500,722,0,15.927977839335179,15.927977839335179,0,23000,23000,732,0,31.420765027322403,31.420765027322403,0,34500,34500,1454,0,23.727647867950481,23.727647867950481]
[4143,7,"NEW MILLENNIUM ACADEMY CHARTER",0,10898,10898,660,0,16.512121212121212,16.512121212121212,0,21796,21796,695,0,31.36115107913669,31.36115107913669,0,32694,32694,1355,0,24.12841328413284,24.12841328413284]
[4144,7,"GREEN ISLE COMMUNITY SCHOOL",0,959,959,60,0,15.983333333333333,15.983333333333333,0,1917,1917,65,0,29.492307692307691,29.492307692307691,0,2876,2876,125,0,23.007999999999999,23.007999999999999]
[4145,7,"BIRCH GROVE COMMUNITY SCHOOL",0,782,782,30,0,26.066666666666666,26.066666666666666,0,1564,1564,34,0,46,46,0,2346,2346,64,0,36.65625,36.65625]
[4146,7,"NORTHERN LIGHTS COMMUNITY SCHO",0,3109,3109,90,0,34.544444444444444,34.544444444444444,0,6219,6219,80,0,77.737499999999997,77.737499999999997,0,9328,9328,170,0,54.870588235294115,54.870588235294115]
[4150,7,"MINNESOTA ONLINE HIGH SCHOOL",0,3729,3729,158,0,23.601265822784811,23.601265822784811,0,7458,7458,158,0,47.202531645569621,47.202531645569621,0,11187,11187,316,0,35.401898734177216,35.401898734177216]
[4151,7,"EDVISIONS OFF CAMPUS SCHOOL",0,3167,3167,115,0,27.53913043478261,27.53913043478261,0,6334,6334,112,0,56.553571428571431,56.553571428571431,0,9501,9501,227,0,41.854625550660792,41.854625550660792]
[4152,7,"TWIN CITIES GERMAN IMMERSION C",0,9776,9776,554,0,17.646209386281587,17.646209386281587,0,19552,19552,594,0,32.915824915824913,32.915824915824913,0,29328,29328,1148,0,25.547038327526131,25.547038327526131]
[4153,7,"DUGSI ACADEMY",0,7279,7279,387,0,18.808785529715763,18.808785529715763,0,14559,14559,398,0,36.58040201005025,36.58040201005025,0,21838,21838,785,0,27.819108280254778,27.819108280254778]
[4155,7,"NAYTAUWAUSH COMMUNITY SCHOOL",0,3416,3416,108,0,31.62962962962963,31.62962962962963,0,6831,6831,108,0,63.25,63.25,0,10247,10247,216,0,47.439814814814817,47.439814814814817]
[4159,7,"SEVEN HILLS CLASSICAL ACADEMY",0,14477,14477,916,0,15.804585152838428,15.804585152838428,0,28955,28955,989,0,29.277047522750252,29.277047522750252,0,43432,43432,1905,0,22.798950131233596,22.798950131233596]
[4160,7,"SPECTRUM HIGH SCHOOL",0,11659,11659,655,0,17.8,17.8,0,23319,23319,655,0,35.601526717557249,35.601526717557249,0,34978,34978,1310,0,26.700763358778627,26.700763358778627]
[4161,7,"NEW DISCOVERIES MONTESSORI ACADEMY",0,3662,3662,191,0,19.172774869109947,19.172774869109947,0,7325,7325,220,0,33.295454545454547,33.295454545454547,0,10987,10987,411,0,26.7323600973236,26.7323600973236]
[4162,7,"SOUTHSIDE FAMILY CHARTER SCHOOL",0,2456,2456,120,0,20.466666666666665,20.466666666666665,0,4912,4912,123,0,39.934959349593498,39.934959349593498,0,7368,7368,243,0,30.320987654320987,30.320987654320987]
[4163,7,"LEARNING FOR LEADERSHIP CHARTER",0,5090,5090,238,0,21.386554621848738,21.386554621848738,0,10181,10181,237,0,42.957805907172997,42.957805907172997,0,15271,15271,475,0,32.149473684210527,32.149473684210527]
[4164,7,"LAURA JEFFREY ACADEMY CHARTER",0,4587,4587,130,0,35.284615384615385,35.284615384615385,0,9175,9175,130,0,70.57692307692308,70.57692307692308,0,13762,13762,260,0,52.930769230769229,52.930769230769229]
[4166,7,"EAST RANGE ACADEMY OF TECH &SCIENCE",0,3134,3134,130,0,24.107692307692307,24.107692307692307,0,6268,6268,115,0,54.504347826086956,54.504347826086956,0,9402,9402,{"$f":"G458+N458","v":245},0,38.375510204081635,38.375510204081635]
[4167,7,"INTERNATIONAL SPANISH LANGUAGE ACAD",0,{"$f":"F459","v":4233},4233,346,0,{"$f":"F459/G459","v":12.234104046242775},{"$f":"F459/G459","v":12.234104046242775},0,{"$f":"M459","v":8466},8466,348,0,{"$f":"M459/N459","v":24.327586206896552},{"$f":"M459/N459","v":24.327586206896552},{"$f":"D459+K459","v":0},12699,12699,694,{"$f":"R459/U459","v":0},{"$f":"S459/U459","v":18.298270893371757},{"$f":"T459/U459","v":18.298270893371757}]
[4168,7,"GLACIAL HILLS ELEMENTARY",0,2888,2888,116,0,24.896551724137932,24.896551724137932,0,5776,5776,116,0,49.793103448275865,49.793103448275865,0,8664,8664,232,0,37.344827586206897,37.344827586206897]
[4169,7,"ELLIOT PARK COMMUNITY SCHOOL",0,6468,6468,300,0,21.56,21.56,0,12936,12936,300,0,43.12,43.12,0,19404,19404,600,0,32.340000000000003,32.340000000000003]
[4170,7,"HIAWATHA LEADERSHIP ACADEMY",0,24387,24387,1425,0,17.113684210526316,17.113684210526316,0,48775,48775,1484,0,32.86725067385445,32.86725067385445,0,73162,73162,2909,0,25.150223444482641,25.150223444482641]
[4171,7,"NOBLE ACADEMY",0,8726,8726,890,0,9.8044943820224724,9.8044943820224724,0,17453,17453,900,0,19.392222222222223,19.392222222222223,0,26179,26179,1790,0,14.62513966480447,14.62513966480447]
[4172,7,"CLARKFIELD CHARTER SCHOOL",0,1364,1364,51,0,26.745098039215687,26.745098039215687,0,2729,2729,44,0,62.022727272727273,62.022727272727273,0,4093,4093,95,0,43.084210526315786,43.084210526315786]
[4173,7,"DUNWOODY ACADEMY",0,0,0,0,0,{"$error":"#DIV/0!"},{"$error":"#DIV/0!"},0,0,0,0,0,{"$error":"#DIV/0!"},{"$error":"#DIV/0!"},0,0,0,0,{"$error":"#DIV/0!"},{"$error":"#DIV/0!"},{"$error":"#DIV/0!"}]
[4177,7,"MINISINAAKWAANG LEADERSHIP ACADEMY",0,1134,1134,31,0,36.58064516129032,36.58064516129032,0,2268,2268,31,0,73.161290322580641,73.161290322580641,0,3402,3402,62,0,54.87096774193548,54.87096774193548]
[4178,7,"LINCOLN INTERNATIONAL SCHOOL",0,3157,3157,160,0,19.731249999999999,19.731249999999999,0,6315,6315,160,0,39.46875,39.46875,0,9472,9472,320,0,29.6,29.6]
[4180,7,"EMILY O. GOODRIDGE-GREY ACCELERATED",0,0,0,0,0,{"$error":"#DIV/0!"},{"$error":"#DIV/0!"},0,0,0,0,0,{"$error":"#DIV/0!"},{"$error":"#DIV/0!"},0,0,0,0,{"$error":"#DIV/0!"},{"$error":"#DIV/0!"},{"$error":"#DIV/0!"}]
[4181,7,"COMMUNITY SCHOOL OF EXCELLENCE",0,19205,19205,1070,0,17.94859813084112,17.94859813084112,0,38411,38411,1120,0,34.295535714285712,34.295535714285712,0,57616,57616,2190,0,26.308675799086757,26.308675799086757]
[4182,7,"QUEST ACADEMY",0,0,0,0,0,{"$error":"#DIV/0!"},{"$error":"#DIV/0!"},0,0,0,0,0,{"$error":"#DIV/0!"},{"$error":"#DIV/0!"},0,0,0,0,{"$error":"#DIV/0!"},{"$error":"#DIV/0!"},{"$error":"#DIV/0!"}]
[4183,7,"LIONSGATE ACADEMY",0,15792,15792,197,0,80.162436548223354,80.162436548223354,0,31584,31584,202,0,156.35643564356437,156.35643564356437,0,47376,47376,399,0,118.73684210526316,118.73684210526316]
[4184,7,"ASPEN ACADEMY",0,9378,9378,550,0,17.050909090909091,17.050909090909091,0,18755,18755,634,0,29.582018927444796,29.582018927444796,0,28133,28133,1184,0,23.76097972972973,23.76097972972973]
[4185,7,"DAVINCI ACADEMY",0,8085,8085,405,0,19.962962962962962,19.962962962962962,0,16171,16171,412,0,39.25,39.25,0,24256,24256,817,0,29.689106487148102,29.689106487148102]
[4186,7,"GLOBAL ACADEMY",0,11436,11436,432,0,26.472222222222221,26.472222222222221,0,22872,22872,432,0,52.944444444444443,52.944444444444443,0,34308,34308,864,0,39.708333333333336,39.708333333333336]
[4187,7,"MICHAEL FROME ACADEMY",0,1099,1099,91,0,12.076923076923077,12.076923076923077,0,2197,2197,102,0,21.53921568627451,21.53921568627451,0,3296,3296,193,0,17.077720207253886,17.077720207253886]
[4188,7,"COLOGNE ACADEMY",0,12444,12444,641,0,19.413416536661465,19.413416536661465,0,24888,24888,677,0,36.762186115214178,36.762186115214178,0,37332,37332,1318,0,28.324734446130499,28.324734446130499]
[4189,7,"BRIGHT WATER ELEMENTARY",0,3341,3341,193,0,17.310880829015545,17.310880829015545,0,6683,6683,217,0,30.797235023041473,30.797235023041473,0,10024,10024,410,0,24.448780487804878,24.448780487804878]
[4190,7,"RIVERS EDGE ACADEMY",0,1905,1905,74,0,25.743243243243242,25.743243243243242,0,3810,3810,73,0,52.19178082191781,52.19178082191781,0,5715,5715,147,0,38.877551020408163,38.877551020408163]
[4191,7,"KIPP MINNESOTA CHARTER SCHOOL",0,6231,6231,515,0,12.099029126213592,12.099029126213592,0,12462,12462,520,0,23.965384615384615,23.965384615384615,0,18693,18693,1035,0,18.060869565217391,18.060869565217391]
[4192,7,"BEST ACADEMY",0,11501,11501,880,0,13.069318181818181,13.069318181818181,0,23003,23003,870,0,26.44022988505747,26.44022988505747,0,34504,34504,1750,0,19.716571428571427,19.716571428571427]
[4193,7,"COLLEGE PREP ELEMENTARY",0,7554,7554,408,0,18.514705882352942,18.514705882352942,0,15108,15108,416,0,36.317307692307693,36.317307692307693,0,22662,22662,824,0,27.502427184466018,27.502427184466018]
[4194,7,"CANNON RIVER STEM SCHOOL",0,5595,5595,350,0,15.985714285714286,15.985714285714286,0,11191,11191,370,0,30.245945945945945,30.245945945945945,0,16786,16786,720,0,23.31388888888889,23.31388888888889]
[4195,7,"OSHKI OGIMAAG",0,1110,1110,32,0,34.6875,34.6875,0,2219,2219,29,0,76.517241379310349,76.517241379310349,0,3329,3329,61,0,54.57377049180328,54.57377049180328]
[4198,7,"DISCOVERY WOODS MONTESSORI SCHOOL",0,1995,1995,101,0,19.752475247524753,19.752475247524753,0,3991,3991,107,0,37.299065420560744,37.299065420560744,0,5986,5986,208,0,28.778846153846153,28.778846153846153]
[4199,7,"PARNASSUS",0,13474,13474,1046,0,12.881453154875716,12.881453154875716,0,26949,26949,1104,0,24.410326086956523,24.410326086956523,0,40423,40423,2150,0,18.801395348837211,18.801395348837211]
[4200,7,"STEP ACADEMY",0,4379,4379,225,0,19.462222222222223,19.462222222222223,0,8757,8757,235,0,37.263829787234044,37.263829787234044,0,13136,13136,460,0,28.556521739130435,28.556521739130435]
[4201,7,"CORNERSTONE MONTESSORI ELEMENTARY",0,2091,2091,140,0,14.935714285714285,14.935714285714285,0,4183,4183,140,0,29.87857142857143,29.87857142857143,0,6274,6274,280,0,22.407142857142858,22.407142857142858]
[4202,7,"MINNESOTA SCHOOL OF SCIENCE",0,0,0,0,0,{"$error":"#DIV/0!"},{"$error":"#DIV/0!"},0,0,0,0,0,{"$error":"#DIV/0!"},{"$error":"#DIV/0!"},0,0,0,0,{"$error":"#DIV/0!"},{"$error":"#DIV/0!"},{"$error":"#DIV/0!"}]
[4203,7,"MINNEAPOLIS COLLEGE PREPARATORY",0,2781,2781,0,0,{"$error":"#DIV/0!"},{"$error":"#DIV/0!"},0,5563,5563,0,0,{"$error":"#DIV/0!"},{"$error":"#DIV/0!"},0,8344,8344,0,{"$error":"#DIV/0!"},{"$error":"#DIV/0!"},{"$error":"#DIV/0!"}]
[4204,7,"ROCHESTER STEM ACADEMY",0,1694,1694,97,0,17.463917525773194,17.463917525773194,0,3389,3389,97,0,34.938144329896907,34.938144329896907,0,5083,5083,194,0,26.201030927835053,26.201030927835053]
[4205,7,"HENNEPIN ELEMENTARY SCHOOL",0,6697,6697,365,0,18.347945205479451,18.347945205479451,0,13395,13395,365,0,36.698630136986303,36.698630136986303,0,20092,20092,730,0,27.523287671232875,27.523287671232875]
[4207,7,"VERMILION COUNTRY SCHOOL",0,1206,1206,61,0,19.770491803278688,19.770491803278688,0,2412,2412,62,0,38.903225806451616,38.903225806451616,0,3618,3618,123,0,29.414634146341463,29.414634146341463]
[4208,7,"NASHA SHKOLA CHARTER SCHOOL",0,2230,2230,136,0,16.397058823529413,16.397058823529413,0,4461,4461,145,0,30.76551724137931,30.76551724137931,0,6691,6691,281,0,23.811387900355871,23.811387900355871]
[4209,7,"THE MASTERY SCHOOL",0,4271,4271,250,0,17.084,17.084,0,8542,8542,250,0,34.167999999999999,34.167999999999999,0,12813,12813,500,0,25.626000000000001,25.626000000000001]
[4210,7,"UPPER MISSISSIPPI ACADEMY",0,5990,5990,280,0,21.392857142857142,21.392857142857142,0,11981,11981,315,0,38.034920634920638,38.034920634920638,0,17971,17971,595,0,30.203361344537814,30.203361344537814]
[4211,7,"ARCH ACADEMY",0,0,0,0,0,{"$error":"#DIV/0!"},{"$error":"#DIV/0!"},0,0,0,0,0,{"$error":"#DIV/0!"},{"$error":"#DIV/0!"},0,0,0,0,{"$error":"#DIV/0!"},{"$error":"#DIV/0!"},{"$error":"#DIV/0!"}]
[4212,7,"WEST SIDE SUMMIT",0,2620,2620,221,0,11.855203619909503,11.855203619909503,0,5241,5241,260,0,20.157692307692308,20.157692307692308,0,7861,7861,481,0,16.343035343035343,16.343035343035343]
[4213,7,"PRODEO ACADEMY",0,4518,4518,246,0,18.365853658536587,18.365853658536587,0,9036,9036,246,0,36.731707317073173,36.731707317073173,0,13554,13554,492,0,27.548780487804876,27.548780487804876]
[4214,7,"WEST CONCORD PUBLIC CHARTER SCHOOL",0,1163,1163,0,0,{"$error":"#DIV/0!"},{"$error":"#DIV/0!"},0,2326,2326,0,0,{"$error":"#DIV/0!"},{"$error":"#DIV/0!"},0,3489,3489,0,{"$error":"#DIV/0!"},{"$error":"#DIV/0!"},{"$error":"#DIV/0!"}]
[4215,7,"SEJONG ACADEMY OF MINNESOTA",0,1432,1432,82,0,17.463414634146343,17.463414634146343,0,2863,2863,86,0,33.290697674418603,33.290697674418603,0,4295,4295,168,0,25.56547619047619,25.56547619047619]
[4216,7,"FREEDOM ACADEMY CHARTER",0,1302,1302,0,0,{"$error":"#DIV/0!"},{"$error":"#DIV/0!"},0,2604,2604,0,0,{"$error":"#DIV/0!"},{"$error":"#DIV/0!"},0,3906,3906,0,{"$error":"#DIV/0!"},{"$error":"#DIV/0!"},{"$error":"#DIV/0!"}]
[4217,7,"TECHNICAL ACADEMIES OF MINNESOTA",0,2780,2780,150,0,18.533333333333335,18.533333333333335,0,5561,5561,150,0,37.073333333333331,37.073333333333331,0,8341,8341,300,0,27.803333333333335,27.803333333333335]
[4218,7,"VENTURE ACADEMY",0,5223,5223,300,0,17.41,17.41,0,10446,10446,306,0,34.137254901960787,34.137254901960787,0,15669,15669,606,0,25.856435643564357,25.856435643564357]
[4219,7,"NORTHEAST COLLEGE PREP",0,4556,4556,280,0,16.271428571428572,16.271428571428572,0,9113,9113,300,0,30.376666666666665,30.376666666666665,0,13669,13669,580,0,23.567241379310346,23.567241379310346]
[4220,7,"AGAMIN HEBREW LANGUAGE SCHOOL",0,1462,1462,154,0,9.4935064935064943,9.4935064935064943,0,2924,2924,154,0,18.987012987012989,18.987012987012989,0,4386,4386,308,0,14.24025974025974,14.24025974025974]
[4221,7,"DISCOVERY CHARTER SCHOOL",0,221,221,153,0,1.4444444444444444,1.4444444444444444,0,443,443,153,0,2.8954248366013071,2.8954248366013071,0,664,664,306,0,2.1699346405228757,2.1699346405228757]
[4223,7,"SAINT CLOUD MATH AND SCIENCE ACADEM",0,3311,3311,210,0,15.766666666666667,15.766666666666667,0,6623,6623,210,0,31.538095238095238,31.538095238095238,0,9934,9934,420,0,23.652380952380952,23.652380952380952]
[4224,7,"STAR OF THE NORTH ACADEMY CHARTER S",0,2333,2333,155,0,15.051612903225806,15.051612903225806,0,4666,4666,160,0,29.162500000000001,29.162500000000001,0,6999,6999,315,0,22.219047619047618,22.219047619047618]
[4225,7,"UNIVERSAL ACADEMY CHARTER SCHOOL",0,2928,2928,315,0,9.295238095238096,9.295238095238096,0,5855,5855,340,0,17.220588235294116,17.220588235294116,0,8783,8783,655,0,13.409160305343512,13.409160305343512]
[4226,7,"BDOTE LEARNING CENTER",0,1707,1707,130,0,13.13076923076923,13.13076923076923,0,3415,3415,140,0,24.392857142857142,24.392857142857142,0,5122,5122,270,0,18.970370370370372,18.970370370370372]
[4227,7,"ART AND SCIENCE ACADEMY",0,4802,4802,255,0,18.831372549019608,18.831372549019608,0,9603,9603,260,0,36.934615384615384,36.934615384615384,0,14405,14405,515,0,27.970873786407768,27.970873786407768]
[4228,7,"WOODBURY LEADERSHIP ACADEMY",0,3824,3824,275,0,13.905454545454546,13.905454545454546,0,7648,7648,280,0,27.314285714285713,27.314285714285713,0,11472,11472,555,0,20.670270270270269,20.670270270270269]
[4229,7,"JANE GOODALL ENVIRONMENTAL SCIENCES",0,1682,1682,155,0,10.851612903225806,10.851612903225806,0,3364,3364,165,0,20.387878787878787,20.387878787878787,0,5046,5046,320,0,15.768750000000001,15.768750000000001]
[4230,7,"MN EARLY LEARNING ACADEMY",0,2778,2778,270,0,10.28888888888889,10.28888888888889,0,5555,5555,310,0,17.919354838709676,17.919354838709676,0,8333,8333,580,0,14.367241379310345,14.367241379310345]
[4231,7,"MINNESOTA MATH AND SCIENCE ACADEMY",0,6663,6663,433,0,15.387990762124712,15.387990762124712,0,13326,13326,448,0,29.745535714285715,29.745535714285715,0,19989,19989,881,0,22.68898978433598,22.68898978433598]
[4232,7,"SUMMIT CHARTER SCHOOL",0,291,291,111,0,2.6216216216216215,2.6216216216216215,0,581,581,111,0,5.2342342342342345,5.2342342342342345,0,872,872,222,0,3.9279279279279278,3.9279279279279278]
[4233,7,"LEVEL UP ACADEMY",0,1509,1509,140,0,10.778571428571428,10.778571428571428,0,3018,3018,135,0,22.355555555555554,22.355555555555554,0,4527,4527,275,0,16.461818181818181,16.461818181818181]
[4234,7,"MILL CITY SCHOOL",0,326,326,0,0,{"$error":"#DIV/0!"},{"$error":"#DIV/0!"},0,652,652,0,0,{"$error":"#DIV/0!"},{"$error":"#DIV/0!"},0,978,978,0,{"$error":"#DIV/0!"},{"$error":"#DIV/0!"},{"$error":"#DIV/0!"}]
[4235,7,"FLEX ACADEMY",0,1656,1656,155,0,10.683870967741935,10.683870967741935,0,3313,3313,145,0,22.848275862068967,22.848275862068967,0,4969,4969,300,0,16.563333333333333,16.563333333333333]
[4237,7,"METROPOLITAN ED FOR FUTURE EMPLOYMNT",0,2677,2677,140,0,19.12142857142857,19.12142857142857,0,5355,5355,140,0,38.25,38.25,0,8032,8032,280,0,28.685714285714287,28.685714285714287]
[4238,7,"ROCHESTER BEACON ACADEMY",0,2070,2070,85,0,24.352941176470587,24.352941176470587,0,4140,4140,90,0,46,46,0,6210,6210,175,0,35.485714285714288,35.485714285714288]
[4239,7,"TESFA INTERNATIONAL SCHOOL",0,2871,2871,190,0,15.110526315789473,15.110526315789473,0,5743,5743,200,0,28.715,28.715,0,8614,8614,{"$f":"G522+N522","v":390},0,22.087179487179487,22.087179487179487]
[4240,7,"NEW SUMMIT SCHOOL",0,{"$f":"F523","v":0},0,105,0,{"$f":"F523/G523","v":0},{"$f":"F523/G523","v":0},0,{"$f":"M523","v":0},0,105,0,{"$f":"M523/N523","v":0},{"$f":"M523/N523","v":0},{"$f":"D523+K523","v":0},0,0,210,{"$f":"R523/U523","v":0},{"$f":"S523/U523","v":0},{"$f":"T523/U523","v":0}]
[4243,7,"North Metro Flex Academy",0,0,0,141,0,0,0,0,0,0,141,0,0,0,0,0,0,282,0,0,0]
[4248,7,"T.R.U.T.H. Preparatory Academy Char",0,0,0,240,0,0,0,0,0,0,240,0,0,0,0,0,0,480,0,0,0]
[4249,7,"Sankofa Underground North Academy",0,98,98,78,0,1.2564102564102564,1.2564102564102564,0,197,197,78,0,2.5256410256410255,2.5256410256410255,0,295,295,156,0,1.891025641025641,1.891025641025641]
[4250,7,"Athlos Academy of Saint Cloud",0,0,0,385,0,0,0,0,0,0,385,0,0,0,0,0,0,770,0,0,0]
[4998,8,"CROSSWINDS",0,0,0,226,0,0,0,0,0,0,197,0,0,0,0,0,0,423,0,0,0]
[4999,7,"MDE CHT EST (FUDGE)",0,0,0,-64,0,0,0,0,0,0,2616,0,0,0,0,0,0,2552,0,0,0]
[6000,62,"COOPERATIVE & INTERMED DISTRICTS",0,635912,635912,0,0,{"$error":"#DIV/0!"},{"$error":"#DIV/0!"},0,1271851,1271851,0,0,{"$error":"#DIV/0!"},{"$error":"#DIV/0!"},0,1907763,1907763,0,{"$error":"#DIV/0!"},{"$error":"#DIV/0!"},{"$error":"#DIV/0!"}]
["End of Worksheet"]